{"text_format":"1","workbook":"xlsx","n_sheets":13,"sheets":["Comment compléter","Sommaire","Feuil3","BGAD1","BGAD2","BGAD3","BGAD4","BGAD5","BGAD6","BGAD7","BGAD8","BGAD9","BGAD10"],"not_rendered":{"charts":0,"images":1,"macros":1,"external_links":0,"defined_names":22,"comments":0,"pivot_tables":0},"unopened":[],"bounds":{"document_bytes":16777216,"sheet_cells":100000,"rows_first":2000,"rows_last":500,"rows_between":2000,"halvings":0,"cell_chars":16384,"cell_head_chars":4096},"cells_cut":0,"cells_raw":0,"read":"whole","date_system":"1900"}

{"sheet":"Comment compléter","index":0,"n_rows":11,"n_cols":2,"rows_kept":11,"cut":false,"hidden":false,"merged":[]}
["Production du sommaire des volumes de la MLNU déclarés par BGAd"]
[]
["Le représentant des BGA n'a aucune modification de volumes à effectuer ni aucune manipulation de données."]
[]
["Le représentant des BGA doit : "]
["1 -","Inscrire l'unité d'aménagement pour laquelle le sommaire est produit"]
["2 -","S'assurer d'intégrer les déclarations de MLNU d'une seule unité d'aménagement (UA)"]
["3 -","Copier l'intégralité de la feuille excel reçue présentant la déclaration de la MLNU de chacun des BGAD"]
["4 -","Assurer la distinction des BGAd dans les différentes feuilles, par exemple BGAD1  et BGAD2"]
["5 -","Produire le sommaire en cliquant sur le bouton dans la feuille «SOMMAIRE»"]
["6 -","Appliquer la procédure de communication des données au ministre"]

{"sheet":"Sommaire","index":1,"n_rows":81,"n_cols":17,"rows_kept":81,"cut":false,"hidden":false,"merged":[[4,8,4,9],[0,0,0,11],[2,0,2,1],[2,2,2,3],[3,0,3,1],[3,2,3,3],[79,3,79,7],[80,3,80,7],[5,3,5,6],[5,8,5,9],[59,1,60,11],[65,1,65,3],[77,3,77,7],[78,3,78,7],[63,1,63,2],[64,1,64,2]]}
["Sommaire de la MLNU déclarée - Tous clients"]
[]
["Année de récolte :",null,{"$f":"+BGAD1!C3","v":"2019-2020"}]
["Unité d'aménagement :"]
[null,null,null,null,null,null,null,null,"Répartition"]
[null,null,null,"Volume de MLNU",null,null,null,null,"MLNU-ND Qualité «U»"]
["Code Essence","Nom essence","No. Client","MLNU-RG\nQualité \"V\"","MLNU-ND\nQualité \"X\"","MLNU-ND\nQualité \"U\"","Total du Client",null,"Ententes\n«Autres»","Mesure budgétaire"]
[{"$f":"+Feuil3!A1901","v":""},{"$f":"IF(ISERROR(VLOOKUP(A8,$P$9:$Q$60,2,FALSE)),\"\",VLOOKUP(A8,$P$9:$Q$60,2,FALSE))","v":""},{"$f":"+Feuil3!C1901","v":""},{"$f":"+Feuil3!D1901","v":0},{"$f":"+Feuil3!E1901","v":0},{"$f":"SUM(I8:J8)","v":0},{"$f":"SUM(D8:F8)","v":0},null,{"$f":"+Feuil3!I1901","v":0},{"$f":"+Feuil3!J1901","v":0},null,null,null,null,null,"010","Épinette (autre que Norvège)"]
[{"$f":"+Feuil3!A1902","v":""},{"$f":"IF(ISERROR(VLOOKUP(A9,$P$9:$Q$60,2,FALSE)),\"\",VLOOKUP(A9,$P$9:$Q$60,2,FALSE))","v":""},{"$f":"+Feuil3!C1902","v":""},{"$f":"+Feuil3!D1902","v":0},{"$f":"+Feuil3!E1902","v":0},{"$f":"SUM(I9:J9)","v":0},{"$f":"SUM(D9:F9)","v":0},null,{"$f":"+Feuil3!I1902","v":0},{"$f":"+Feuil3!J1902","v":0},null,null,null,null,null,"010","Épinette (autre que Norvège)"]
[{"$f":"+Feuil3!A1903","v":""},"",{"$f":"+Feuil3!C1903","v":""},{"$f":"+Feuil3!D1903","v":0},{"$f":"+Feuil3!E1903","v":0},0,0,null,{"$f":"+Feuil3!I1903","v":0},{"$f":"+Feuil3!J1903","v":0},null,null,null,null,null,"014","Épinette de Norvège"]
[{"$f":"+Feuil3!A1904","v":""},"",{"$f":"+Feuil3!C1904","v":""},{"$f":"+Feuil3!D1904","v":0},{"$f":"+Feuil3!E1904","v":0},0,0,null,{"$f":"+Feuil3!I1904","v":0},{"$f":"+Feuil3!J1904","v":0},null,null,null,null,null,"030","Mélèze laricin"]
[{"$f":"+Feuil3!A1905","v":""},"",{"$f":"+Feuil3!C1905","v":""},{"$f":"+Feuil3!D1905","v":0},{"$f":"+Feuil3!E1905","v":0},0,0,null,{"$f":"+Feuil3!I1905","v":0},{"$f":"+Feuil3!J1905","v":0},null,null,null,null,null,"043","Pin gris et sylvestre"]
[{"$f":"+Feuil3!A1906","v":""},"",{"$f":"+Feuil3!C1906","v":""},{"$f":"+Feuil3!D1906","v":0},{"$f":"+Feuil3!E1906","v":0},0,0,null,{"$f":"+Feuil3!I1906","v":0},{"$f":"+Feuil3!J1906","v":0},null,null,null,null,null,"060","Sapin baumier"]
[{"$f":"+Feuil3!A1907","v":""},"",{"$f":"+Feuil3!C1907","v":""},{"$f":"+Feuil3!D1907","v":0},{"$f":"+Feuil3!E1907","v":0},0,0,null,{"$f":"+Feuil3!I1907","v":0},{"$f":"+Feuil3!J1907","v":0},null,null,null,null,null,"190","Peuplier (autre que Baumier)"]
[{"$f":"+Feuil3!A1908","v":""},"",{"$f":"+Feuil3!C1908","v":""},{"$f":"+Feuil3!D1908","v":0},{"$f":"+Feuil3!E1908","v":0},0,0,null,{"$f":"+Feuil3!I1908","v":0},{"$f":"+Feuil3!J1908","v":0},null,null,null,null,null,"191","Peuplier baumier"]
[{"$f":"+Feuil3!A1909","v":""},"",{"$f":"+Feuil3!C1909","v":""},{"$f":"+Feuil3!D1909","v":0},{"$f":"+Feuil3!E1909","v":0},{"$f":"SUM(I16:J16)","v":0},0,null,{"$f":"+Feuil3!I1909","v":0},{"$f":"+Feuil3!J1909","v":0},null,null,null,null,null,"105","Bouleau blanc "]
[{"$f":"+Feuil3!A1910","v":""},"",{"$f":"+Feuil3!C1910","v":""},{"$f":"+Feuil3!D1910","v":0},{"$f":"+Feuil3!E1910","v":0},0,0,null,{"$f":"+Feuil3!I1910","v":0},{"$f":"+Feuil3!J1910","v":0},null,null,null,null,null,"104","Bouleau jaune"]
[{"$f":"+Feuil3!A1911","v":""},"",{"$f":"+Feuil3!C1911","v":""},{"$f":"+Feuil3!D1911","v":0},{"$f":"+Feuil3!E1911","v":0},0,0,null,{"$f":"+Feuil3!I1911","v":0},{"$f":"+Feuil3!J1911","v":0},null,null,null,null,null,"132","Érable à sucre"]
[{"$f":"+Feuil3!A1912","v":""},"",{"$f":"+Feuil3!C1912","v":""},{"$f":"+Feuil3!D1912","v":0},{"$f":"+Feuil3!E1912","v":0},0,0,null,{"$f":"+Feuil3!I1912","v":0},{"$f":"+Feuil3!J1912","v":0},null,null,null,null,null,"133","Érable rouge"]
[{"$f":"+Feuil3!A1913","v":""},"",{"$f":"+Feuil3!C1913","v":""},{"$f":"+Feuil3!D1913","v":0},{"$f":"+Feuil3!E1913","v":0},0,0,null,{"$f":"+Feuil3!I1913","v":0},{"$f":"+Feuil3!J1913","v":0},null,null,null,null,null,"135","Érables - Autres "]
[{"$f":"+Feuil3!A1914","v":""},"",{"$f":"+Feuil3!C1914","v":""},{"$f":"+Feuil3!D1914","v":0},{"$f":"+Feuil3!E1914","v":0},{"$f":"SUM(I21:J21)","v":0},{"$f":"SUM(D21:F21)","v":0},null,{"$f":"+Feuil3!I1914","v":0},{"$f":"+Feuil3!J1914","v":0},null,null,null,null,null,"120","Chêne "]
[{"$f":"+Feuil3!A1915","v":""},"",{"$f":"+Feuil3!C1915","v":""},{"$f":"+Feuil3!D1915","v":0},{"$f":"+Feuil3!E1915","v":0},0,0,null,{"$f":"+Feuil3!I1915","v":0},{"$f":"+Feuil3!J1915","v":0},null,null,null,null,null,"141","Frêne d’Amérique (blanc)"]
[{"$f":"+Feuil3!A1916","v":""},"",{"$f":"+Feuil3!C1916","v":""},{"$f":"+Feuil3!D1916","v":0},{"$f":"+Feuil3!E1916","v":0},0,0,null,{"$f":"+Feuil3!I1916","v":0},{"$f":"+Feuil3!J1916","v":0},null,null,null,null,null,"142","Frêne noir"]
[{"$f":"+Feuil3!A1917","v":""},"",{"$f":"+Feuil3!C1917","v":""},{"$f":"+Feuil3!D1917","v":0},{"$f":"+Feuil3!E1917","v":0},0,0,null,{"$f":"+Feuil3!I1917","v":0},{"$f":"+Feuil3!J1917","v":0},null,null,null,null,null,"150","Hêtre"]
[{"$f":"+Feuil3!A1918","v":""},"",{"$f":"+Feuil3!C1918","v":""},{"$f":"+Feuil3!D1918","v":0},{"$f":"+Feuil3!E1918","v":0},0,0,null,{"$f":"+Feuil3!I1918","v":0},{"$f":"+Feuil3!J1918","v":0},null,null,null,null,null,"160","Noyer"]
[{"$f":"+Feuil3!A1919","v":""},{"$f":"IF(ISERROR(VLOOKUP(A26,$P$9:$Q$60,2,FALSE)),\"\",VLOOKUP(A26,$P$9:$Q$60,2,FALSE))","v":""},{"$f":"+Feuil3!C1919","v":""},{"$f":"+Feuil3!D1919","v":0},{"$f":"+Feuil3!E1919","v":0},0,0,null,{"$f":"+Feuil3!I1919","v":0},{"$f":"+Feuil3!J1919","v":0},null,null,null,null,null,"165","Caryer"]
[{"$f":"+Feuil3!A1920","v":""},"",{"$f":"+Feuil3!C1920","v":""},{"$f":"+Feuil3!D1920","v":0},{"$f":"+Feuil3!E1920","v":0},0,0,null,{"$f":"+Feuil3!I1920","v":0},{"$f":"+Feuil3!J1920","v":0},null,null,null,null,null,"170","Orme"]
[{"$f":"+Feuil3!A1921","v":""},"",{"$f":"+Feuil3!C1921","v":""},{"$f":"+Feuil3!D1921","v":0},{"$f":"+Feuil3!E1921","v":0},0,0,null,{"$f":"+Feuil3!I1921","v":0},{"$f":"+Feuil3!J1921","v":0},null,null,null,null,null,"180","Ostryer de Virginie"]
[{"$f":"+Feuil3!A1922","v":""},"",{"$f":"+Feuil3!C1922","v":""},{"$f":"+Feuil3!D1922","v":0},{"$f":"+Feuil3!E1922","v":0},0,0,null,{"$f":"+Feuil3!I1922","v":0},{"$f":"+Feuil3!J1922","v":0},null,null,null,null,null,"110","Cerisier tardif"]
[{"$f":"+Feuil3!A1923","v":""},"",{"$f":"+Feuil3!C1923","v":""},{"$f":"+Feuil3!D1923","v":0},{"$f":"+Feuil3!E1923","v":0},0,0,null,{"$f":"+Feuil3!I1923","v":0},{"$f":"+Feuil3!J1923","v":0},null,null,null,null,null,"210","Tilleul d’Amérique"]
[{"$f":"+Feuil3!A1924","v":""},"",{"$f":"+Feuil3!C1924","v":""},{"$f":"+Feuil3!D1924","v":0},{"$f":"+Feuil3!E1924","v":0},{"$f":"SUM(I31:J31)","v":0},{"$f":"SUM(D31:F31)","v":0},null,{"$f":"+Feuil3!I1924","v":0},{"$f":"+Feuil3!J1924","v":0},null,null,null,null,null,"041","Pin blanc"]
[{"$f":"+Feuil3!A1925","v":""},"",{"$f":"+Feuil3!C1925","v":""},{"$f":"+Feuil3!D1925","v":0},{"$f":"+Feuil3!E1925","v":0},0,0,null,{"$f":"+Feuil3!I1925","v":0},{"$f":"+Feuil3!J1925","v":0},null,null,null,null,null,"042","Pin rouge"]
[{"$f":"+Feuil3!A1926","v":""},"",{"$f":"+Feuil3!C1926","v":""},{"$f":"+Feuil3!D1926","v":0},{"$f":"+Feuil3!E1926","v":0},0,0,null,{"$f":"+Feuil3!I1926","v":0},{"$f":"+Feuil3!J1926","v":0},null,null,null,null,null,"050","Pruche de l’Est"]
[{"$f":"+Feuil3!A1927","v":""},"",{"$f":"+Feuil3!C1927","v":""},{"$f":"+Feuil3!D1927","v":0},{"$f":"+Feuil3!E1927","v":0},0,0,null,{"$f":"+Feuil3!I1927","v":0},{"$f":"+Feuil3!J1927","v":0},null,null,null,null,null,"080","Thuya occidental"]
[{"$f":"+Feuil3!A1928","v":""},"",{"$f":"+Feuil3!C1928","v":""},{"$f":"+Feuil3!D1928","v":0},{"$f":"+Feuil3!E1928","v":0},0,0,null,{"$f":"+Feuil3!I1928","v":0},{"$f":"+Feuil3!J1928","v":0}]
[{"$f":"+Feuil3!A1929","v":""},"",{"$f":"+Feuil3!C1929","v":""},{"$f":"+Feuil3!D1929","v":0},{"$f":"+Feuil3!E1929","v":0},0,0,null,{"$f":"+Feuil3!I1929","v":0},{"$f":"+Feuil3!J1929","v":0}]
[{"$f":"+Feuil3!A1930","v":""},"",{"$f":"+Feuil3!C1930","v":""},{"$f":"+Feuil3!D1930","v":0},{"$f":"+Feuil3!E1930","v":0},0,0,null,{"$f":"+Feuil3!I1930","v":0},{"$f":"+Feuil3!J1930","v":0}]
[{"$f":"+Feuil3!A1931","v":""},"",{"$f":"+Feuil3!C1931","v":""},{"$f":"+Feuil3!D1931","v":0},{"$f":"+Feuil3!E1931","v":0},0,0,null,{"$f":"+Feuil3!I1931","v":0},{"$f":"+Feuil3!J1931","v":0}]
[{"$f":"+Feuil3!A1932","v":""},"",{"$f":"+Feuil3!C1932","v":""},{"$f":"+Feuil3!D1932","v":0},{"$f":"+Feuil3!E1932","v":0},0,0,null,{"$f":"+Feuil3!I1932","v":0},{"$f":"+Feuil3!J1932","v":0}]
[{"$f":"+Feuil3!A1933","v":""},"",{"$f":"+Feuil3!C1933","v":""},{"$f":"+Feuil3!D1933","v":0},{"$f":"+Feuil3!E1933","v":0},0,0,null,{"$f":"+Feuil3!I1933","v":0},{"$f":"+Feuil3!J1933","v":0}]
[{"$f":"+Feuil3!A1934","v":""},"",{"$f":"+Feuil3!C1934","v":""},{"$f":"+Feuil3!D1934","v":0},{"$f":"+Feuil3!E1934","v":0},0,0,null,{"$f":"+Feuil3!I1934","v":0},{"$f":"+Feuil3!J1934","v":0}]
[{"$f":"+Feuil3!A1935","v":""},"",{"$f":"+Feuil3!C1935","v":""},{"$f":"+Feuil3!D1935","v":0},{"$f":"+Feuil3!E1935","v":0},0,0,null,{"$f":"+Feuil3!I1935","v":0},{"$f":"+Feuil3!J1935","v":0}]
[{"$f":"+Feuil3!A1936","v":""},"",{"$f":"+Feuil3!C1936","v":""},{"$f":"+Feuil3!D1936","v":0},{"$f":"+Feuil3!E1936","v":0},0,0,null,{"$f":"+Feuil3!I1936","v":0},{"$f":"+Feuil3!J1936","v":0}]
[{"$f":"+Feuil3!A1937","v":""},"",{"$f":"+Feuil3!C1937","v":""},{"$f":"+Feuil3!D1937","v":0},{"$f":"+Feuil3!E1937","v":0},0,0,null,{"$f":"+Feuil3!I1937","v":0},{"$f":"+Feuil3!J1937","v":0}]
[{"$f":"+Feuil3!A1938","v":""},"",{"$f":"+Feuil3!C1938","v":""},{"$f":"+Feuil3!D1938","v":0},{"$f":"+Feuil3!E1938","v":0},0,0,null,{"$f":"+Feuil3!I1938","v":0},{"$f":"+Feuil3!J1938","v":0}]
[{"$f":"+Feuil3!A1939","v":""},"",{"$f":"+Feuil3!C1939","v":""},{"$f":"+Feuil3!D1939","v":0},{"$f":"+Feuil3!E1939","v":0},0,0,null,{"$f":"+Feuil3!I1939","v":0},{"$f":"+Feuil3!J1939","v":0}]
[{"$f":"+Feuil3!A1940","v":""},"",{"$f":"+Feuil3!C1940","v":""},{"$f":"+Feuil3!D1940","v":0},{"$f":"+Feuil3!E1940","v":0},0,0,null,{"$f":"+Feuil3!I1940","v":0},{"$f":"+Feuil3!J1940","v":0}]
[{"$f":"+Feuil3!A1941","v":""},"",{"$f":"+Feuil3!C1941","v":""},{"$f":"+Feuil3!D1941","v":0},{"$f":"+Feuil3!E1941","v":0},0,0,null,{"$f":"+Feuil3!I1941","v":0},{"$f":"+Feuil3!J1941","v":0}]
[{"$f":"+Feuil3!A1942","v":""},"",{"$f":"+Feuil3!C1942","v":""},{"$f":"+Feuil3!D1942","v":0},{"$f":"+Feuil3!E1942","v":0},0,0,null,{"$f":"+Feuil3!I1942","v":0},{"$f":"+Feuil3!J1942","v":0}]
[{"$f":"+Feuil3!A1943","v":""},"",{"$f":"+Feuil3!C1943","v":""},{"$f":"+Feuil3!D1943","v":0},{"$f":"+Feuil3!E1943","v":0},0,0,null,{"$f":"+Feuil3!I1943","v":0},{"$f":"+Feuil3!J1943","v":0}]
[{"$f":"+Feuil3!A1944","v":""},"",{"$f":"+Feuil3!C1944","v":""},{"$f":"+Feuil3!D1944","v":0},{"$f":"+Feuil3!E1944","v":0},0,0,null,{"$f":"+Feuil3!I1944","v":0},{"$f":"+Feuil3!J1944","v":0}]
[{"$f":"+Feuil3!A1945","v":""},"",{"$f":"+Feuil3!C1945","v":""},{"$f":"+Feuil3!D1945","v":0},{"$f":"+Feuil3!E1945","v":0},0,0,null,{"$f":"+Feuil3!I1945","v":0},{"$f":"+Feuil3!J1945","v":0}]
[{"$f":"+Feuil3!A1946","v":""},"",{"$f":"+Feuil3!C1946","v":""},{"$f":"+Feuil3!D1946","v":0},{"$f":"+Feuil3!E1946","v":0},0,0,null,{"$f":"+Feuil3!I1946","v":0},{"$f":"+Feuil3!J1946","v":0}]
[{"$f":"+Feuil3!A1947","v":""},"",{"$f":"+Feuil3!C1947","v":""},{"$f":"+Feuil3!D1947","v":0},{"$f":"+Feuil3!E1947","v":0},0,0,null,{"$f":"+Feuil3!I1947","v":0},{"$f":"+Feuil3!J1947","v":0}]
[{"$f":"+Feuil3!A1948","v":""},"",{"$f":"+Feuil3!C1948","v":""},{"$f":"+Feuil3!D1948","v":0},{"$f":"+Feuil3!E1948","v":0},0,0,null,{"$f":"+Feuil3!I1948","v":0},{"$f":"+Feuil3!J1948","v":0}]
[{"$f":"+Feuil3!A1949","v":""},"",{"$f":"+Feuil3!C1949","v":""},{"$f":"+Feuil3!D1949","v":0},{"$f":"+Feuil3!E1949","v":0},0,0,null,{"$f":"+Feuil3!I1949","v":0},{"$f":"+Feuil3!J1949","v":0}]
[{"$f":"+Feuil3!A1950","v":""},"",{"$f":"+Feuil3!C1950","v":""},{"$f":"+Feuil3!D1950","v":0},{"$f":"+Feuil3!E1950","v":0},0,0,null,{"$f":"+Feuil3!I1950","v":0},{"$f":"+Feuil3!J1950","v":0}]
[{"$f":"+Feuil3!A1951","v":""},"",{"$f":"+Feuil3!C1951","v":""},{"$f":"+Feuil3!D1951","v":0},{"$f":"+Feuil3!E1951","v":0},0,0,null,{"$f":"+Feuil3!I1951","v":0},{"$f":"+Feuil3!J1951","v":0}]
[{"$f":"+Feuil3!A1952","v":""},"",{"$f":"+Feuil3!C1952","v":""},{"$f":"+Feuil3!D1952","v":0},{"$f":"+Feuil3!E1952","v":0},0,0,null,{"$f":"+Feuil3!I1952","v":0},{"$f":"+Feuil3!J1952","v":0}]
[null,"Les volumes de matière ligneuse non utilisée inscrits à ce sommaire sont la somme des volumes délarés par les BGAd et couvrent l'ensemble des secteurs d'intervention affectés par la récolte et ceux non-désirés  de l'unité d'aménagement  autorisé à la PRAN."]
[null,null,null,null,null,null,null,null,null,null,null,null,null,null,null,"MP : mlnu2016"]
[]
[]
[]
[null,"Nom Manuscrit",null,"Numéro Ing "]
[null,null,null,null,null,null,null,null,null,null,null,null,null,null,null,"Client 999 pour MLNU-SP seulement"]
[null,null,null,null,null,null,null,null,null,null,null,null,null,null,null," MLNU SP seulement pour Client 999"]
[null,"signature : _____________________________________________________ représentant des BGA               Date : ______________________"]
[]
[]
[null,null,null,{"$f":"SUBTOTAL(9,D8:D59)","v":0},{"$f":"SUBTOTAL(9,E8:E59)","v":0},{"$f":"SUBTOTAL(9,F8:F59)","v":0},{"$f":"SUBTOTAL(9,G8:G59)","v":0},null,{"$f":"SUBTOTAL(9,I8:I59)","v":0},{"$f":"SUBTOTAL(9,J8:J59)","v":0},null,{"$f":"SUBTOTAL(9,L8:L59)","v":0}]
[]
[]
[]
[]
[]
[]
[null,null,null,"MANUEL SUR LA GESTION DES VOLUMES RÉCOLTÉS"]
[null,null,null,"6.3.2.1 Matière ligneuse non utilisée - régulière (MLNU-RG)"]
[null,null,null,"6.3.2.2 Matière ligneuse non utilisée - non désirée (MLNU-ND)"]
[null,null,null,"6.3.2.3 Matière ligneuse non utilisée - sans preneur (MLNU-SP)"]

{"sheet":"Feuil3","index":2,"n_rows":2519,"n_cols":22,"rows_kept":2519,"cut":false,"hidden":true,"merged":[]}
[null,null,null,null,null,null,null,null,null,null,null,null,null,{"$f":"IF(A1<>\"\",+L1+G1,0)","v":0},null,null,null,null,null,"MP: mlnu17","010","Épinette (autre que Norvège)"]
[null,null,null,null,null,null,null,null,null,null,null,null,null,{"$f":"IF(A2<>\"\",+L2+G2,0)","v":0},1,null,null,null,null,null,"014","Épinette de Norvège"]
["010","Épinette (autre que Norvège)",null,null,null,{"$f":"SUM(I3:J3)","v":0},{"$f":"SUM(D3:F3)","v":0},null,null,null,null,null,null,0]
["014","Épinette de Norvège",null,null,null,{"$f":"SUM(I4:J4)","v":0},{"$f":"SUM(D4:F4)","v":0},null,null,null,null,null,null,0]
["030","Mélèze laricin",null,null,null,0,0,null,null,null,null,null,null,0]
["043","Pin gris et sylvestre",null,null,null,0,0,null,null,null,null,null,null,0]
["060","Sapin baumier",null,null,null,0,0,null,null,null,null,null,null,0]
["190","Peuplier (autre que Baumier)",null,null,null,0,{"$f":"SUM(D8:F8)","v":0},null,null,null,null,null,null,0]
["191","Peuplier baumier",null,null,null,0,{"$f":"SUM(D9:F9)","v":0},null,null,null,null,null,null,0]
["105","Bouleau blanc ",null,null,null,0,0,null,null,null,null,null,null,0]
["104","Bouleau jaune",null,null,null,0,0,null,null,null,null,null,null,0]
["132","Érable à sucre",null,null,null,0,0,null,null,null,null,null,null,0]
["133","Érable rouge",null,null,null,0,0,null,null,null,null,null,null,0]
["135","Érables - Autres ",null,null,null,0,0,null,null,null,null,null,null,0]
["120","Chêne ",null,null,null,0,0,null,null,null,null,null,null,0]
["141","Frêne d’Amérique (blanc)",null,null,null,0,0,null,null,null,null,null,null,0]
["142","Frêne noir",null,null,null,0,0,null,null,null,null,null,null,0]
["150","Hêtre",null,null,null,0,0,null,null,null,null,null,null,0]
["160","Noyer",null,null,null,0,0,null,null,null,null,null,null,0]
["165","Caryer",null,null,null,0,0,null,null,null,null,null,null,0]
["170","Orme",null,null,null,0,0,null,null,null,null,null,null,0]
["180","Ostryer de Virginie",null,null,null,0,0,null,null,null,null,null,null,0]
["110","Cerisier tardif",null,null,null,0,0,null,null,null,null,null,null,0]
["210","Tilleul d’Amérique",null,null,null,0,0,null,null,null,null,null,null,0]
["041","Pin blanc",null,null,null,0,0,null,null,null,null,null,null,0]
["042","Pin rouge",null,null,null,0,0,null,null,null,null,null,null,0]
["050","Pruche de l’Est",null,null,null,0,0,null,null,null,null,null,null,0]
["080","Thuya occidental",null,null,null,0,0,null,null,null,null,null,null,0]
[null,null,null,null,null,null,null,null,null,null,null,null,null,0]
[null,null,null,null,null,null,null,null,null,null,null,null,null,0]
[null,null,null,null,null,null,null,null,null,null,null,null,null,0]
[null,null,null,null,null,null,null,null,null,null,null,null,null,0]
[null,null,null,null,null,null,null,null,null,null,null,null,null,0]
[null,null,null,null,null,null,null,null,null,null,null,null,null,0]
[null,null,null,null,null,null,null,null,null,null,null,null,null,0]
[null,null,null,null,null,null,null,null,null,null,null,null,null,0]
[null,null,null,null,null,null,null,null,null,null,null,null,null,0]
[null,null,null,null,null,null,null,null,null,null,null,null,null,0]
[null,null,null,null,null,null,null,null,null,null,null,null,null,0]
[null,null,null,null,null,null,null,null,null,null,null,null,null,0]
[null,null,null,null,null,null,null,null,null,null,null,null,null,0]
[null,null,null,null,null,null,null,null,null,null,null,null,null,0]
[null,null,null,null,null,null,null,null,null,null,null,null,null,0]
[null,null,null,null,null,null,null,null,null,null,null,null,null,0]
[null,null,null,null,null,null,null,null,null,null,null,null,null,0]
[null,null,null,null,null,null,null,null,null,null,null,null,null,0]
[null,null,null,null,null,null,null,null,null,null,null,null,null,0]
[null,null,null,null,null,null,null,null,null,null,null,null,null,0]
[null,null,null,null,null,null,null,null,null,null,null,null,null,0]
[null,null,null,null,null,null,null,null,null,null,null,null,null,0]
[null,null,null,null,null,null,null,null,null,null,null,null,null,0]
[null,null,null,null,null,null,null,null,null,null,null,null,null,0]
[null,null,null,null,null,null,null,null,null,null,null,null,null,0]
[null,null,null,null,null,null,null,null,null,null,null,null,null,0]
[null,null,null,null,null,null,null,null,null,null,null,null,null,0]
[null,null,null,null,null,null,null,null,null,null,null,null,null,0]
[null,null,null,null,null,null,null,null,null,null,null,null,null,0]
[null,null,null,null,null,null,null,null,null,null,null,null,null,0]
[null,null,null,null,null,null,null,null,null,null,null,null,null,0]
[null,null,null,null,null,null,null,null,null,null,null,null,null,0]
[null,null,null,null,null,null,null,null,null,null,null,null,null,0]
[null,null,null,null,null,null,null,null,null,null,null,null,null,0]
[null,null,null,null,null,null,null,null,null,null,null,null,null,0]
[null,null,null,null,null,null,null,null,null,null,null,null,null,0]
[null,null,null,null,null,null,null,null,null,70,null,null,null,0,2]
["010","Épinette (autre que Norvège)",null,null,null,{"$f":"SUM(I66:J66)","v":0},{"$f":"SUM(D66:F66)","v":0},null,null,null,null,null,null,{"$f":"IF(A66<>\"\",+L66+G66,0)","v":0}]
["014","Épinette de Norvège",null,null,null,{"$f":"SUM(I67:J67)","v":0},{"$f":"SUM(D67:F67)","v":0},null,null,null,null,null,null,0]
["030","Mélèze laricin",null,null,null,0,0,null,null,null,null,null,null,0]
["043","Pin gris et sylvestre",null,null,null,0,0,null,null,null,null,null,null,0]
["060","Sapin baumier",null,null,null,0,0,null,null,null,null,null,null,0]
["190","Peuplier (autre que Baumier)",null,null,null,0,{"$f":"SUM(D71:F71)","v":0},null,null,null,null,null,null,0]
["191","Peuplier baumier",null,null,null,0,{"$f":"SUM(D72:F72)","v":0},null,null,null,null,null,null,0]
["105","Bouleau blanc ",null,null,null,0,0,null,null,null,null,null,null,0]
["104","Bouleau jaune",null,null,null,0,0,null,null,null,null,null,null,0]
["132","Érable à sucre",null,null,null,0,0,null,null,null,null,null,null,0]
["133","Érable rouge",null,null,null,0,0,null,null,null,null,null,null,0]
["135","Érables - Autres ",null,null,null,0,0,null,null,null,null,null,null,0]
["120","Chêne ",null,null,null,0,0,null,null,null,null,null,null,0]
["141","Frêne d’Amérique (blanc)",null,null,null,0,0,null,null,null,null,null,null,0]
["142","Frêne noir",null,null,null,0,0,null,null,null,null,null,null,0]
["150","Hêtre",null,null,null,0,0,null,null,null,null,null,null,0]
["160","Noyer",null,null,null,0,0,null,null,null,null,null,null,0]
["165","Caryer",null,null,null,0,0,null,null,null,null,null,null,0]
["170","Orme",null,null,null,0,0,null,null,null,null,null,null,0]
["180","Ostryer de Virginie",null,null,null,0,0,null,null,null,null,null,null,0]
["110","Cerisier tardif",null,null,null,0,0,null,null,null,null,null,null,0]
["210","Tilleul d’Amérique",null,null,null,0,0,null,null,null,null,null,null,0]
["041","Pin blanc",null,null,null,0,0,null,null,null,null,null,null,0]
["042","Pin rouge",null,null,null,0,0,null,null,null,null,null,null,0]
["050","Pruche de l’Est",null,null,null,0,0,null,null,null,null,null,null,0]
["080","Thuya occidental",null,null,null,0,0,null,null,null,null,null,null,0]
[null,null,null,null,null,null,null,null,null,null,null,null,null,0]
[null,null,null,null,null,null,null,null,null,null,null,null,null,0]
[null,null,null,null,null,null,null,null,null,null,null,null,null,0]
[null,null,null,null,null,null,null,null,null,null,null,null,null,0]
[null,null,null,null,null,null,null,null,null,null,null,null,null,0]
[null,null,null,null,null,null,null,null,null,null,null,null,null,0]
[null,null,null,null,null,null,null,null,null,null,null,null,null,0]
[null,null,null,null,null,null,null,null,null,null,null,null,null,0]
[null,null,null,null,null,null,null,null,null,null,null,null,null,0]
[null,null,null,null,null,null,null,null,null,null,null,null,null,0]
[null,null,null,null,null,null,null,null,null,null,null,null,null,0]
[null,null,null,null,null,null,null,null,null,null,null,null,null,0]
[null,null,null,null,null,null,null,null,null,null,null,null,null,0]
[null,null,null,null,null,null,null,null,null,null,null,null,null,0]
[null,null,null,null,null,null,null,null,null,null,null,null,null,0]
[null,null,null,null,null,null,null,null,null,null,null,null,null,0]
[null,null,null,null,null,null,null,null,null,null,null,null,null,0]
[null,null,null,null,null,null,null,null,null,null,null,null,null,0]
[null,null,null,null,null,null,null,null,null,null,null,null,null,0]
[null,null,null,null,null,null,null,null,null,null,null,null,null,0]
[null,null,null,null,null,null,null,null,null,null,null,null,null,0]
[null,null,null,null,null,null,null,null,null,null,null,null,null,0]
[null,null,null,null,null,null,null,null,null,null,null,null,null,0]
[null,null,null,null,null,null,null,null,null,null,null,null,null,0]
[null,null,null,null,null,null,null,null,null,null,null,null,null,0]
[null,null,null,null,null,null,null,null,null,null,null,null,null,0]
[null,null,null,null,null,null,null,null,null,null,null,null,null,0]
[null,null,null,null,null,null,null,null,null,null,null,null,null,0]
[null,null,null,null,null,null,null,null,null,null,null,null,null,0]
[null,null,null,null,null,null,null,null,null,null,null,null,null,0]
[null,null,null,null,null,null,null,null,null,null,null,null,null,0]
[null,null,null,null,null,null,null,null,null,null,null,null,null,0]
[null,null,null,null,null,null,null,null,null,null,null,null,null,0]
[null,null,null,null,null,null,null,null,null,null,null,null,null,0]
[null,null,null,null,null,null,null,null,null,null,null,null,null,0]
[null,null,null,null,null,null,null,null,null,null,null,null,null,0]
[null,null,null,null,null,null,null,null,null,70,null,null,null,0]
[null,null,null,null,null,null,null,null,null,null,null,null,null,0,3]
["010","Épinette (autre que Norvège)",null,null,null,{"$f":"SUM(I130:J130)","v":0},{"$f":"SUM(D130:F130)","v":0},null,null,null,null,null,null,{"$f":"IF(A130<>\"\",+L130+G130,0)","v":0}]
["014","Épinette de Norvège",null,null,null,{"$f":"SUM(I131:J131)","v":0},{"$f":"SUM(D131:F131)","v":0},null,null,null,null,null,null,0]
["030","Mélèze laricin",null,null,null,0,0,null,null,null,null,null,null,0]
["043","Pin gris et sylvestre",null,null,null,0,0,null,null,null,null,null,null,0]
["060","Sapin baumier",null,null,null,0,0,null,null,null,null,null,null,0]
["190","Peuplier (autre que Baumier)",null,null,null,0,{"$f":"SUM(D135:F135)","v":0},null,null,null,null,null,null,0]
["191","Peuplier baumier",null,null,null,0,{"$f":"SUM(D136:F136)","v":0},null,null,null,null,null,null,0]
["105","Bouleau blanc ",null,null,null,0,0,null,null,null,null,null,null,0]
["104","Bouleau jaune",null,null,null,0,0,null,null,null,null,null,null,0]
["132","Érable à sucre",null,null,null,0,0,null,null,null,null,null,null,0]
["133","Érable rouge",null,null,null,0,0,null,null,null,null,null,null,0]
["135","Érables - Autres ",null,null,null,0,0,null,null,null,null,null,null,0]
["120","Chêne ",null,null,null,0,0,null,null,null,null,null,null,0]
["141","Frêne d’Amérique (blanc)",null,null,null,0,0,null,null,null,null,null,null,0]
["142","Frêne noir",null,null,null,0,0,null,null,null,null,null,null,0]
["150","Hêtre",null,null,null,0,0,null,null,null,null,null,null,0]
["160","Noyer",null,null,null,0,0,null,null,null,null,null,null,0]
["165","Caryer",null,null,null,0,0,null,null,null,null,null,null,0]
["170","Orme",null,null,null,0,0,null,null,null,null,null,null,0]
["180","Ostryer de Virginie",null,null,null,0,0,null,null,null,null,null,null,0]
["110","Cerisier tardif",null,null,null,0,0,null,null,null,null,null,null,0]
["210","Tilleul d’Amérique",null,null,null,0,0,null,null,null,null,null,null,0]
["041","Pin blanc",null,null,null,0,0,null,null,null,null,null,null,0]
["042","Pin rouge",null,null,null,0,0,null,null,null,null,null,null,0]
["050","Pruche de l’Est",null,null,null,0,0,null,null,null,null,null,null,0]
["080","Thuya occidental",null,null,null,0,0,null,null,null,null,null,null,0]
[null,null,null,null,null,null,null,null,null,null,null,null,null,0]
[null,null,null,null,null,null,null,null,null,null,null,null,null,0]
[null,null,null,null,null,null,null,null,null,null,null,null,null,0]
[null,null,null,null,null,null,null,null,null,null,null,null,null,0]
[null,null,null,null,null,null,null,null,null,null,null,null,null,0]
[null,null,null,null,null,null,null,null,null,null,null,null,null,0]
[null,null,null,null,null,null,null,null,null,null,null,null,null,0]
[null,null,null,null,null,null,null,null,null,null,null,null,null,0]
[null,null,null,null,null,null,null,null,null,null,null,null,null,0]
[null,null,null,null,null,null,null,null,null,null,null,null,null,0]
[null,null,null,null,null,null,null,null,null,null,null,null,null,0]
[null,null,null,null,null,null,null,null,null,null,null,null,null,0]
[null,null,null,null,null,null,null,null,null,null,null,null,null,0]
[null,null,null,null,null,null,null,null,null,null,null,null,null,0]
[null,null,null,null,null,null,null,null,null,null,null,null,null,0]
[null,null,null,null,null,null,null,null,null,null,null,null,null,0]
[null,null,null,null,null,null,null,null,null,null,null,null,null,0]
[null,null,null,null,null,null,null,null,null,null,null,null,null,0]
[null,null,null,null,null,null,null,null,null,null,null,null,null,0]
[null,null,null,null,null,null,null,null,null,null,null,null,null,0]
[null,null,null,null,null,null,null,null,null,null,null,null,null,0]
[null,null,null,null,null,null,null,null,null,null,null,null,null,0]
[null,null,null,null,null,null,null,null,null,null,null,null,null,0]
[null,null,null,null,null,null,null,null,null,null,null,null,null,0]
[null,null,null,null,null,null,null,null,null,null,null,null,null,0]
[null,null,null,null,null,null,null,null,null,null,null,null,null,0]
[null,null,null,null,null,null,null,null,null,null,null,null,null,0]
[null,null,null,null,null,null,null,null,null,null,null,null,null,0]
[null,null,null,null,null,null,null,null,null,null,null,null,null,0]
[null,null,null,null,null,null,null,null,null,null,null,null,null,0]
[null,null,null,null,null,null,null,null,null,null,null,null,null,0]
[null,null,null,null,null,null,null,null,null,null,null,null,null,0]
[null,null,null,null,null,null,null,null,null,null,null,null,null,0]
[null,null,null,null,null,null,null,null,null,null,null,null,null,0]
[null,null,null,null,null,null,null,null,null,null,null,null,null,0]
[null,null,null,null,null,null,null,null,null,null,null,null,null,0]
[70,70,null,null,null,null,null,null,null,70,null,null,null,0,4]
["010","Épinette (autre que Norvège)",null,null,null,{"$f":"SUM(I193:J193)","v":0},{"$f":"SUM(D193:F193)","v":0},null,null,null,null,null,null,0]
["014","Épinette de Norvège",null,null,null,{"$f":"SUM(I194:J194)","v":0},{"$f":"SUM(D194:F194)","v":0},null,null,null,null,null,null,{"$f":"IF(A194<>\"\",+L194+G194,0)","v":0}]
["030","Mélèze laricin",null,null,null,0,0,null,null,null,null,null,null,0]
["043","Pin gris et sylvestre",null,null,null,0,0,null,null,null,null,null,null,0]
["060","Sapin baumier",null,null,null,0,0,null,null,null,null,null,null,0]
["190","Peuplier (autre que Baumier)",null,null,null,0,{"$f":"SUM(D198:F198)","v":0},null,null,null,null,null,null,0]
["191","Peuplier baumier",null,null,null,0,{"$f":"SUM(D199:F199)","v":0},null,null,null,null,null,null,0]
["105","Bouleau blanc ",null,null,null,0,0,null,null,null,null,null,null,0]
["104","Bouleau jaune",null,null,null,0,0,null,null,null,null,null,null,0]
["132","Érable à sucre",null,null,null,0,0,null,null,null,null,null,null,0]
["133","Érable rouge",null,null,null,0,0,null,null,null,null,null,null,0]
["135","Érables - Autres ",null,null,null,0,0,null,null,null,null,null,null,0]
["120","Chêne ",null,null,null,0,0,null,null,null,null,null,null,0]
["141","Frêne d’Amérique (blanc)",null,null,null,0,0,null,null,null,null,null,null,0]
["142","Frêne noir",null,null,null,0,0,null,null,null,null,null,null,0]
["150","Hêtre",null,null,null,0,0,null,null,null,null,null,null,0]
["160","Noyer",null,null,null,0,0,null,null,null,null,null,null,0]
["165","Caryer",null,null,null,0,0,null,null,null,null,null,null,0]
["170","Orme",null,null,null,0,0,null,null,null,null,null,null,0]
["180","Ostryer de Virginie",null,null,null,0,0,null,null,null,null,null,null,0]
["110","Cerisier tardif",null,null,null,0,0,null,null,null,null,null,null,0]
["210","Tilleul d’Amérique",null,null,null,0,0,null,null,null,null,null,null,0]
["041","Pin blanc",null,null,null,0,0,null,null,null,null,null,null,0]
["042","Pin rouge",null,null,null,0,0,null,null,null,null,null,null,0]
["050","Pruche de l’Est",null,null,null,0,0,null,null,null,null,null,null,0]
["080","Thuya occidental",null,null,null,0,0,null,null,null,null,null,null,0]
[null,null,null,null,null,null,null,null,null,null,null,null,null,0]
[null,null,null,null,null,null,null,null,null,null,null,null,null,0]
[null,null,null,null,null,null,null,null,null,null,null,null,null,0]
[null,null,null,null,null,null,null,null,null,null,null,null,null,0]
[null,null,null,null,null,null,null,null,null,null,null,null,null,0]
[null,null,null,null,null,null,null,null,null,null,null,null,null,0]
[null,null,null,null,null,null,null,null,null,null,null,null,null,0]
[null,null,null,null,null,null,null,null,null,null,null,null,null,0]
[null,null,null,null,null,null,null,null,null,null,null,null,null,0]
[null,null,null,null,null,null,null,null,null,null,null,null,null,0]
[null,null,null,null,null,null,null,null,null,null,null,null,null,0]
[null,null,null,null,null,null,null,null,null,null,null,null,null,0]
[null,null,null,null,null,null,null,null,null,null,null,null,null,0]
[null,null,null,null,null,null,null,null,null,null,null,null,null,0]
[null,null,null,null,null,null,null,null,null,null,null,null,null,0]
[null,null,null,null,null,null,null,null,null,null,null,null,null,0]
[null,null,null,null,null,null,null,null,null,null,null,null,null,0]
[null,null,null,null,null,null,null,null,null,null,null,null,null,0]
[null,null,null,null,null,null,null,null,null,null,null,null,null,0]
[null,null,null,null,null,null,null,null,null,null,null,null,null,0]
[null,null,null,null,null,null,null,null,null,null,null,null,null,0]
[null,null,null,null,null,null,null,null,null,null,null,null,null,0]
[null,null,null,null,null,null,null,null,null,null,null,null,null,0]
[null,null,null,null,null,null,null,null,null,null,null,null,null,0]
[null,null,null,null,null,null,null,null,null,null,null,null,null,0]
[null,null,null,null,null,null,null,null,null,null,null,null,null,0]
[null,null,null,null,null,null,null,null,null,null,null,null,null,0]
[null,null,null,null,null,null,null,null,null,null,null,null,null,0]
[null,null,null,null,null,null,null,null,null,null,null,null,null,0]
[null,null,null,null,null,null,null,null,null,null,null,null,null,0]
[null,null,null,null,null,null,null,null,null,null,null,null,null,0]
[null,null,null,null,null,null,null,null,null,null,null,null,null,0]
[null,null,null,null,null,null,null,null,null,null,null,null,null,0]
[null,null,null,null,null,null,null,null,null,null,null,null,null,0]
[null,null,null,null,null,null,null,null,null,null,null,null,null,0]
[null,null,null,null,null,null,null,null,null,null,null,null,null,0]
["010","Épinette (autre que Norvège)",null,null,null,{"$f":"SUM(I255:J255)","v":0},{"$f":"SUM(D255:F255)","v":0},null,null,null,null,null,null,0]
["014","Épinette de Norvège",null,null,null,{"$f":"SUM(I256:J256)","v":0},{"$f":"SUM(D256:F256)","v":0},null,null,null,null,null,null,0]
["030","Mélèze laricin",null,null,null,0,0,null,null,null,null,null,null,0]
["043","Pin gris et sylvestre",null,null,null,0,0,null,null,null,null,null,null,{"$f":"IF(A258<>\"\",+L258+G258,0)","v":0}]
["060","Sapin baumier",null,null,null,0,0,null,null,null,null,null,null,0]
["190","Peuplier (autre que Baumier)",null,null,null,0,{"$f":"SUM(D260:F260)","v":0},null,null,null,null,null,null,0]
["191","Peuplier baumier",null,null,null,0,{"$f":"SUM(D261:F261)","v":0},null,null,null,null,null,null,0]
["105","Bouleau blanc ",null,null,null,0,0,null,null,null,null,null,null,0]
["104","Bouleau jaune",null,null,null,0,0,null,null,null,null,null,null,0]
["132","Érable à sucre",null,null,null,0,0,null,null,null,null,null,null,0]
["133","Érable rouge",null,null,null,0,0,null,null,null,null,null,null,0]
["135","Érables - Autres ",null,null,null,0,0,null,null,null,null,null,null,0]
["120","Chêne ",null,null,null,0,0,null,null,null,null,null,null,0]
["141","Frêne d’Amérique (blanc)",null,null,null,0,0,null,null,null,null,null,null,0]
["142","Frêne noir",null,null,null,0,0,null,null,null,null,null,null,0]
["150","Hêtre",null,null,null,0,0,null,null,null,null,null,null,0]
["160","Noyer",null,null,null,0,0,null,null,null,null,null,null,0]
["165","Caryer",null,null,null,0,0,null,null,null,null,null,null,0]
["170","Orme",null,null,null,0,0,null,null,null,null,null,null,0]
["180","Ostryer de Virginie",null,null,null,0,0,null,null,null,null,null,null,0]
["110","Cerisier tardif",null,null,null,0,0,null,null,null,null,null,null,0]
["210","Tilleul d’Amérique",null,null,null,0,0,null,null,null,null,null,null,0]
["041","Pin blanc",null,null,null,0,0,null,null,null,null,null,null,0]
["042","Pin rouge",null,null,null,0,0,null,null,null,null,null,null,0]
["050","Pruche de l’Est",null,null,null,0,0,null,null,null,null,null,null,0]
["080","Thuya occidental",null,null,null,0,0,null,null,null,null,null,null,0]
[null,null,null,null,null,null,null,null,null,null,null,null,null,0]
[null,null,null,null,null,null,null,null,null,null,null,null,null,0]
[null,null,null,null,null,null,null,null,null,null,null,null,null,0]
[null,null,null,null,null,null,null,null,null,null,null,null,null,0]
[null,null,null,null,null,null,null,null,null,null,null,null,null,0]
[null,null,null,null,null,null,null,null,null,null,null,null,null,0]
[null,null,null,null,null,null,null,null,null,null,null,null,null,0]
[null,null,null,null,null,null,null,null,null,null,null,null,null,0]
[null,null,null,null,null,null,null,null,null,null,null,null,null,0]
[null,null,null,null,null,null,null,null,null,null,null,null,null,0]
[null,null,null,null,null,null,null,null,null,null,null,null,null,0]
[null,null,null,null,null,null,null,null,null,null,null,null,null,0]
[null,null,null,null,null,null,null,null,null,null,null,null,null,0]
[null,null,null,null,null,null,null,null,null,null,null,null,null,0]
[null,null,null,null,null,null,null,null,null,null,null,null,null,0]
[null,null,null,null,null,null,null,null,null,null,null,null,null,0]
[null,null,null,null,null,null,null,null,null,null,null,null,null,0]
[null,null,null,null,null,null,null,null,null,null,null,null,null,0]
[null,null,null,null,null,null,null,null,null,null,null,null,null,0]
[null,null,null,null,null,null,null,null,null,null,null,null,null,0]
[null,null,null,null,null,null,null,null,null,null,null,null,null,0]
[null,null,null,null,null,null,null,null,null,null,null,null,null,0]
[null,null,null,null,null,null,null,null,null,null,null,null,null,0]
[null,null,null,null,null,null,null,null,null,null,null,null,null,0]
[null,null,null,null,null,null,null,null,null,null,null,null,null,0]
[null,null,null,null,null,null,null,null,null,null,null,null,null,0]
[null,null,null,null,null,null,null,null,null,null,null,null,null,0]
[null,null,null,null,null,null,null,null,null,null,null,null,null,0]
[null,null,null,null,null,null,null,null,null,null,null,null,null,0]
[null,null,null,null,null,null,null,null,null,null,null,null,null,0]
[null,null,null,null,null,null,null,null,null,null,null,null,null,0]
[null,null,null,null,null,null,null,null,null,null,null,null,null,0]
[null,null,null,null,null,null,null,null,null,null,null,null,null,0]
[null,null,null,null,null,null,null,null,null,null,null,null,null,0]
[null,null,null,null,null,null,null,null,null,null,null,null,null,0]
[null,null,null,null,null,null,null,null,null,null,null,null,null,0]
["010","Épinette (autre que Norvège)",null,null,null,{"$f":"SUM(I317:J317)","v":0},{"$f":"SUM(D317:F317)","v":0},null,null,null,null,null,null,0]
["014","Épinette de Norvège",null,null,null,{"$f":"SUM(I318:J318)","v":0},{"$f":"SUM(D318:F318)","v":0},null,null,null,null,null,null,0]
["030","Mélèze laricin",null,null,null,0,0,null,null,null,null,null,null,0]
["043","Pin gris et sylvestre",null,null,null,0,0,null,null,null,null,null,null,0]
["060","Sapin baumier",null,null,null,0,0,null,null,null,null,null,null,0]
["190","Peuplier (autre que Baumier)",null,null,null,0,{"$f":"SUM(D322:F322)","v":0},null,null,null,null,null,null,{"$f":"IF(A322<>\"\",+L322+G322,0)","v":0}]
["191","Peuplier baumier",null,null,null,0,{"$f":"SUM(D323:F323)","v":0},null,null,null,null,null,null,0]
["105","Bouleau blanc ",null,null,null,0,0,null,null,null,null,null,null,0]
["104","Bouleau jaune",null,null,null,0,0,null,null,null,null,null,null,0]
["132","Érable à sucre",null,null,null,0,0,null,null,null,null,null,null,0]
["133","Érable rouge",null,null,null,0,0,null,null,null,null,null,null,0]
["135","Érables - Autres ",null,null,null,0,0,null,null,null,null,null,null,0]
["120","Chêne ",null,null,null,0,0,null,null,null,null,null,null,0]
["141","Frêne d’Amérique (blanc)",null,null,null,0,0,null,null,null,null,null,null,0]
["142","Frêne noir",null,null,null,0,0,null,null,null,null,null,null,0]
["150","Hêtre",null,null,null,0,0,null,null,null,null,null,null,0]
["160","Noyer",null,null,null,0,0,null,null,null,null,null,null,0]
["165","Caryer",null,null,null,0,0,null,null,null,null,null,null,0]
["170","Orme",null,null,null,0,0,null,null,null,null,null,null,0]
["180","Ostryer de Virginie",null,null,null,0,0,null,null,null,null,null,null,0]
["110","Cerisier tardif",null,null,null,0,0,null,null,null,null,null,null,0]
["210","Tilleul d’Amérique",null,null,null,0,0,null,null,null,null,null,null,0]
["041","Pin blanc",null,null,null,0,0,null,null,null,null,null,null,0]
["042","Pin rouge",null,null,null,0,0,null,null,null,null,null,null,0]
["050","Pruche de l’Est",null,null,null,0,0,null,null,null,null,null,null,0]
["080","Thuya occidental",null,null,null,0,0,null,null,null,null,null,null,0]
[null,null,null,null,null,null,null,null,null,null,null,null,null,0]
[null,null,null,null,null,null,null,null,null,null,null,null,null,0]
[null,null,null,null,null,null,null,null,null,null,null,null,null,0]
[null,null,null,null,null,null,null,null,null,null,null,null,null,0]
[null,null,null,null,null,null,null,null,null,null,null,null,null,0]
[null,null,null,null,null,null,null,null,null,null,null,null,null,0]
[null,null,null,null,null,null,null,null,null,null,null,null,null,0]
[null,null,null,null,null,null,null,null,null,null,null,null,null,0]
[null,null,null,null,null,null,null,null,null,null,null,null,null,0]
[null,null,null,null,null,null,null,null,null,null,null,null,null,0]
[null,null,null,null,null,null,null,null,null,null,null,null,null,0]
[null,null,null,null,null,null,null,null,null,null,null,null,null,0]
[null,null,null,null,null,null,null,null,null,null,null,null,null,0]
[null,null,null,null,null,null,null,null,null,null,null,null,null,0]
[null,null,null,null,null,null,null,null,null,null,null,null,null,0]
[null,null,null,null,null,null,null,null,null,null,null,null,null,0]
[null,null,null,null,null,null,null,null,null,null,null,null,null,0]
[null,null,null,null,null,null,null,null,null,null,null,null,null,0]
[null,null,null,null,null,null,null,null,null,null,null,null,null,0]
[null,null,null,null,null,null,null,null,null,null,null,null,null,0]
[null,null,null,null,null,null,null,null,null,null,null,null,null,0]
[null,null,null,null,null,null,null,null,null,null,null,null,null,0]
[null,null,null,null,null,null,null,null,null,null,null,null,null,0]
[null,null,null,null,null,null,null,null,null,null,null,null,null,0]
[null,null,null,null,null,null,null,null,null,null,null,null,null,0]
[null,null,null,null,null,null,null,null,null,null,null,null,null,0]
[null,null,null,null,null,null,null,null,null,null,null,null,null,0]
[null,null,null,null,null,null,null,null,null,null,null,null,null,0]
[null,null,null,null,null,null,null,null,null,null,null,null,null,0]
[null,null,null,null,null,null,null,null,null,null,null,null,null,0]
[null,null,null,null,null,null,null,null,null,null,null,null,null,0]
[null,null,null,null,null,null,null,null,null,null,null,null,null,0]
[null,null,null,null,null,null,null,null,null,null,null,null,null,0]
[null,null,null,null,null,null,null,null,null,null,null,null,null,0]
[null,null,null,null,null,null,null,null,null,null,null,null,null,0]
[null,null,null,null,null,null,null,null,null,null,null,null,null,0]
[null,null,null,null,null,null,null,null,null,null,null,null,null,0]
["010","Épinette (autre que Norvège)",null,null,null,{"$f":"SUM(I380:J380)","v":0},{"$f":"SUM(D380:F380)","v":0},null,null,null,null,null,null,0]
["014","Épinette de Norvège",null,null,null,{"$f":"SUM(I381:J381)","v":0},{"$f":"SUM(D381:F381)","v":0},null,null,null,null,null,null,0]
["030","Mélèze laricin",null,null,null,0,0,null,null,null,null,null,null,0]
["043","Pin gris et sylvestre",null,null,null,0,0,null,null,null,null,null,null,0]
["060","Sapin baumier",null,null,null,0,0,null,null,null,null,null,null,0]
["190","Peuplier (autre que Baumier)",null,null,null,0,{"$f":"SUM(D385:F385)","v":0},null,null,null,null,null,null,0]
["191","Peuplier baumier",null,null,null,0,{"$f":"SUM(D386:F386)","v":0},null,null,null,null,null,null,{"$f":"IF(A386<>\"\",+L386+G386,0)","v":0}]
["105","Bouleau blanc ",null,null,null,0,0,null,null,null,null,null,null,0]
["104","Bouleau jaune",null,null,null,0,0,null,null,null,null,null,null,0]
["132","Érable à sucre",null,null,null,0,0,null,null,null,null,null,null,0]
["133","Érable rouge",null,null,null,0,0,null,null,null,null,null,null,0]
["135","Érables - Autres ",null,null,null,0,0,null,null,null,null,null,null,0]
["120","Chêne ",null,null,null,0,0,null,null,null,null,null,null,0]
["141","Frêne d’Amérique (blanc)",null,null,null,0,0,null,null,null,null,null,null,0]
["142","Frêne noir",null,null,null,0,0,null,null,null,null,null,null,0]
["150","Hêtre",null,null,null,0,0,null,null,null,null,null,null,0]
["160","Noyer",null,null,null,0,0,null,null,null,null,null,null,0]
["165","Caryer",null,null,null,0,0,null,null,null,null,null,null,0]
["170","Orme",null,null,null,0,0,null,null,null,null,null,null,0]
["180","Ostryer de Virginie",null,null,null,0,0,null,null,null,null,null,null,0]
["110","Cerisier tardif",null,null,null,0,0,null,null,null,null,null,null,0]
["210","Tilleul d’Amérique",null,null,null,0,0,null,null,null,null,null,null,0]
["041","Pin blanc",null,null,null,0,0,null,null,null,null,null,null,0]
["042","Pin rouge",null,null,null,0,0,null,null,null,null,null,null,0]
["050","Pruche de l’Est",null,null,null,0,0,null,null,null,null,null,null,0]
["080","Thuya occidental",null,null,null,0,0,null,null,null,null,null,null,0]
[null,null,null,null,null,null,null,null,null,null,null,null,null,0]
[null,null,null,null,null,null,null,null,null,null,null,null,null,0]
[null,null,null,null,null,null,null,null,null,null,null,null,null,0]
[null,null,null,null,null,null,null,null,null,null,null,null,null,0]
[null,null,null,null,null,null,null,null,null,null,null,null,null,0]
[null,null,null,null,null,null,null,null,null,null,null,null,null,0]
[null,null,null,null,null,null,null,null,null,null,null,null,null,0]
[null,null,null,null,null,null,null,null,null,null,null,null,null,0]
[null,null,null,null,null,null,null,null,null,null,null,null,null,0]
[null,null,null,null,null,null,null,null,null,null,null,null,null,0]
[null,null,null,null,null,null,null,null,null,null,null,null,null,0]
[null,null,null,null,null,null,null,null,null,null,null,null,null,0]
[null,null,null,null,null,null,null,null,null,null,null,null,null,0]
[null,null,null,null,null,null,null,null,null,null,null,null,null,0]
[null,null,null,null,null,null,null,null,null,null,null,null,null,0]
[null,null,null,null,null,null,null,null,null,null,null,null,null,0]
[null,null,null,null,null,null,null,null,null,null,null,null,null,0]
[null,null,null,null,null,null,null,null,null,null,null,null,null,0]
[null,null,null,null,null,null,null,null,null,null,null,null,null,0]
[null,null,null,null,null,null,null,null,null,null,null,null,null,0]
[null,null,null,null,null,null,null,null,null,null,null,null,null,0]
[null,null,null,null,null,null,null,null,null,null,null,null,null,0]
[null,null,null,null,null,null,null,null,null,null,null,null,null,0]
[null,null,null,null,null,null,null,null,null,null,null,null,null,0]
[null,null,null,null,null,null,null,null,null,null,null,null,null,0]
[null,null,null,null,null,null,null,null,null,null,null,null,null,0]
[null,null,null,null,null,null,null,null,null,null,null,null,null,0]
[null,null,null,null,null,null,null,null,null,null,null,null,null,0]
[null,null,null,null,null,null,null,null,null,null,null,null,null,0]
[null,null,null,null,null,null,null,null,null,null,null,null,null,0]
[null,null,null,null,null,null,null,null,null,null,null,null,null,0]
[null,null,null,null,null,null,null,null,null,null,null,null,null,0]
[null,null,null,null,null,null,null,null,null,null,null,null,null,0]
[null,null,null,null,null,null,null,null,null,null,null,null,null,0]
[null,null,null,null,null,null,null,null,null,null,null,null,null,0]
[null,null,null,null,null,null,null,null,null,null,null,null,null,0]
[null,null,null,null,null,null,null,null,null,null,null,null,null,0]
["010","Épinette (autre que Norvège)",null,null,null,{"$f":"SUM(I443:J443)","v":0},{"$f":"SUM(D443:F443)","v":0},null,null,null,null,null,null,0]
["014","Épinette de Norvège",null,null,null,{"$f":"SUM(I444:J444)","v":0},{"$f":"SUM(D444:F444)","v":0},null,null,null,null,null,null,0]
["030","Mélèze laricin",null,null,null,0,0,null,null,null,null,null,null,0]
["043","Pin gris et sylvestre",null,null,null,0,0,null,null,null,null,null,null,0]
["060","Sapin baumier",null,null,null,0,0,null,null,null,null,null,null,0]
["190","Peuplier (autre que Baumier)",null,null,null,0,{"$f":"SUM(D448:F448)","v":0},null,null,null,null,null,null,0]
["191","Peuplier baumier",null,null,null,0,{"$f":"SUM(D449:F449)","v":0},null,null,null,null,null,null,0]
["105","Bouleau blanc ",null,null,null,0,0,null,null,null,null,null,null,{"$f":"IF(A450<>\"\",+L450+G450,0)","v":0}]
["104","Bouleau jaune",null,null,null,0,0,null,null,null,null,null,null,0]
["132","Érable à sucre",null,null,null,0,0,null,null,null,null,null,null,0]
["133","Érable rouge",null,null,null,0,0,null,null,null,null,null,null,0]
["135","Érables - Autres ",null,null,null,0,0,null,null,null,null,null,null,0]
["120","Chêne ",null,null,null,0,0,null,null,null,null,null,null,0]
["141","Frêne d’Amérique (blanc)",null,null,null,0,0,null,null,null,null,null,null,0]
["142","Frêne noir",null,null,null,0,0,null,null,null,null,null,null,0]
["150","Hêtre",null,null,null,0,0,null,null,null,null,null,null,0]
["160","Noyer",null,null,null,0,0,null,null,null,null,null,null,0]
["165","Caryer",null,null,null,0,0,null,null,null,null,null,null,0]
["170","Orme",null,null,null,0,0,null,null,null,null,null,null,0]
["180","Ostryer de Virginie",null,null,null,0,0,null,null,null,null,null,null,0]
["110","Cerisier tardif",null,null,null,0,0,null,null,null,null,null,null,0]
["210","Tilleul d’Amérique",null,null,null,0,0,null,null,null,null,null,null,0]
["041","Pin blanc",null,null,null,0,0,null,null,null,null,null,null,0]
["042","Pin rouge",null,null,null,0,0,null,null,null,null,null,null,0]
["050","Pruche de l’Est",null,null,null,0,0,null,null,null,null,null,null,0]
["080","Thuya occidental",null,null,null,0,0,null,null,null,null,null,null,0]
[null,null,null,null,null,null,null,null,null,null,null,null,null,0]
[null,null,null,null,null,null,null,null,null,null,null,null,null,0]
[null,null,null,null,null,null,null,null,null,null,null,null,null,0]
[null,null,null,null,null,null,null,null,null,null,null,null,null,0]
[null,null,null,null,null,null,null,null,null,null,null,null,null,0]
[null,null,null,null,null,null,null,null,null,null,null,null,null,0]
[null,null,null,null,null,null,null,null,null,null,null,null,null,0]
[null,null,null,null,null,null,null,null,null,null,null,null,null,0]
[null,null,null,null,null,null,null,null,null,null,null,null,null,0]
[null,null,null,null,null,null,null,null,null,null,null,null,null,0]
[null,null,null,null,null,null,null,null,null,null,null,null,null,0]
[null,null,null,null,null,null,null,null,null,null,null,null,null,0]
[null,null,null,null,null,null,null,null,null,null,null,null,null,0]
[null,null,null,null,null,null,null,null,null,null,null,null,null,0]
[null,null,null,null,null,null,null,null,null,null,null,null,null,0]
[null,null,null,null,null,null,null,null,null,null,null,null,null,0]
[null,null,null,null,null,null,null,null,null,null,null,null,null,0]
[null,null,null,null,null,null,null,null,null,null,null,null,null,0]
[null,null,null,null,null,null,null,null,null,null,null,null,null,0]
[null,null,null,null,null,null,null,null,null,null,null,null,null,0]
[null,null,null,null,null,null,null,null,null,null,null,null,null,0]
[null,null,null,null,null,null,null,null,null,null,null,null,null,0]
[null,null,null,null,null,null,null,null,null,null,null,null,null,0]
[null,null,null,null,null,null,null,null,null,null,null,null,null,0]
[null,null,null,null,null,null,null,null,null,null,null,null,null,0]
[null,null,null,null,null,null,null,null,null,null,null,null,null,0]
[null,null,null,null,null,null,null,null,null,null,null,null,null,0]
[null,null,null,null,null,null,null,null,null,null,null,null,null,0]
[null,null,null,null,null,null,null,null,null,null,null,null,null,0]
[null,null,null,null,null,null,null,null,null,null,null,null,null,0]
[null,null,null,null,null,null,null,null,null,null,null,null,null,0]
[null,null,null,null,null,null,null,null,null,null,null,null,null,0]
[null,null,null,null,null,null,null,null,null,null,null,null,null,0]
[null,null,null,null,null,null,null,null,null,null,null,null,null,0]
[null,null,null,null,null,null,null,null,null,null,null,null,null,0]
[null,null,null,null,null,null,null,null,null,null,null,null,null,0]
[null,null,null,null,null,null,null,null,null,null,null,null,null,0]
["010","Épinette (autre que Norvège)",null,null,null,{"$f":"SUM(I506:J506)","v":0},{"$f":"SUM(D506:F506)","v":0},null,null,null,null,null,null,0]
["014","Épinette de Norvège",null,null,null,{"$f":"SUM(I507:J507)","v":0},{"$f":"SUM(D507:F507)","v":0},null,null,null,null,null,null,0]
["030","Mélèze laricin",null,null,null,0,0,null,null,null,null,null,null,0]
["043","Pin gris et sylvestre",null,null,null,0,0,null,null,null,null,null,null,0]
["060","Sapin baumier",null,null,null,0,0,null,null,null,null,null,null,0]
["190","Peuplier (autre que Baumier)",null,null,null,0,{"$f":"SUM(D511:F511)","v":0},null,null,null,null,null,null,0]
["191","Peuplier baumier",null,null,null,0,{"$f":"SUM(D512:F512)","v":0},null,null,null,null,null,null,0]
["105","Bouleau blanc ",null,null,null,0,0,null,null,null,null,null,null,0]
["104","Bouleau jaune",null,null,null,0,0,null,null,null,null,null,null,{"$f":"IF(A514<>\"\",+L514+G514,0)","v":0}]
["132","Érable à sucre",null,null,null,0,0,null,null,null,null,null,null,0]
["133","Érable rouge",null,null,null,0,0,null,null,null,null,null,null,0]
["135","Érables - Autres ",null,null,null,0,0,null,null,null,null,null,null,0]
["120","Chêne ",null,null,null,0,0,null,null,null,null,null,null,0]
["141","Frêne d’Amérique (blanc)",null,null,null,0,0,null,null,null,null,null,null,0]
["142","Frêne noir",null,null,null,0,0,null,null,null,null,null,null,0]
["150","Hêtre",null,null,null,0,0,null,null,null,null,null,null,0]
["160","Noyer",null,null,null,0,0,null,null,null,null,null,null,0]
["165","Caryer",null,null,null,0,0,null,null,null,null,null,null,0]
["170","Orme",null,null,null,0,0,null,null,null,null,null,null,0]
["180","Ostryer de Virginie",null,null,null,0,0,null,null,null,null,null,null,0]
["110","Cerisier tardif",null,null,null,0,0,null,null,null,null,null,null,0]
["210","Tilleul d’Amérique",null,null,null,0,0,null,null,null,null,null,null,0]
["041","Pin blanc",null,null,null,0,0,null,null,null,null,null,null,0]
["042","Pin rouge",null,null,null,0,0,null,null,null,null,null,null,0]
["050","Pruche de l’Est",null,null,null,0,0,null,null,null,null,null,null,0]
["080","Thuya occidental",null,null,null,0,0,null,null,null,null,null,null,0]
[null,null,null,null,null,null,null,null,null,null,null,null,null,0]
[null,null,null,null,null,null,null,null,null,null,null,null,null,0]
[null,null,null,null,null,null,null,null,null,null,null,null,null,0]
[null,null,null,null,null,null,null,null,null,null,null,null,null,0]
[null,null,null,null,null,null,null,null,null,null,null,null,null,0]
[null,null,null,null,null,null,null,null,null,null,null,null,null,0]
[null,null,null,null,null,null,null,null,null,null,null,null,null,0]
[null,null,null,null,null,null,null,null,null,null,null,null,null,0]
[null,null,null,null,null,null,null,null,null,null,null,null,null,0]
[null,null,null,null,null,null,null,null,null,null,null,null,null,0]
[null,null,null,null,null,null,null,null,null,null,null,null,null,0]
[null,null,null,null,null,null,null,null,null,null,null,null,null,0]
[null,null,null,null,null,null,null,null,null,null,null,null,null,0]
[null,null,null,null,null,null,null,null,null,null,null,null,null,0]
[null,null,null,null,null,null,null,null,null,null,null,null,null,0]
[null,null,null,null,null,null,null,null,null,null,null,null,null,0]
[null,null,null,null,null,null,null,null,null,null,null,null,null,0]
[null,null,null,null,null,null,null,null,null,null,null,null,null,0]
[null,null,null,null,null,null,null,null,null,null,null,null,null,0]
[null,null,null,null,null,null,null,null,null,null,null,null,null,0]
[null,null,null,null,null,null,null,null,null,null,null,null,null,0]
[null,null,null,null,null,null,null,null,null,null,null,null,null,0]
[null,null,null,null,null,null,null,null,null,null,null,null,null,0]
[null,null,null,null,null,null,null,null,null,null,null,null,null,0]
[null,null,null,null,null,null,null,null,null,null,null,null,null,0]
[null,null,null,null,null,null,null,null,null,null,null,null,null,0]
[null,null,null,null,null,null,null,null,null,null,null,null,null,0]
[null,null,null,null,null,null,null,null,null,null,null,null,null,0]
[null,null,null,null,null,null,null,null,null,null,null,null,null,0]
[null,null,null,null,null,null,null,null,null,null,null,null,null,0]
[null,null,null,null,null,null,null,null,null,null,null,null,null,0]
[null,null,null,null,null,null,null,null,null,null,null,null,null,0]
[null,null,null,null,null,null,null,null,null,null,null,null,null,0]
[null,null,null,null,null,null,null,null,null,null,null,null,null,0]
[null,null,null,null,null,null,null,null,null,null,null,null,null,0]
[null,null,null,null,null,null,null,null,null,null,null,null,null,0]
[null,null,null,null,null,null,null,null,null,null,null,null,null,0]
[null,null,null,null,null,null,null,null,null,null,null,null,null,0,10]
["010","Épinette (autre que Norvège)",null,null,null,{"$f":"SUM(I570:J570)","v":0},{"$f":"SUM(D570:F570)","v":0},null,null,null,null,null,null,0]
["014","Épinette de Norvège",null,null,null,{"$f":"SUM(I571:J571)","v":0},{"$f":"SUM(D571:F571)","v":0},null,null,null,null,null,null,0]
["030","Mélèze laricin",null,null,null,0,0,null,null,null,null,null,null,0]
["043","Pin gris et sylvestre",null,null,null,0,0,null,null,null,null,null,null,0]
["060","Sapin baumier",null,null,null,0,0,null,null,null,null,null,null,0]
["190","Peuplier (autre que Baumier)",null,null,null,0,{"$f":"SUM(D575:F575)","v":0},null,null,null,null,null,null,0]
["191","Peuplier baumier",null,null,null,0,{"$f":"SUM(D576:F576)","v":0},null,null,null,null,null,null,0]
["105","Bouleau blanc ",null,null,null,0,0,null,null,null,null,null,null,0]
["104","Bouleau jaune",null,null,null,0,0,null,null,null,null,null,null,{"$f":"IF(A578<>\"\",+L578+G578,0)","v":0}]
["132","Érable à sucre",null,null,null,0,0,null,null,null,null,null,null,0]
["133","Érable rouge",null,null,null,0,0,null,null,null,null,null,null,0]
["135","Érables - Autres ",null,null,null,0,0,null,null,null,null,null,null,0]
["120","Chêne ",null,null,null,0,0,null,null,null,null,null,null,0]
["141","Frêne d’Amérique (blanc)",null,null,null,0,0,null,null,null,null,null,null,0]
["142","Frêne noir",null,null,null,0,0,null,null,null,null,null,null,0]
["150","Hêtre",null,null,null,0,0,null,null,null,null,null,null,0]
["160","Noyer",null,null,null,0,0,null,null,null,null,null,null,0]
["165","Caryer",null,null,null,0,0,null,null,null,null,null,null,0]
["170","Orme",null,null,null,0,0,null,null,null,null,null,null,0]
["180","Ostryer de Virginie",null,null,null,0,0,null,null,null,null,null,null,0]
["110","Cerisier tardif",null,null,null,0,0,null,null,null,null,null,null,0]
["210","Tilleul d’Amérique",null,null,null,0,0,null,null,null,null,null,null,0]
["041","Pin blanc",null,null,null,0,0,null,null,null,null,null,null,0]
["042","Pin rouge",null,null,null,0,0,null,null,null,null,null,null,0]
["050","Pruche de l’Est",null,null,null,0,0,null,null,null,null,null,null,0]
["080","Thuya occidental",null,null,null,0,0,null,null,null,null,null,null,0]
[null,null,null,null,null,null,null,null,null,null,null,null,null,0]
[null,null,null,null,null,null,null,null,null,null,null,null,null,0]
[null,null,null,null,null,null,null,null,null,null,null,null,null,0]
[null,null,null,null,null,null,null,null,null,null,null,null,null,0]
[null,null,null,null,null,null,null,null,null,null,null,null,null,0]
[null,null,null,null,null,null,null,null,null,null,null,null,null,0]
[null,null,null,null,null,null,null,null,null,null,null,null,null,0]
[null,null,null,null,null,null,null,null,null,null,null,null,null,0]
[null,null,null,null,null,null,null,null,null,null,null,null,null,0]
[null,null,null,null,null,null,null,null,null,null,null,null,null,0]
[null,null,null,null,null,null,null,null,null,null,null,null,null,0]
[null,null,null,null,null,null,null,null,null,null,null,null,null,0]
[null,null,null,null,null,null,null,null,null,null,null,null,null,0]
[null,null,null,null,null,null,null,null,null,null,null,null,null,0]
[null,null,null,null,null,null,null,null,null,null,null,null,null,0]
[null,null,null,null,null,null,null,null,null,null,null,null,null,0]
[null,null,null,null,null,null,null,null,null,null,null,null,null,0]
[null,null,null,null,null,null,null,null,null,null,null,null,null,0]
[null,null,null,null,null,null,null,null,null,null,null,null,null,0]
[null,null,null,null,null,null,null,null,null,null,null,null,null,0]
[null,null,null,null,null,null,null,null,null,null,null,null,null,0]
[null,null,null,null,null,null,null,null,null,null,null,null,null,0]
[null,null,null,null,null,null,null,null,null,null,null,null,null,0]
[null,null,null,null,null,null,null,null,null,null,null,null,null,0]
[null,null,null,null,null,null,null,null,null,null,null,null,null,0]
[null,null,null,null,null,null,null,null,null,null,null,null,null,0]
[null,null,null,null,null,null,null,null,null,null,null,null,null,0]
[null,null,null,null,null,null,null,null,null,null,null,null,null,0]
[null,null,null,null,null,null,null,null,null,null,null,null,null,0]
[null,null,null,null,null,null,null,null,null,null,null,null,null,0]
[null,null,null,null,null,null,null,null,null,null,null,null,null,0]
[null,null,null,null,null,null,null,null,null,null,null,null,null,0]
[null,null,null,null,null,null,null,null,null,null,null,null,null,0]
[null,null,null,null,null,null,null,null,null,null,null,null,null,0]
[null,null,null,null,null,null,null,null,null,null,null,null,null,0]
[null,null,null,null,null,null,null,null,null,null,null,null,null,0]
[null,null,null,null,null,null,null,null,null,null,null,null,null,0]
[null,null,null,null,null,null,null,null,null,null,null,null,null,0]
[{"$f":"IF($N2<>0,A2,\"\")","v":""},"","","","","","","","","","","",null,0]
[{"$f":"IF($N3<>0,A3,\"\")","v":""},"","","","","","","","","","","",null,0]
[{"$f":"IF($N4<>0,A4,\"\")","v":""},"","","","","","","","","","","",null,0]
[{"$f":"IF($N5<>0,A5,\"\")","v":""},"","","","","","","","","","","",null,0]
[{"$f":"IF($N6<>0,A6,\"\")","v":""},"","","","","","","","","","","",null,0]
[{"$f":"IF($N7<>0,A7,\"\")","v":""},"","","","","","","","","","","",null,0]
[{"$f":"IF($N8<>0,A8,\"\")","v":""},"","","","","","","","","","","",null,0]
[{"$f":"IF($N9<>0,A9,\"\")","v":""},"","","","","","","","","","","",null,0]
[{"$f":"IF($N10<>0,A10,\"\")","v":""},"","","","","","","","","","","",null,{"$f":"IF(A642<>\"\",+L642+G642,0)","v":0}]
[{"$f":"IF($N11<>0,A11,\"\")","v":""},"","","","","","","","","","","",null,0]
[{"$f":"IF($N12<>0,A12,\"\")","v":""},"","","","","","","","","","","",null,0]
[{"$f":"IF($N13<>0,A13,\"\")","v":""},"","","","","","","","","","","",null,0]
[{"$f":"IF($N14<>0,A14,\"\")","v":""},"","","","","","","","","","","",null,0]
[{"$f":"IF($N15<>0,A15,\"\")","v":""},"","","","","","","","","","","",null,0]
[{"$f":"IF($N16<>0,A16,\"\")","v":""},"","","","","","","","","","","",null,0]
[{"$f":"IF($N17<>0,A17,\"\")","v":""},"","","","","","","","","","","",null,0]
[{"$f":"IF($N18<>0,A18,\"\")","v":""},"","","","","","","","","","","",null,0]
[{"$f":"IF($N19<>0,A19,\"\")","v":""},"","","","","","","","","","","",null,0]
[{"$f":"IF($N20<>0,A20,\"\")","v":""},"","","","","","","","","","","",null,0]
[{"$f":"IF($N21<>0,A21,\"\")","v":""},"","","","","","","","","","","",null,0]
[{"$f":"IF($N22<>0,A22,\"\")","v":""},"","","","","","","","","","","",null,0]
[{"$f":"IF($N23<>0,A23,\"\")","v":""},"","","","","","","","","","","",null,0]
[{"$f":"IF($N24<>0,A24,\"\")","v":""},"","","","","","","","","","","",null,0]
[{"$f":"IF($N25<>0,A25,\"\")","v":""},"","","","","","","","","","","",null,0]
[{"$f":"IF($N26<>0,A26,\"\")","v":""},"","","","","","","","","","","",null,0]
[{"$f":"IF($N27<>0,A27,\"\")","v":""},"","","","","","","","","","","",null,0]
[{"$f":"IF($N28<>0,A28,\"\")","v":""},"","","","","","","","","","","",null,0]
[{"$f":"IF($N29<>0,A29,\"\")","v":""},"","","","","","","","","","","",null,0]
[{"$f":"IF($N30<>0,A30,\"\")","v":""},"","","","","","","","","","","",null,0]
[{"$f":"IF($N31<>0,A31,\"\")","v":""},"","","","","","","","","","","",null,0]
[{"$f":"IF($N32<>0,A32,\"\")","v":""},"","","","","","","","","","","",null,0]
[{"$f":"IF($N33<>0,A33,\"\")","v":""},"","","","","","","","","","","",null,0]
[{"$f":"IF($N34<>0,A34,\"\")","v":""},"","","","","","","","","","","",null,0]
[{"$f":"IF($N35<>0,A35,\"\")","v":""},"","","","","","","","","","","",null,0]
[{"$f":"IF($N36<>0,A36,\"\")","v":""},"","","","","","","","","","","",null,0]
[{"$f":"IF($N37<>0,A37,\"\")","v":""},"","","","","","","","","","","",null,0]
[{"$f":"IF($N38<>0,A38,\"\")","v":""},"","","","","","","","","","","",null,0]
[{"$f":"IF($N39<>0,A39,\"\")","v":""},"","","","","","","","","","","",null,0]
[{"$f":"IF($N40<>0,A40,\"\")","v":""},"","","","","","","","","","","",null,0]
[{"$f":"IF($N41<>0,A41,\"\")","v":""},"","","","","","","","","","","",null,0]
[{"$f":"IF($N42<>0,A42,\"\")","v":""},"","","","","","","","","","","",null,0]
[{"$f":"IF($N43<>0,A43,\"\")","v":""},"","","","","","","","","","","",null,0]
[{"$f":"IF($N44<>0,A44,\"\")","v":""},"","","","","","","","","","","",null,0]
[{"$f":"IF($N45<>0,A45,\"\")","v":""},"","","","","","","","","","","",null,0]
[{"$f":"IF($N46<>0,A46,\"\")","v":""},"","","","","","","","","","","",null,0]
[{"$f":"IF($N47<>0,A47,\"\")","v":""},"","","","","","","","","","","",null,0]
[{"$f":"IF($N48<>0,A48,\"\")","v":""},"","","","","","","","","","","",null,0]
[{"$f":"IF($N49<>0,A49,\"\")","v":""},"","","","","","","","","","","",null,0]
[{"$f":"IF($N50<>0,A50,\"\")","v":""},"","","","","","","","","","","",null,0]
[{"$f":"IF($N51<>0,A51,\"\")","v":""},"","","","","","","","","","","",null,0]
[{"$f":"IF($N52<>0,A52,\"\")","v":""},"","","","","","","","","","","",null,0]
[{"$f":"IF($N53<>0,A53,\"\")","v":""},"","","","","","","","","","","",null,0]
[{"$f":"IF($N54<>0,A54,\"\")","v":""},"","","","","","","","","","","",null,0]
[{"$f":"IF($N55<>0,A55,\"\")","v":""},"","","","","","","","","","","",null,0]
[{"$f":"IF($N56<>0,A56,\"\")","v":""},"","","","","","","","","","","",null,0]
[{"$f":"IF($N57<>0,A57,\"\")","v":""},"","","","","","","","","","","",null,0]
[{"$f":"IF($N58<>0,A58,\"\")","v":""},"","","","","","","","","","","",null,0]
[{"$f":"IF($N59<>0,A59,\"\")","v":""},"","","","","","","","","","","",null,0]
[{"$f":"IF($N60<>0,A60,\"\")","v":""},"","","","","","","","","","","",null,0]
[{"$f":"IF($N61<>0,A61,\"\")","v":""},"","","","","","","","","","","",null,0]
[{"$f":"IF($N62<>0,A62,\"\")","v":""},"","","","","","","","","","","",null,0]
[{"$f":"IF($N63<>0,A63,\"\")","v":""},"","","","","","","","","","","",null,0]
[{"$f":"IF($N64<>0,A64,\"\")","v":""},"","","","","","","","","","","",null,0]
[{"$f":"IF($N65<>0,A65,\"\")","v":""},"","","","","","","","","","","",null,0]
[{"$f":"IF($N66<>0,A66,\"\")","v":""},"","","","","","","","","","","",null,0]
[{"$f":"IF($N67<>0,A67,\"\")","v":""},"","","","","","","","","","","",null,0]
[{"$f":"IF($N68<>0,A68,\"\")","v":""},"","","","","","","","","","","",null,0]
[{"$f":"IF($N69<>0,A69,\"\")","v":""},"","","","","","","","","","","",null,0]
[{"$f":"IF($N70<>0,A70,\"\")","v":""},"","","","","","","","","","","",null,0]
[{"$f":"IF($N71<>0,A71,\"\")","v":""},"","","","","","","","","","","",null,0]
[{"$f":"IF($N72<>0,A72,\"\")","v":""},"","","","","","","","","","","",null,0]
[{"$f":"IF($N73<>0,A73,\"\")","v":""},"","","","","","","","","","","",null,0]
[{"$f":"IF($N74<>0,A74,\"\")","v":""},"","","","","","","","","","","",null,{"$f":"IF(A706<>\"\",+L706+G706,0)","v":0}]
[{"$f":"IF($N75<>0,A75,\"\")","v":""},"","","","","","","","","","","",null,0]
[{"$f":"IF($N76<>0,A76,\"\")","v":""},"","","","","","","","","","","",null,0]
[{"$f":"IF($N77<>0,A77,\"\")","v":""},"","","","","","","","","","","",null,0]
[{"$f":"IF($N78<>0,A78,\"\")","v":""},"","","","","","","","","","","",null,0]
[{"$f":"IF($N79<>0,A79,\"\")","v":""},"","","","","","","","","","","",null,0]
[{"$f":"IF($N80<>0,A80,\"\")","v":""},"","","","","","","","","","","",null,0]
[{"$f":"IF($N81<>0,A81,\"\")","v":""},"","","","","","","","","","","",null,0]
[{"$f":"IF($N82<>0,A82,\"\")","v":""},"","","","","","","","","","","",null,0]
[{"$f":"IF($N83<>0,A83,\"\")","v":""},"","","","","","","","","","","",null,0]
[{"$f":"IF($N84<>0,A84,\"\")","v":""},"","","","","","","","","","","",null,0]
[{"$f":"IF($N85<>0,A85,\"\")","v":""},"","","","","","","","","","","",null,0]
[{"$f":"IF($N86<>0,A86,\"\")","v":""},"","","","","","","","","","","",null,0]
[{"$f":"IF($N87<>0,A87,\"\")","v":""},"","","","","","","","","","","",null,0]
[{"$f":"IF($N88<>0,A88,\"\")","v":""},"","","","","","","","","","","",null,0]
[{"$f":"IF($N89<>0,A89,\"\")","v":""},"","","","","","","","","","","",null,0]
[{"$f":"IF($N90<>0,A90,\"\")","v":""},"","","","","","","","","","","",null,0]
[{"$f":"IF($N91<>0,A91,\"\")","v":""},"","","","","","","","","","","",null,0]
[{"$f":"IF($N92<>0,A92,\"\")","v":""},"","","","","","","","","","","",null,0]
[{"$f":"IF($N93<>0,A93,\"\")","v":""},"","","","","","","","","","","",null,0]
[{"$f":"IF($N94<>0,A94,\"\")","v":""},"","","","","","","","","","","",null,0]
[{"$f":"IF($N95<>0,A95,\"\")","v":""},"","","","","","","","","","","",null,0]
[{"$f":"IF($N96<>0,A96,\"\")","v":""},"","","","","","","","","","","",null,0]
[{"$f":"IF($N97<>0,A97,\"\")","v":""},"","","","","","","","","","","",null,0]
[{"$f":"IF($N98<>0,A98,\"\")","v":""},"","","","","","","","","","","",null,0]
[{"$f":"IF($N99<>0,A99,\"\")","v":""},"","","","","","","","","","","",null,0]
[{"$f":"IF($N100<>0,A100,\"\")","v":""},"","","","","","","","","","","",null,0]
[{"$f":"IF($N101<>0,A101,\"\")","v":""},"","","","","","","","","","","",null,0]
[{"$f":"IF($N102<>0,A102,\"\")","v":""},"","","","","","","","","","","",null,0]
[{"$f":"IF($N103<>0,A103,\"\")","v":""},"","","","","","","","","","","",null,0]
[{"$f":"IF($N104<>0,A104,\"\")","v":""},"","","","","","","","","","","",null,0]
[{"$f":"IF($N105<>0,A105,\"\")","v":""},"","","","","","","","","","","",null,0]
[{"$f":"IF($N106<>0,A106,\"\")","v":""},"","","","","","","","","","","",null,0]
[{"$f":"IF($N107<>0,A107,\"\")","v":""},"","","","","","","","","","","",null,0]
[{"$f":"IF($N108<>0,A108,\"\")","v":""},"","","","","","","","","","","",null,0]
[{"$f":"IF($N109<>0,A109,\"\")","v":""},"","","","","","","","","","","",null,0]
[{"$f":"IF($N110<>0,A110,\"\")","v":""},"","","","","","","","","","","",null,0]
[{"$f":"IF($N111<>0,A111,\"\")","v":""},"","","","","","","","","","","",null,0]
[{"$f":"IF($N112<>0,A112,\"\")","v":""},"","","","","","","","","","","",null,0]
[{"$f":"IF($N113<>0,A113,\"\")","v":""},"","","","","","","","","","","",null,0]
[{"$f":"IF($N114<>0,A114,\"\")","v":""},"","","","","","","","","","","",null,0]
[{"$f":"IF($N115<>0,A115,\"\")","v":""},"","","","","","","","","","","",null,0]
[{"$f":"IF($N116<>0,A116,\"\")","v":""},"","","","","","","","","","","",null,0]
[{"$f":"IF($N117<>0,A117,\"\")","v":""},"","","","","","","","","","","",null,0]
[{"$f":"IF($N118<>0,A118,\"\")","v":""},"","","","","","","","","","","",null,0]
[{"$f":"IF($N119<>0,A119,\"\")","v":""},"","","","","","","","","","","",null,0]
[{"$f":"IF($N120<>0,A120,\"\")","v":""},"","","","","","","","","","","",null,0]
[{"$f":"IF($N121<>0,A121,\"\")","v":""},"","","","","","","","","","","",null,0]
[{"$f":"IF($N122<>0,A122,\"\")","v":""},"","","","","","","","","","","",null,0]
[{"$f":"IF($N123<>0,A123,\"\")","v":""},"","","","","","","","","","","",null,0]
[{"$f":"IF($N124<>0,A124,\"\")","v":""},"","","","","","","","","","","",null,0]
[{"$f":"IF($N125<>0,A125,\"\")","v":""},"","","","","","","","","","","",null,0]
[{"$f":"IF($N126<>0,A126,\"\")","v":""},"","","","","","","","","","","",null,0]
[{"$f":"IF($N127<>0,A127,\"\")","v":""},"","","","","","","","","","","",null,0]
[{"$f":"IF($N128<>0,A128,\"\")","v":""},"","","","","","","","","","","",null,0]
[{"$f":"IF($N129<>0,A129,\"\")","v":""},"","","","","","","","","","","",null,0]
[{"$f":"IF($N130<>0,A130,\"\")","v":""},"","","","","","","","","","","",null,0]
[{"$f":"IF($N131<>0,A131,\"\")","v":""},"","","","","","","","","","","",null,0]
[{"$f":"IF($N132<>0,A132,\"\")","v":""},"","","","","","","","","","","",null,0]
[{"$f":"IF($N133<>0,A133,\"\")","v":""},"","","","","","","","","","","",null,0]
[{"$f":"IF($N134<>0,A134,\"\")","v":""},"","","","","","","","","","","",null,0]
[{"$f":"IF($N135<>0,A135,\"\")","v":""},"","","","","","","","","","","",null,0]
[{"$f":"IF($N136<>0,A136,\"\")","v":""},"","","","","","","","","","","",null,0]
[{"$f":"IF($N137<>0,A137,\"\")","v":""},"","","","","","","","","","","",null,0]
[{"$f":"IF($N138<>0,A138,\"\")","v":""},"","","","","","","","","","","",null,{"$f":"IF(A770<>\"\",+L770+G770,0)","v":0}]
[{"$f":"IF($N139<>0,A139,\"\")","v":""},"","","","","","","","","","","",null,0]
[{"$f":"IF($N140<>0,A140,\"\")","v":""},"","","","","","","","","","","",null,0]
[{"$f":"IF($N141<>0,A141,\"\")","v":""},"","","","","","","","","","","",null,0]
[{"$f":"IF($N142<>0,A142,\"\")","v":""},"","","","","","","","","","","",null,0]
[{"$f":"IF($N143<>0,A143,\"\")","v":""},"","","","","","","","","","","",null,0]
[{"$f":"IF($N144<>0,A144,\"\")","v":""},"","","","","","","","","","","",null,0]
[{"$f":"IF($N145<>0,A145,\"\")","v":""},"","","","","","","","","","","",null,0]
[{"$f":"IF($N146<>0,A146,\"\")","v":""},"","","","","","","","","","","",null,0]
[{"$f":"IF($N147<>0,A147,\"\")","v":""},"","","","","","","","","","","",null,0]
[{"$f":"IF($N148<>0,A148,\"\")","v":""},"","","","","","","","","","","",null,0]
[{"$f":"IF($N149<>0,A149,\"\")","v":""},"","","","","","","","","","","",null,0]
[{"$f":"IF($N150<>0,A150,\"\")","v":""},"","","","","","","","","","","",null,0]
[{"$f":"IF($N151<>0,A151,\"\")","v":""},"","","","","","","","","","","",null,0]
[{"$f":"IF($N152<>0,A152,\"\")","v":""},"","","","","","","","","","","",null,0]
[{"$f":"IF($N153<>0,A153,\"\")","v":""},"","","","","","","","","","","",null,0]
[{"$f":"IF($N154<>0,A154,\"\")","v":""},"","","","","","","","","","","",null,0]
[{"$f":"IF($N155<>0,A155,\"\")","v":""},"","","","","","","","","","","",null,0]
[{"$f":"IF($N156<>0,A156,\"\")","v":""},"","","","","","","","","","","",null,0]
[{"$f":"IF($N157<>0,A157,\"\")","v":""},"","","","","","","","","","","",null,0]
[{"$f":"IF($N158<>0,A158,\"\")","v":""},"","","","","","","","","","","",null,0]
[{"$f":"IF($N159<>0,A159,\"\")","v":""},"","","","","","","","","","","",null,0]
[{"$f":"IF($N160<>0,A160,\"\")","v":""},"","","","","","","","","","","",null,0]
[{"$f":"IF($N161<>0,A161,\"\")","v":""},"","","","","","","","","","","",null,0]
[{"$f":"IF($N162<>0,A162,\"\")","v":""},"","","","","","","","","","","",null,0]
[{"$f":"IF($N163<>0,A163,\"\")","v":""},"","","","","","","","","","","",null,0]
[{"$f":"IF($N164<>0,A164,\"\")","v":""},"","","","","","","","","","","",null,0]
[{"$f":"IF($N165<>0,A165,\"\")","v":""},"","","","","","","","","","","",null,0]
[{"$f":"IF($N166<>0,A166,\"\")","v":""},"","","","","","","","","","","",null,0]
[{"$f":"IF($N167<>0,A167,\"\")","v":""},"","","","","","","","","","","",null,0]
[{"$f":"IF($N168<>0,A168,\"\")","v":""},"","","","","","","","","","","",null,0]
[{"$f":"IF($N169<>0,A169,\"\")","v":""},"","","","","","","","","","","",null,0]
[{"$f":"IF($N170<>0,A170,\"\")","v":""},"","","","","","","","","","","",null,0]
[{"$f":"IF($N171<>0,A171,\"\")","v":""},"","","","","","","","","","","",null,0]
[{"$f":"IF($N172<>0,A172,\"\")","v":""},"","","","","","","","","","","",null,0]
[{"$f":"IF($N173<>0,A173,\"\")","v":""},"","","","","","","","","","","",null,0]
[{"$f":"IF($N174<>0,A174,\"\")","v":""},"","","","","","","","","","","",null,0]
[{"$f":"IF($N175<>0,A175,\"\")","v":""},"","","","","","","","","","","",null,0]
[{"$f":"IF($N176<>0,A176,\"\")","v":""},"","","","","","","","","","","",null,0]
[{"$f":"IF($N177<>0,A177,\"\")","v":""},"","","","","","","","","","","",null,0]
[{"$f":"IF($N178<>0,A178,\"\")","v":""},"","","","","","","","","","","",null,0]
[{"$f":"IF($N179<>0,A179,\"\")","v":""},"","","","","","","","","","","",null,0]
[{"$f":"IF($N180<>0,A180,\"\")","v":""},"","","","","","","","","","","",null,0]
[{"$f":"IF($N181<>0,A181,\"\")","v":""},"","","","","","","","","","","",null,0]
[{"$f":"IF($N182<>0,A182,\"\")","v":""},"","","","","","","","","","","",null,0]
[{"$f":"IF($N183<>0,A183,\"\")","v":""},"","","","","","","","","","","",null,0]
[{"$f":"IF($N184<>0,A184,\"\")","v":""},"","","","","","","","","","","",null,0]
[{"$f":"IF($N185<>0,A185,\"\")","v":""},"","","","","","","","","","","",null,0]
[{"$f":"IF($N186<>0,A186,\"\")","v":""},"","","","","","","","","","","",null,0]
[{"$f":"IF($N187<>0,A187,\"\")","v":""},"","","","","","","","","","","",null,0]
[{"$f":"IF($N188<>0,A188,\"\")","v":""},"","","","","","","","","","","",null,0]
[{"$f":"IF($N189<>0,A189,\"\")","v":""},"","","","","","","","","","","",null,0]
[{"$f":"IF($N190<>0,A190,\"\")","v":""},"","","","","","","","","","","",null,0]
[{"$f":"IF($N191<>0,A191,\"\")","v":""},"","","","","","","","","","","",null,0]
[{"$f":"IF($N192<>0,A192,\"\")","v":""},"","","","","","","","","","","",null,0]
[{"$f":"IF($N193<>0,A193,\"\")","v":""},"","","","","","","","","","","",null,0]
[{"$f":"IF($N194<>0,A194,\"\")","v":""},"","","","","","","","","","","",null,0]
[{"$f":"IF($N195<>0,A195,\"\")","v":""},"","","","","","","","","","","",null,0]
[{"$f":"IF($N196<>0,A196,\"\")","v":""},"","","","","","","","","","","",null,0]
[{"$f":"IF($N197<>0,A197,\"\")","v":""},"","","","","","","","","","","",null,0]
[{"$f":"IF($N198<>0,A198,\"\")","v":""},"","","","","","","","","","","",null,0]
[{"$f":"IF($N199<>0,A199,\"\")","v":""},"","","","","","","","","","","",null,0]
[{"$f":"IF($N200<>0,A200,\"\")","v":""},"","","","","","","","","","","",null,0]
[{"$f":"IF($N201<>0,A201,\"\")","v":""},"","","","","","","","","","","",null,0]
[{"$f":"IF($N202<>0,A202,\"\")","v":""},"","","","","","","","","","","",null,{"$f":"IF(A834<>\"\",+L834+G834,0)","v":0}]
[{"$f":"IF($N203<>0,A203,\"\")","v":""},"","","","","","","","","","","",null,0]
[{"$f":"IF($N204<>0,A204,\"\")","v":""},"","","","","","","","","","","",null,0]
[{"$f":"IF($N205<>0,A205,\"\")","v":""},"","","","","","","","","","","",null,0]
[{"$f":"IF($N206<>0,A206,\"\")","v":""},"","","","","","","","","","","",null,0]
[{"$f":"IF($N207<>0,A207,\"\")","v":""},"","","","","","","","","","","",null,0]
[{"$f":"IF($N208<>0,A208,\"\")","v":""},"","","","","","","","","","","",null,0]
[{"$f":"IF($N209<>0,A209,\"\")","v":""},"","","","","","","","","","","",null,0]
[{"$f":"IF($N210<>0,A210,\"\")","v":""},"","","","","","","","","","","",null,0]
[{"$f":"IF($N211<>0,A211,\"\")","v":""},"","","","","","","","","","","",null,0]
[{"$f":"IF($N212<>0,A212,\"\")","v":""},"","","","","","","","","","","",null,0]
[{"$f":"IF($N213<>0,A213,\"\")","v":""},"","","","","","","","","","","",null,0]
[{"$f":"IF($N214<>0,A214,\"\")","v":""},"","","","","","","","","","","",null,0]
[{"$f":"IF($N215<>0,A215,\"\")","v":""},"","","","","","","","","","","",null,0]
[{"$f":"IF($N216<>0,A216,\"\")","v":""},"","","","","","","","","","","",null,0]
[{"$f":"IF($N217<>0,A217,\"\")","v":""},"","","","","","","","","","","",null,0]
[{"$f":"IF($N218<>0,A218,\"\")","v":""},"","","","","","","","","","","",null,0]
[{"$f":"IF($N219<>0,A219,\"\")","v":""},"","","","","","","","","","","",null,0]
[{"$f":"IF($N220<>0,A220,\"\")","v":""},"","","","","","","","","","","",null,0]
[{"$f":"IF($N221<>0,A221,\"\")","v":""},"","","","","","","","","","","",null,0]
[{"$f":"IF($N222<>0,A222,\"\")","v":""},"","","","","","","","","","","",null,0]
[{"$f":"IF($N223<>0,A223,\"\")","v":""},"","","","","","","","","","","",null,0]
[{"$f":"IF($N224<>0,A224,\"\")","v":""},"","","","","","","","","","","",null,0]
[{"$f":"IF($N225<>0,A225,\"\")","v":""},"","","","","","","","","","","",null,0]
[{"$f":"IF($N226<>0,A226,\"\")","v":""},"","","","","","","","","","","",null,0]
[{"$f":"IF($N227<>0,A227,\"\")","v":""},"","","","","","","","","","","",null,0]
[{"$f":"IF($N228<>0,A228,\"\")","v":""},"","","","","","","","","","","",null,0]
[{"$f":"IF($N229<>0,A229,\"\")","v":""},"","","","","","","","","","","",null,0]
[{"$f":"IF($N230<>0,A230,\"\")","v":""},"","","","","","","","","","","",null,0]
[{"$f":"IF($N231<>0,A231,\"\")","v":""},"","","","","","","","","","","",null,0]
[{"$f":"IF($N232<>0,A232,\"\")","v":""},"","","","","","","","","","","",null,0]
[{"$f":"IF($N233<>0,A233,\"\")","v":""},"","","","","","","","","","","",null,0]
[{"$f":"IF($N234<>0,A234,\"\")","v":""},"","","","","","","","","","","",null,0]
[{"$f":"IF($N235<>0,A235,\"\")","v":""},"","","","","","","","","","","",null,0]
[{"$f":"IF($N236<>0,A236,\"\")","v":""},"","","","","","","","","","","",null,0]
[{"$f":"IF($N237<>0,A237,\"\")","v":""},"","","","","","","","","","","",null,0]
[{"$f":"IF($N238<>0,A238,\"\")","v":""},"","","","","","","","","","","",null,0]
[{"$f":"IF($N239<>0,A239,\"\")","v":""},"","","","","","","","","","","",null,0]
[{"$f":"IF($N240<>0,A240,\"\")","v":""},"","","","","","","","","","","",null,0]
[{"$f":"IF($N241<>0,A241,\"\")","v":""},"","","","","","","","","","","",null,0]
[{"$f":"IF($N242<>0,A242,\"\")","v":""},"","","","","","","","","","","",null,0]
[{"$f":"IF($N243<>0,A243,\"\")","v":""},"","","","","","","","","","","",null,0]
[{"$f":"IF($N244<>0,A244,\"\")","v":""},"","","","","","","","","","","",null,0]
[{"$f":"IF($N245<>0,A245,\"\")","v":""},"","","","","","","","","","","",null,0]
[{"$f":"IF($N246<>0,A246,\"\")","v":""},"","","","","","","","","","","",null,0]
[{"$f":"IF($N247<>0,A247,\"\")","v":""},"","","","","","","","","","","",null,0]
[{"$f":"IF($N248<>0,A248,\"\")","v":""},"","","","","","","","","","","",null,0]
[{"$f":"IF($N249<>0,A249,\"\")","v":""},"","","","","","","","","","","",null,0]
[{"$f":"IF($N250<>0,A250,\"\")","v":""},"","","","","","","","","","","",null,0]
[{"$f":"IF($N251<>0,A251,\"\")","v":""},"","","","","","","","","","","",null,0]
[{"$f":"IF($N252<>0,A252,\"\")","v":""},"","","","","","","","","","","",null,0]
[{"$f":"IF($N253<>0,A253,\"\")","v":""},"","","","","","","","","","","",null,0]
[{"$f":"IF($N254<>0,A254,\"\")","v":""},"","","","","","","","","","","",null,0]
[{"$f":"IF($N255<>0,A255,\"\")","v":""},"","","","","","","","","","","",null,0]
[{"$f":"IF($N256<>0,A256,\"\")","v":""},"","","","","","","","","","","",null,0]
[{"$f":"IF($N257<>0,A257,\"\")","v":""},"","","","","","","","","","","",null,0]
[{"$f":"IF($N258<>0,A258,\"\")","v":""},"","","","","","","","","","","",null,0]
[{"$f":"IF($N259<>0,A259,\"\")","v":""},"","","","","","","","","","","",null,0]
[{"$f":"IF($N260<>0,A260,\"\")","v":""},"","","","","","","","","","","",null,0]
[{"$f":"IF($N261<>0,A261,\"\")","v":""},"","","","","","","","","","","",null,0]
[{"$f":"IF($N262<>0,A262,\"\")","v":""},"","","","","","","","","","","",null,0]
[{"$f":"IF($N263<>0,A263,\"\")","v":""},"","","","","","","","","","","",null,0]
[{"$f":"IF($N264<>0,A264,\"\")","v":""},"","","","","","","","","","","",null,0]
[{"$f":"IF($N265<>0,A265,\"\")","v":""},"","","","","","","","","","","",null,0]
[{"$f":"IF($N266<>0,A266,\"\")","v":""},"","","","","","","","","","","",null,{"$f":"IF(A898<>\"\",+L898+G898,0)","v":0}]
[{"$f":"IF($N267<>0,A267,\"\")","v":""},"","","","","","","","","","","",null,0]
[{"$f":"IF($N268<>0,A268,\"\")","v":""},"","","","","","","","","","","",null,0]
[{"$f":"IF($N269<>0,A269,\"\")","v":""},"","","","","","","","","","","",null,0]
[{"$f":"IF($N270<>0,A270,\"\")","v":""},"","","","","","","","","","","",null,0]
[{"$f":"IF($N271<>0,A271,\"\")","v":""},"","","","","","","","","","","",null,0]
[{"$f":"IF($N272<>0,A272,\"\")","v":""},"","","","","","","","","","","",null,0]
[{"$f":"IF($N273<>0,A273,\"\")","v":""},"","","","","","","","","","","",null,0]
[{"$f":"IF($N274<>0,A274,\"\")","v":""},"","","","","","","","","","","",null,0]
[{"$f":"IF($N275<>0,A275,\"\")","v":""},"","","","","","","","","","","",null,0]
[{"$f":"IF($N276<>0,A276,\"\")","v":""},"","","","","","","","","","","",null,0]
[{"$f":"IF($N277<>0,A277,\"\")","v":""},"","","","","","","","","","","",null,0]
[{"$f":"IF($N278<>0,A278,\"\")","v":""},"","","","","","","","","","","",null,0]
[{"$f":"IF($N279<>0,A279,\"\")","v":""},"","","","","","","","","","","",null,0]
[{"$f":"IF($N280<>0,A280,\"\")","v":""},"","","","","","","","","","","",null,0]
[{"$f":"IF($N281<>0,A281,\"\")","v":""},"","","","","","","","","","","",null,0]
[{"$f":"IF($N282<>0,A282,\"\")","v":""},"","","","","","","","","","","",null,0]
[{"$f":"IF($N283<>0,A283,\"\")","v":""},"","","","","","","","","","","",null,0]
[{"$f":"IF($N284<>0,A284,\"\")","v":""},"","","","","","","","","","","",null,0]
[{"$f":"IF($N285<>0,A285,\"\")","v":""},"","","","","","","","","","","",null,0]
[{"$f":"IF($N286<>0,A286,\"\")","v":""},"","","","","","","","","","","",null,0]
[{"$f":"IF($N287<>0,A287,\"\")","v":""},"","","","","","","","","","","",null,0]
[{"$f":"IF($N288<>0,A288,\"\")","v":""},"","","","","","","","","","","",null,0]
[{"$f":"IF($N289<>0,A289,\"\")","v":""},"","","","","","","","","","","",null,0]
[{"$f":"IF($N290<>0,A290,\"\")","v":""},"","","","","","","","","","","",null,0]
[{"$f":"IF($N291<>0,A291,\"\")","v":""},"","","","","","","","","","","",null,0]
[{"$f":"IF($N292<>0,A292,\"\")","v":""},"","","","","","","","","","","",null,0]
[{"$f":"IF($N293<>0,A293,\"\")","v":""},"","","","","","","","","","","",null,0]
[{"$f":"IF($N294<>0,A294,\"\")","v":""},"","","","","","","","","","","",null,0]
[{"$f":"IF($N295<>0,A295,\"\")","v":""},"","","","","","","","","","","",null,0]
[{"$f":"IF($N296<>0,A296,\"\")","v":""},"","","","","","","","","","","",null,0]
[{"$f":"IF($N297<>0,A297,\"\")","v":""},"","","","","","","","","","","",null,0]
[{"$f":"IF($N298<>0,A298,\"\")","v":""},"","","","","","","","","","","",null,0]
[{"$f":"IF($N299<>0,A299,\"\")","v":""},"","","","","","","","","","","",null,0]
[{"$f":"IF($N300<>0,A300,\"\")","v":""},"","","","","","","","","","","",null,0]
[{"$f":"IF($N301<>0,A301,\"\")","v":""},"","","","","","","","","","","",null,0]
[{"$f":"IF($N302<>0,A302,\"\")","v":""},"","","","","","","","","","","",null,0]
[{"$f":"IF($N303<>0,A303,\"\")","v":""},"","","","","","","","","","","",null,0]
[{"$f":"IF($N304<>0,A304,\"\")","v":""},"","","","","","","","","","","",null,0]
[{"$f":"IF($N305<>0,A305,\"\")","v":""},"","","","","","","","","","","",null,0]
[{"$f":"IF($N306<>0,A306,\"\")","v":""},"","","","","","","","","","","",null,0]
[{"$f":"IF($N307<>0,A307,\"\")","v":""},"","","","","","","","","","","",null,0]
[{"$f":"IF($N308<>0,A308,\"\")","v":""},"","","","","","","","","","","",null,0]
[{"$f":"IF($N309<>0,A309,\"\")","v":""},"","","","","","","","","","","",null,0]
[{"$f":"IF($N310<>0,A310,\"\")","v":""},"","","","","","","","","","","",null,0]
[{"$f":"IF($N311<>0,A311,\"\")","v":""},"","","","","","","","","","","",null,0]
[{"$f":"IF($N312<>0,A312,\"\")","v":""},"","","","","","","","","","","",null,0]
[{"$f":"IF($N313<>0,A313,\"\")","v":""},"","","","","","","","","","","",null,0]
[{"$f":"IF($N314<>0,A314,\"\")","v":""},"","","","","","","","","","","",null,0]
[{"$f":"IF($N315<>0,A315,\"\")","v":""},"","","","","","","","","","","",null,0]
[{"$f":"IF($N316<>0,A316,\"\")","v":""},"","","","","","","","","","","",null,0]
[{"$f":"IF($N317<>0,A317,\"\")","v":""},"","","","","","","","","","","",null,0]
[{"$f":"IF($N318<>0,A318,\"\")","v":""},"","","","","","","","","","","",null,0]
[{"$f":"IF($N319<>0,A319,\"\")","v":""},"","","","","","","","","","","",null,0]
[{"$f":"IF($N320<>0,A320,\"\")","v":""},"","","","","","","","","","","",null,0]
[{"$f":"IF($N321<>0,A321,\"\")","v":""},"","","","","","","","","","","",null,0]
[{"$f":"IF($N322<>0,A322,\"\")","v":""},"","","","","","","","","","","",null,0]
[{"$f":"IF($N323<>0,A323,\"\")","v":""},"","","","","","","","","","","",null,0]
[{"$f":"IF($N324<>0,A324,\"\")","v":""},"","","","","","","","","","","",null,0]
[{"$f":"IF($N325<>0,A325,\"\")","v":""},"","","","","","","","","","","",null,0]
[{"$f":"IF($N326<>0,A326,\"\")","v":""},"","","","","","","","","","","",null,0]
[{"$f":"IF($N327<>0,A327,\"\")","v":""},"","","","","","","","","","","",null,0]
[{"$f":"IF($N328<>0,A328,\"\")","v":""},"","","","","","","","","","","",null,0]
[{"$f":"IF($N329<>0,A329,\"\")","v":""},"","","","","","","","","","","",null,0]
[{"$f":"IF($N330<>0,A330,\"\")","v":""},"","","","","","","","","","","",null,{"$f":"IF(A962<>\"\",+L962+G962,0)","v":0}]
[{"$f":"IF($N331<>0,A331,\"\")","v":""},"","","","","","","","","","","",null,0]
[{"$f":"IF($N332<>0,A332,\"\")","v":""},"","","","","","","","","","","",null,0]
[{"$f":"IF($N333<>0,A333,\"\")","v":""},"","","","","","","","","","","",null,0]
[{"$f":"IF($N334<>0,A334,\"\")","v":""},"","","","","","","","","","","",null,0]
[{"$f":"IF($N335<>0,A335,\"\")","v":""},"","","","","","","","","","","",null,0]
[{"$f":"IF($N336<>0,A336,\"\")","v":""},"","","","","","","","","","","",null,0]
[{"$f":"IF($N337<>0,A337,\"\")","v":""},"","","","","","","","","","","",null,0]
[{"$f":"IF($N338<>0,A338,\"\")","v":""},"","","","","","","","","","","",null,0]
[{"$f":"IF($N339<>0,A339,\"\")","v":""},"","","","","","","","","","","",null,0]
[{"$f":"IF($N340<>0,A340,\"\")","v":""},"","","","","","","","","","","",null,0]
[{"$f":"IF($N341<>0,A341,\"\")","v":""},"","","","","","","","","","","",null,0]
[{"$f":"IF($N342<>0,A342,\"\")","v":""},"","","","","","","","","","","",null,0]
[{"$f":"IF($N343<>0,A343,\"\")","v":""},"","","","","","","","","","","",null,0]
[{"$f":"IF($N344<>0,A344,\"\")","v":""},"","","","","","","","","","","",null,0]
[{"$f":"IF($N345<>0,A345,\"\")","v":""},"","","","","","","","","","","",null,0]
[{"$f":"IF($N346<>0,A346,\"\")","v":""},"","","","","","","","","","","",null,0]
[{"$f":"IF($N347<>0,A347,\"\")","v":""},"","","","","","","","","","","",null,0]
[{"$f":"IF($N348<>0,A348,\"\")","v":""},"","","","","","","","","","","",null,0]
[{"$f":"IF($N349<>0,A349,\"\")","v":""},"","","","","","","","","","","",null,0]
[{"$f":"IF($N350<>0,A350,\"\")","v":""},"","","","","","","","","","","",null,0]
[{"$f":"IF($N351<>0,A351,\"\")","v":""},"","","","","","","","","","","",null,0]
[{"$f":"IF($N352<>0,A352,\"\")","v":""},"","","","","","","","","","","",null,0]
[{"$f":"IF($N353<>0,A353,\"\")","v":""},"","","","","","","","","","","",null,0]
[{"$f":"IF($N354<>0,A354,\"\")","v":""},"","","","","","","","","","","",null,0]
[{"$f":"IF($N355<>0,A355,\"\")","v":""},"","","","","","","","","","","",null,0]
[{"$f":"IF($N356<>0,A356,\"\")","v":""},"","","","","","","","","","","",null,0]
[{"$f":"IF($N357<>0,A357,\"\")","v":""},"","","","","","","","","","","",null,0]
[{"$f":"IF($N358<>0,A358,\"\")","v":""},"","","","","","","","","","","",null,0]
[{"$f":"IF($N359<>0,A359,\"\")","v":""},"","","","","","","","","","","",null,0]
[{"$f":"IF($N360<>0,A360,\"\")","v":""},"","","","","","","","","","","",null,0]
[{"$f":"IF($N361<>0,A361,\"\")","v":""},"","","","","","","","","","","",null,0]
[{"$f":"IF($N362<>0,A362,\"\")","v":""},"","","","","","","","","","","",null,0]
[{"$f":"IF($N363<>0,A363,\"\")","v":""},"","","","","","","","","","","",null,0]
[{"$f":"IF($N364<>0,A364,\"\")","v":""},"","","","","","","","","","","",null,0]
[{"$f":"IF($N365<>0,A365,\"\")","v":""},"","","","","","","","","","","",null,0]
[{"$f":"IF($N366<>0,A366,\"\")","v":""},"","","","","","","","","","","",null,0]
[{"$f":"IF($N367<>0,A367,\"\")","v":""},"","","","","","","","","","","",null,0]
[{"$f":"IF($N368<>0,A368,\"\")","v":""},"","","","","","","","","","","",null,0]
[{"$f":"IF($N369<>0,A369,\"\")","v":""},"","","","","","","","","","","",null,0]
[{"$f":"IF($N370<>0,A370,\"\")","v":""},"","","","","","","","","","","",null,0]
[{"$f":"IF($N371<>0,A371,\"\")","v":""},"","","","","","","","","","","",null,0]
[{"$f":"IF($N372<>0,A372,\"\")","v":""},"","","","","","","","","","","",null,0]
[{"$f":"IF($N373<>0,A373,\"\")","v":""},"","","","","","","","","","","",null,0]
[{"$f":"IF($N374<>0,A374,\"\")","v":""},"","","","","","","","","","","",null,0]
[{"$f":"IF($N375<>0,A375,\"\")","v":""},"","","","","","","","","","","",null,0]
[{"$f":"IF($N376<>0,A376,\"\")","v":""},"","","","","","","","","","","",null,0]
[{"$f":"IF($N377<>0,A377,\"\")","v":""},"","","","","","","","","","","",null,0]
[{"$f":"IF($N378<>0,A378,\"\")","v":""},"","","","","","","","","","","",null,0]
[{"$f":"IF($N379<>0,A379,\"\")","v":""},"","","","","","","","","","","",null,0]
[{"$f":"IF($N380<>0,A380,\"\")","v":""},"","","","","","","","","","","",null,0]
[{"$f":"IF($N381<>0,A381,\"\")","v":""},"","","","","","","","","","","",null,0]
[{"$f":"IF($N382<>0,A382,\"\")","v":""},"","","","","","","","","","","",null,0]
[{"$f":"IF($N383<>0,A383,\"\")","v":""},"","","","","","","","","","","",null,0]
[{"$f":"IF($N384<>0,A384,\"\")","v":""},"","","","","","","","","","","",null,0]
[{"$f":"IF($N385<>0,A385,\"\")","v":""},"","","","","","","","","","","",null,0]
[{"$f":"IF($N386<>0,A386,\"\")","v":""},"","","","","","","","","","","",null,0]
[{"$f":"IF($N387<>0,A387,\"\")","v":""},"","","","","","","","","","","",null,0]
[{"$f":"IF($N388<>0,A388,\"\")","v":""},"","","","","","","","","","","",null,0]
[{"$f":"IF($N389<>0,A389,\"\")","v":""},"","","","","","","","","","","",null,0]
[{"$f":"IF($N390<>0,A390,\"\")","v":""},"","","","","","","","","","","",null,0]
[{"$f":"IF($N391<>0,A391,\"\")","v":""},"","","","","","","","","","","",null,0]
[{"$f":"IF($N392<>0,A392,\"\")","v":""},"","","","","","","","","","","",null,0]
[{"$f":"IF($N393<>0,A393,\"\")","v":""},"","","","","","","","","","","",null,0]
[{"$f":"IF($N394<>0,A394,\"\")","v":""},"","","","","","","","","","","",null,{"$f":"IF(A1026<>\"\",+L1026+G1026,0)","v":0}]
[{"$f":"IF($N395<>0,A395,\"\")","v":""},"","","","","","","","","","","",null,0]
[{"$f":"IF($N396<>0,A396,\"\")","v":""},"","","","","","","","","","","",null,0]
[{"$f":"IF($N397<>0,A397,\"\")","v":""},"","","","","","","","","","","",null,0]
[{"$f":"IF($N398<>0,A398,\"\")","v":""},"","","","","","","","","","","",null,0]
[{"$f":"IF($N399<>0,A399,\"\")","v":""},"","","","","","","","","","","",null,0]
[{"$f":"IF($N400<>0,A400,\"\")","v":""},"","","","","","","","","","","",null,0]
[{"$f":"IF($N401<>0,A401,\"\")","v":""},"","","","","","","","","","","",null,0]
[{"$f":"IF($N402<>0,A402,\"\")","v":""},"","","","","","","","","","","",null,0]
[{"$f":"IF($N403<>0,A403,\"\")","v":""},"","","","","","","","","","","",null,0]
[{"$f":"IF($N404<>0,A404,\"\")","v":""},"","","","","","","","","","","",null,0]
[{"$f":"IF($N405<>0,A405,\"\")","v":""},"","","","","","","","","","","",null,0]
[{"$f":"IF($N406<>0,A406,\"\")","v":""},"","","","","","","","","","","",null,0]
[{"$f":"IF($N407<>0,A407,\"\")","v":""},"","","","","","","","","","","",null,0]
[{"$f":"IF($N408<>0,A408,\"\")","v":""},"","","","","","","","","","","",null,0]
[{"$f":"IF($N409<>0,A409,\"\")","v":""},"","","","","","","","","","","",null,0]
[{"$f":"IF($N410<>0,A410,\"\")","v":""},"","","","","","","","","","","",null,0]
[{"$f":"IF($N411<>0,A411,\"\")","v":""},"","","","","","","","","","","",null,0]
[{"$f":"IF($N412<>0,A412,\"\")","v":""},"","","","","","","","","","","",null,0]
[{"$f":"IF($N413<>0,A413,\"\")","v":""},"","","","","","","","","","","",null,0]
[{"$f":"IF($N414<>0,A414,\"\")","v":""},"","","","","","","","","","","",null,0]
[{"$f":"IF($N415<>0,A415,\"\")","v":""},"","","","","","","","","","","",null,0]
[{"$f":"IF($N416<>0,A416,\"\")","v":""},"","","","","","","","","","","",null,0]
[{"$f":"IF($N417<>0,A417,\"\")","v":""},"","","","","","","","","","","",null,0]
[{"$f":"IF($N418<>0,A418,\"\")","v":""},"","","","","","","","","","","",null,0]
[{"$f":"IF($N419<>0,A419,\"\")","v":""},"","","","","","","","","","","",null,0]
[{"$f":"IF($N420<>0,A420,\"\")","v":""},"","","","","","","","","","","",null,0]
[{"$f":"IF($N421<>0,A421,\"\")","v":""},"","","","","","","","","","","",null,0]
[{"$f":"IF($N422<>0,A422,\"\")","v":""},"","","","","","","","","","","",null,0]
[{"$f":"IF($N423<>0,A423,\"\")","v":""},"","","","","","","","","","","",null,0]
[{"$f":"IF($N424<>0,A424,\"\")","v":""},"","","","","","","","","","","",null,0]
[{"$f":"IF($N425<>0,A425,\"\")","v":""},"","","","","","","","","","","",null,0]
[{"$f":"IF($N426<>0,A426,\"\")","v":""},"","","","","","","","","","","",null,0]
[{"$f":"IF($N427<>0,A427,\"\")","v":""},"","","","","","","","","","","",null,0]
[{"$f":"IF($N428<>0,A428,\"\")","v":""},"","","","","","","","","","","",null,0]
[{"$f":"IF($N429<>0,A429,\"\")","v":""},"","","","","","","","","","","",null,0]
[{"$f":"IF($N430<>0,A430,\"\")","v":""},"","","","","","","","","","","",null,0]
[{"$f":"IF($N431<>0,A431,\"\")","v":""},"","","","","","","","","","","",null,0]
[{"$f":"IF($N432<>0,A432,\"\")","v":""},"","","","","","","","","","","",null,0]
[{"$f":"IF($N433<>0,A433,\"\")","v":""},"","","","","","","","","","","",null,0]
[{"$f":"IF($N434<>0,A434,\"\")","v":""},"","","","","","","","","","","",null,0]
[{"$f":"IF($N435<>0,A435,\"\")","v":""},"","","","","","","","","","","",null,0]
[{"$f":"IF($N436<>0,A436,\"\")","v":""},"","","","","","","","","","","",null,0]
[{"$f":"IF($N437<>0,A437,\"\")","v":""},"","","","","","","","","","","",null,0]
[{"$f":"IF($N438<>0,A438,\"\")","v":""},"","","","","","","","","","","",null,0]
[{"$f":"IF($N439<>0,A439,\"\")","v":""},"","","","","","","","","","","",null,0]
[{"$f":"IF($N440<>0,A440,\"\")","v":""},"","","","","","","","","","","",null,0]
[{"$f":"IF($N441<>0,A441,\"\")","v":""},"","","","","","","","","","","",null,0]
[{"$f":"IF($N442<>0,A442,\"\")","v":""},"","","","","","","","","","","",null,0]
[{"$f":"IF($N443<>0,A443,\"\")","v":""},"","","","","","","","","","","",null,0]
[{"$f":"IF($N444<>0,A444,\"\")","v":""},"","","","","","","","","","","",null,0]
[{"$f":"IF($N445<>0,A445,\"\")","v":""},"","","","","","","","","","","",null,0]
[{"$f":"IF($N446<>0,A446,\"\")","v":""},"","","","","","","","","","","",null,0]
[{"$f":"IF($N447<>0,A447,\"\")","v":""},"","","","","","","","","","","",null,0]
[{"$f":"IF($N448<>0,A448,\"\")","v":""},"","","","","","","","","","","",null,0]
[{"$f":"IF($N449<>0,A449,\"\")","v":""},"","","","","","","","","","","",null,0]
[{"$f":"IF($N450<>0,A450,\"\")","v":""},"","","","","","","","","","","",null,0]
[{"$f":"IF($N451<>0,A451,\"\")","v":""},"","","","","","","","","","","",null,0]
[{"$f":"IF($N452<>0,A452,\"\")","v":""},"","","","","","","","","","","",null,0]
[{"$f":"IF($N453<>0,A453,\"\")","v":""},"","","","","","","","","","","",null,0]
[{"$f":"IF($N454<>0,A454,\"\")","v":""},"","","","","","","","","","","",null,0]
[{"$f":"IF($N455<>0,A455,\"\")","v":""},"","","","","","","","","","","",null,0]
[{"$f":"IF($N456<>0,A456,\"\")","v":""},"","","","","","","","","","","",null,0]
[{"$f":"IF($N457<>0,A457,\"\")","v":""},"","","","","","","","","","","",null,0]
[{"$f":"IF($N458<>0,A458,\"\")","v":""},"","","","","","","","","","","",null,{"$f":"IF(A1090<>\"\",+L1090+G1090,0)","v":0}]
[{"$f":"IF($N459<>0,A459,\"\")","v":""},"","","","","","","","","","","",null,0]
[{"$f":"IF($N460<>0,A460,\"\")","v":""},"","","","","","","","","","","",null,0]
[{"$f":"IF($N461<>0,A461,\"\")","v":""},"","","","","","","","","","","",null,0]
[{"$f":"IF($N462<>0,A462,\"\")","v":""},"","","","","","","","","","","",null,0]
[{"$f":"IF($N463<>0,A463,\"\")","v":""},"","","","","","","","","","","",null,0]
[{"$f":"IF($N464<>0,A464,\"\")","v":""},"","","","","","","","","","","",null,0]
[{"$f":"IF($N465<>0,A465,\"\")","v":""},"","","","","","","","","","","",null,0]
[{"$f":"IF($N466<>0,A466,\"\")","v":""},"","","","","","","","","","","",null,0]
[{"$f":"IF($N467<>0,A467,\"\")","v":""},"","","","","","","","","","","",null,0]
[{"$f":"IF($N468<>0,A468,\"\")","v":""},"","","","","","","","","","","",null,0]
[{"$f":"IF($N469<>0,A469,\"\")","v":""},"","","","","","","","","","","",null,0]
[{"$f":"IF($N470<>0,A470,\"\")","v":""},"","","","","","","","","","","",null,0]
[{"$f":"IF($N471<>0,A471,\"\")","v":""},"","","","","","","","","","","",null,0]
[{"$f":"IF($N472<>0,A472,\"\")","v":""},"","","","","","","","","","","",null,0]
[{"$f":"IF($N473<>0,A473,\"\")","v":""},"","","","","","","","","","","",null,0]
[{"$f":"IF($N474<>0,A474,\"\")","v":""},"","","","","","","","","","","",null,0]
[{"$f":"IF($N475<>0,A475,\"\")","v":""},"","","","","","","","","","","",null,0]
[{"$f":"IF($N476<>0,A476,\"\")","v":""},"","","","","","","","","","","",null,0]
[{"$f":"IF($N477<>0,A477,\"\")","v":""},"","","","","","","","","","","",null,0]
[{"$f":"IF($N478<>0,A478,\"\")","v":""},"","","","","","","","","","","",null,0]
[{"$f":"IF($N479<>0,A479,\"\")","v":""},"","","","","","","","","","","",null,0]
[{"$f":"IF($N480<>0,A480,\"\")","v":""},"","","","","","","","","","","",null,0]
[{"$f":"IF($N481<>0,A481,\"\")","v":""},"","","","","","","","","","","",null,0]
[{"$f":"IF($N482<>0,A482,\"\")","v":""},"","","","","","","","","","","",null,0]
[{"$f":"IF($N483<>0,A483,\"\")","v":""},"","","","","","","","","","","",null,0]
[{"$f":"IF($N484<>0,A484,\"\")","v":""},"","","","","","","","","","","",null,0]
[{"$f":"IF($N485<>0,A485,\"\")","v":""},"","","","","","","","","","","",null,0]
[{"$f":"IF($N486<>0,A486,\"\")","v":""},"","","","","","","","","","","",null,0]
[{"$f":"IF($N487<>0,A487,\"\")","v":""},"","","","","","","","","","","",null,0]
[{"$f":"IF($N488<>0,A488,\"\")","v":""},"","","","","","","","","","","",null,0]
[{"$f":"IF($N489<>0,A489,\"\")","v":""},"","","","","","","","","","","",null,0]
[{"$f":"IF($N490<>0,A490,\"\")","v":""},"","","","","","","","","","","",null,0]
[{"$f":"IF($N491<>0,A491,\"\")","v":""},"","","","","","","","","","","",null,0]
[{"$f":"IF($N492<>0,A492,\"\")","v":""},"","","","","","","","","","","",null,0]
[{"$f":"IF($N493<>0,A493,\"\")","v":""},"","","","","","","","","","","",null,0]
[{"$f":"IF($N494<>0,A494,\"\")","v":""},"","","","","","","","","","","",null,0]
[{"$f":"IF($N495<>0,A495,\"\")","v":""},"","","","","","","","","","","",null,0]
[{"$f":"IF($N496<>0,A496,\"\")","v":""},"","","","","","","","","","","",null,0]
[{"$f":"IF($N497<>0,A497,\"\")","v":""},"","","","","","","","","","","",null,0]
[{"$f":"IF($N498<>0,A498,\"\")","v":""},"","","","","","","","","","","",null,0]
[{"$f":"IF($N499<>0,A499,\"\")","v":""},"","","","","","","","","","","",null,0]
[{"$f":"IF($N500<>0,A500,\"\")","v":""},"","","","","","","","","","","",null,0]
[{"$f":"IF($N501<>0,A501,\"\")","v":""},"","","","","","","","","","","",null,0]
[{"$f":"IF($N502<>0,A502,\"\")","v":""},"","","","","","","","","","","",null,0]
[{"$f":"IF($N503<>0,A503,\"\")","v":""},"","","","","","","","","","","",null,0]
[{"$f":"IF($N504<>0,A504,\"\")","v":""},"","","","","","","","","","","",null,0]
[{"$f":"IF($N505<>0,A505,\"\")","v":""},"","","","","","","","","","","",null,0]
[{"$f":"IF($N506<>0,A506,\"\")","v":""},"","","","","","","","","","","",null,0]
[{"$f":"IF($N507<>0,A507,\"\")","v":""},"","","","","","","","","","","",null,0]
[{"$f":"IF($N508<>0,A508,\"\")","v":""},"","","","","","","","","","","",null,0]
[{"$f":"IF($N509<>0,A509,\"\")","v":""},"","","","","","","","","","","",null,0]
[{"$f":"IF($N510<>0,A510,\"\")","v":""},"","","","","","","","","","","",null,0]
[{"$f":"IF($N511<>0,A511,\"\")","v":""},"","","","","","","","","","","",null,0]
[{"$f":"IF($N512<>0,A512,\"\")","v":""},"","","","","","","","","","","",null,0]
[{"$f":"IF($N513<>0,A513,\"\")","v":""},"","","","","","","","","","","",null,0]
[{"$f":"IF($N514<>0,A514,\"\")","v":""},"","","","","","","","","","","",null,0]
[{"$f":"IF($N515<>0,A515,\"\")","v":""},"","","","","","","","","","","",null,0]
[{"$f":"IF($N516<>0,A516,\"\")","v":""},"","","","","","","","","","","",null,0]
[{"$f":"IF($N517<>0,A517,\"\")","v":""},"","","","","","","","","","","",null,0]
[{"$f":"IF($N518<>0,A518,\"\")","v":""},"","","","","","","","","","","",null,0]
[{"$f":"IF($N519<>0,A519,\"\")","v":""},"","","","","","","","","","","",null,0]
[{"$f":"IF($N520<>0,A520,\"\")","v":""},"","","","","","","","","","","",null,0]
[{"$f":"IF($N521<>0,A521,\"\")","v":""},"","","","","","","","","","","",null,0]
[{"$f":"IF($N522<>0,A522,\"\")","v":""},"","","","","","","","","","","",null,{"$f":"IF(A1154<>\"\",+L1154+G1154,0)","v":0}]
[{"$f":"IF($N523<>0,A523,\"\")","v":""},"","","","","","","","","","","",null,0]
[{"$f":"IF($N524<>0,A524,\"\")","v":""},"","","","","","","","","","","",null,0]
[{"$f":"IF($N525<>0,A525,\"\")","v":""},"","","","","","","","","","","",null,0]
[{"$f":"IF($N526<>0,A526,\"\")","v":""},"","","","","","","","","","","",null,0]
[{"$f":"IF($N527<>0,A527,\"\")","v":""},"","","","","","","","","","","",null,0]
[{"$f":"IF($N528<>0,A528,\"\")","v":""},"","","","","","","","","","","",null,0]
[{"$f":"IF($N529<>0,A529,\"\")","v":""},"","","","","","","","","","","",null,0]
[{"$f":"IF($N530<>0,A530,\"\")","v":""},"","","","","","","","","","","",null,0]
[{"$f":"IF($N531<>0,A531,\"\")","v":""},"","","","","","","","","","","",null,0]
[{"$f":"IF($N532<>0,A532,\"\")","v":""},"","","","","","","","","","","",null,0]
[{"$f":"IF($N533<>0,A533,\"\")","v":""},"","","","","","","","","","","",null,0]
[{"$f":"IF($N534<>0,A534,\"\")","v":""},"","","","","","","","","","","",null,0]
[{"$f":"IF($N535<>0,A535,\"\")","v":""},"","","","","","","","","","","",null,0]
[{"$f":"IF($N536<>0,A536,\"\")","v":""},"","","","","","","","","","","",null,0]
[{"$f":"IF($N537<>0,A537,\"\")","v":""},"","","","","","","","","","","",null,0]
[{"$f":"IF($N538<>0,A538,\"\")","v":""},"","","","","","","","","","","",null,0]
[{"$f":"IF($N539<>0,A539,\"\")","v":""},"","","","","","","","","","","",null,0]
[{"$f":"IF($N540<>0,A540,\"\")","v":""},"","","","","","","","","","","",null,0]
[{"$f":"IF($N541<>0,A541,\"\")","v":""},"","","","","","","","","","","",null,0]
[{"$f":"IF($N542<>0,A542,\"\")","v":""},"","","","","","","","","","","",null,0]
[{"$f":"IF($N543<>0,A543,\"\")","v":""},"","","","","","","","","","","",null,0]
[{"$f":"IF($N544<>0,A544,\"\")","v":""},"","","","","","","","","","","",null,0]
[{"$f":"IF($N545<>0,A545,\"\")","v":""},"","","","","","","","","","","",null,0]
[{"$f":"IF($N546<>0,A546,\"\")","v":""},"","","","","","","","","","","",null,0]
[{"$f":"IF($N547<>0,A547,\"\")","v":""},"","","","","","","","","","","",null,0]
[{"$f":"IF($N548<>0,A548,\"\")","v":""},"","","","","","","","","","","",null,0]
[{"$f":"IF($N549<>0,A549,\"\")","v":""},"","","","","","","","","","","",null,0]
[{"$f":"IF($N550<>0,A550,\"\")","v":""},"","","","","","","","","","","",null,0]
[{"$f":"IF($N551<>0,A551,\"\")","v":""},"","","","","","","","","","","",null,0]
[{"$f":"IF($N552<>0,A552,\"\")","v":""},"","","","","","","","","","","",null,0]
[{"$f":"IF($N553<>0,A553,\"\")","v":""},"","","","","","","","","","","",null,0]
[{"$f":"IF($N554<>0,A554,\"\")","v":""},"","","","","","","","","","","",null,0]
[{"$f":"IF($N555<>0,A555,\"\")","v":""},"","","","","","","","","","","",null,0]
[{"$f":"IF($N556<>0,A556,\"\")","v":""},"","","","","","","","","","","",null,0]
[{"$f":"IF($N557<>0,A557,\"\")","v":""},"","","","","","","","","","","",null,0]
[{"$f":"IF($N558<>0,A558,\"\")","v":""},"","","","","","","","","","","",null,0]
[{"$f":"IF($N559<>0,A559,\"\")","v":""},"","","","","","","","","","","",null,0]
[{"$f":"IF($N560<>0,A560,\"\")","v":""},"","","","","","","","","","","",null,0]
[{"$f":"IF($N561<>0,A561,\"\")","v":""},"","","","","","","","","","","",null,0]
[{"$f":"IF($N562<>0,A562,\"\")","v":""},"","","","","","","","","","","",null,0]
[{"$f":"IF($N563<>0,A563,\"\")","v":""},"","","","","","","","","","","",null,0]
[{"$f":"IF($N564<>0,A564,\"\")","v":""},"","","","","","","","","","","",null,0]
[{"$f":"IF($N565<>0,A565,\"\")","v":""},"","","","","","","","","","","",null,0]
[{"$f":"IF($N566<>0,A566,\"\")","v":""},"","","","","","","","","","","",null,0]
[{"$f":"IF($N567<>0,A567,\"\")","v":""},"","","","","","","","","","","",null,0]
[{"$f":"IF($N568<>0,A568,\"\")","v":""},"","","","","","","","","","","",null,0]
[{"$f":"IF($N569<>0,A569,\"\")","v":""},"","","","","","","","","","","",null,0]
[{"$f":"IF($N570<>0,A570,\"\")","v":""},"","","","","","","","","","","",null,0]
[{"$f":"IF($N571<>0,A571,\"\")","v":""},"","","","","","","","","","","",null,0]
[{"$f":"IF($N572<>0,A572,\"\")","v":""},"","","","","","","","","","","",null,0]
[{"$f":"IF($N573<>0,A573,\"\")","v":""},"","","","","","","","","","","",null,0]
[{"$f":"IF($N574<>0,A574,\"\")","v":""},"","","","","","","","","","","",null,0]
[{"$f":"IF($N575<>0,A575,\"\")","v":""},"","","","","","","","","","","",null,0]
[{"$f":"IF($N576<>0,A576,\"\")","v":""},"","","","","","","","","","","",null,0]
[{"$f":"IF($N577<>0,A577,\"\")","v":""},"","","","","","","","","","","",null,0]
[{"$f":"IF($N578<>0,A578,\"\")","v":""},"","","","","","","","","","","",null,0]
[{"$f":"IF($N579<>0,A579,\"\")","v":""},"","","","","","","","","","","",null,0]
[{"$f":"IF($N580<>0,A580,\"\")","v":""},"","","","","","","","","","","",null,0]
[{"$f":"IF($N581<>0,A581,\"\")","v":""},"","","","","","","","","","","",null,0]
[{"$f":"IF($N582<>0,A582,\"\")","v":""},"","","","","","","","","","","",null,0]
[{"$f":"IF($N583<>0,A583,\"\")","v":""},"","","","","","","","","","","",null,0]
[{"$f":"IF($N584<>0,A584,\"\")","v":""},"","","","","","","","","","","",null,0]
[{"$f":"IF($N585<>0,A585,\"\")","v":""},"","","","","","","","","","","",null,0]
[{"$f":"IF($N586<>0,A586,\"\")","v":""},"","","","","","","","","","","",null,{"$f":"IF(A1218<>\"\",+L1218+G1218,0)","v":0}]
[{"$f":"IF($N587<>0,A587,\"\")","v":""},"","","","","","","","","","","",null,0]
[{"$f":"IF($N588<>0,A588,\"\")","v":""},"","","","","","","","","","","",null,0]
[{"$f":"IF($N589<>0,A589,\"\")","v":""},"","","","","","","","","","","",null,0]
[{"$f":"IF($N590<>0,A590,\"\")","v":""},"","","","","","","","","","","",null,0]
[{"$f":"IF($N591<>0,A591,\"\")","v":""},"","","","","","","","","","","",null,0]
[{"$f":"IF($N592<>0,A592,\"\")","v":""},"","","","","","","","","","","",null,0]
[{"$f":"IF($N593<>0,A593,\"\")","v":""},"","","","","","","","","","","",null,0]
[{"$f":"IF($N594<>0,A594,\"\")","v":""},"","","","","","","","","","","",null,0]
[{"$f":"IF($N595<>0,A595,\"\")","v":""},"","","","","","","","","","","",null,0]
[{"$f":"IF($N596<>0,A596,\"\")","v":""},"","","","","","","","","","","",null,0]
[{"$f":"IF($N597<>0,A597,\"\")","v":""},"","","","","","","","","","","",null,0]
[{"$f":"IF($N598<>0,A598,\"\")","v":""},"","","","","","","","","","","",null,0]
[{"$f":"IF($N599<>0,A599,\"\")","v":""},"","","","","","","","","","","",null,0]
[{"$f":"IF($N600<>0,A600,\"\")","v":""},"","","","","","","","","","","",null,0]
[{"$f":"IF($N601<>0,A601,\"\")","v":""},"","","","","","","","","","","",null,0]
[{"$f":"IF($N602<>0,A602,\"\")","v":""},"","","","","","","","","","","",null,0]
[{"$f":"IF($N603<>0,A603,\"\")","v":""},"","","","","","","","","","","",null,0]
[{"$f":"IF($N604<>0,A604,\"\")","v":""},"","","","","","","","","","","",null,0]
[{"$f":"IF($N605<>0,A605,\"\")","v":""},"","","","","","","","","","","",null,0]
[{"$f":"IF($N606<>0,A606,\"\")","v":""},"","","","","","","","","","","",null,0]
[{"$f":"IF($N607<>0,A607,\"\")","v":""},"","","","","","","","","","","",null,0]
[{"$f":"IF($N608<>0,A608,\"\")","v":""},"","","","","","","","","","","",null,0]
[{"$f":"IF($N609<>0,A609,\"\")","v":""},"","","","","","","","","","","",null,0]
[{"$f":"IF($N610<>0,A610,\"\")","v":""},"","","","","","","","","","","",null,0]
[{"$f":"IF($N611<>0,A611,\"\")","v":""},"","","","","","","","","","","",null,0]
[{"$f":"IF($N612<>0,A612,\"\")","v":""},"","","","","","","","","","","",null,0]
[{"$f":"IF($N613<>0,A613,\"\")","v":""},"","","","","","","","","","","",null,0]
[{"$f":"IF($N614<>0,A614,\"\")","v":""},"","","","","","","","","","","",null,0]
[{"$f":"IF($N615<>0,A615,\"\")","v":""},"","","","","","","","","","","",null,0]
[{"$f":"IF($N616<>0,A616,\"\")","v":""},"","","","","","","","","","","",null,0]
[{"$f":"IF($N617<>0,A617,\"\")","v":""},"","","","","","","","","","","",null,0]
[{"$f":"IF($N618<>0,A618,\"\")","v":""},"","","","","","","","","","","",null,0]
[{"$f":"IF($N619<>0,A619,\"\")","v":""},"","","","","","","","","","","",null,0]
[{"$f":"IF($N620<>0,A620,\"\")","v":""},"","","","","","","","","","","",null,0]
[{"$f":"IF($N621<>0,A621,\"\")","v":""},"","","","","","","","","","","",null,0]
[{"$f":"IF($N622<>0,A622,\"\")","v":""},"","","","","","","","","","","",null,0]
[{"$f":"IF($N623<>0,A623,\"\")","v":""},"","","","","","","","","","","",null,0]
[{"$f":"IF($N624<>0,A624,\"\")","v":""},"","","","","","","","","","","",null,0]
[{"$f":"IF($N625<>0,A625,\"\")","v":""},"","","","","","","","","","","",null,0]
[{"$f":"IF($N626<>0,A626,\"\")","v":""},"","","","","","","","","","","",null,0]
[{"$f":"IF($N627<>0,A627,\"\")","v":""},"","","","","","","","","","","",null,0]
[{"$f":"IF($N628<>0,A628,\"\")","v":""},"","","","","","","","","","","",null,0]
[{"$f":"IF($N629<>0,A629,\"\")","v":""},"","","","","","","","","","","",null,0]
[{"$f":"IF($N630<>0,A630,\"\")","v":""},"","","","","","","","","","","",null,0]
[{"$f":"IF($N631<>0,A631,\"\")","v":""},"","","","","","","","","","","",null,0]
[{"$f":"IF($N632<>0,A632,\"\")","v":""},"","","","","","","","","","","",null,0]
[]
["","","","","","","","","","","",""]
["","","","","","","","","","","","",null,{"$f":"C1267&\"      \"&A1267","v":"      "},{"$f":"+D1267","v":""},{"$f":"+E1267","v":""},{"$f":"+I1267","v":""},{"$f":"+J1267","v":""},{"$f":"+L1267","v":""}]
["","","","","","","","","","","","",null,"      ",{"$f":"+D1268","v":""},{"$f":"+E1268","v":""},{"$f":"+I1268","v":""},{"$f":"+J1268","v":""},{"$f":"+L1268","v":""}]
["","","","","","","","","","","","",null,"      ",{"$f":"+D1269","v":""},{"$f":"+E1269","v":""},{"$f":"+I1269","v":""},{"$f":"+J1269","v":""},{"$f":"+L1269","v":""}]
["","","","","","","","","","","","",null,"      ","","","","",""]
["","","","","","","","","","","","",null,"      ","","","","",""]
["","","","","","","","","","","","",null,"      ","","","","",""]
["","","","","","","","","","","","",null,"      ","","","","",""]
["","","","","","","","","","","","",null,"      ","","","","",""]
["","","","","","","","","","","","",null,"      ","","","","",""]
["","","","","","","","","","","","",null,"      ","","","","",""]
["","","","","","","","","","","","",null,"      ","","","","",""]
["","","","","","","","","","","","",null,"      ","","","","",""]
["","","","","","","","","","","","",null,"      ","","","","",""]
["","","","","","","","","","","","",null,"      ","","","","",""]
["","","","","","","","","","","","",null,"      ","","","","",""]
["","","","","","","","","","","","",null,"      ","","","","",""]
["","","","","","","","","","","","",null,"      ","","","","",""]
["","","","","","","","","","","","",null,"      ","","","","",""]
["","","","","","","","","","","","",null,"      ","","","","",""]
["","","","","","","","","","","","",null,"      ","","","","",""]
["","","","","","","","","","","","",null,"      ","","","","",""]
["","","","","","","","","","","","",null,"      ","","","","",""]
["","","","","","","","","","","","",null,"      ","","","","",""]
["","","","","","","","","","","","",null,"      ","","","","",""]
["","","","","","","","","","","","",null,"      ","","","","",""]
["","","","","","","","","","","","",null,"      ","","","","",""]
["","","","","","","","","","","","",null,"      ","","","","",""]
["","","","","","","","","","","","",null,"      ","","","","",""]
["","","","","","","","","","","","",null,"      ","","","","",""]
["","","","","","","","","","","","",null,"      ","","","","",""]
["","","","","","","","","","","","",null,"      ","","","","",""]
["","","","","","","","","","","","",null,"      ","","","","",""]
["","","","","","","","","","","","",null,"      ","","","","",""]
["","","","","","","","","","","","",null,"      ","","","","",""]
["","","","","","","","","","","","",null,"      ","","","","",""]
["","","","","","","","","","","","",null,"      ","","","","",""]
["","","","","","","","","","","","",null,"      ","","","","",""]
["","","","","","","","","","","","",null,"      ","","","","",""]
["","","","","","","","","","","","",null,"      ","","","","",""]
["","","","","","","","","","","","",null,"      ","","","","",""]
["","","","","","","","","","","","",null,"      ","","","","",""]
["","","","","","","","","","","","",null,"      ","","","","",""]
["","","","","","","","","","","","",null,"      ","","","","",""]
["","","","","","","","","","","","",null,"      ","","","","",""]
["","","","","","","","","","","","",null,"      ","","","","",""]
["","","","","","","","","","","","",null,"      ","","","","",""]
["","","","","","","","","","","","",null,"      ","","","","",""]
["","","","","","","","","","","","",null,"      ","","","","",""]
["","","","","","","","","","","","",null,"      ","","","","",""]
["","","","","","","","","","","","",null,"      ","","","","",""]
["","","","","","","","","","","","",null,"      ","","","","",""]
["","","","","","","","","","","","",null,"      ","","","","",""]
["","","","","","","","","","","","",null,"      ","","","","",""]
["","","","","","","","","","","","",null,"      ","","","","",""]
["","","","","","","","","","","","",null,"      ","","","","",""]
["","","","","","","","","","","","",null,"      ","","","","",""]
["","","","","","","","","","","","",null,"      ","","","","",""]
["","","","","","","","","","","","",null,"      ","","","","",""]
["","","","","","","","","","","","",null,"      ","","","","",""]
["","","","","","","","","","","","",null,"      ","","","","",""]
["","","","","","","","","","","","",null,"      ","","","","",""]
["","","","","","","","","","","","",null,"      ","","","","",""]
["","","","","","","","","","","","",null,"      ","","","","",""]
["","","","","","","","","","","","",null,"      ","","","","",""]
["","","","","","","","","","","","",null,{"$f":"C1331&\"      \"&A1331","v":"      "},"","","","",""]
["","","","","","","","","","","","",null,"      ","","","","",""]
["","","","","","","","","","","","",null,"      ",{"$f":"+D1333","v":""},{"$f":"+E1333","v":""},{"$f":"+I1333","v":""},{"$f":"+J1333","v":""},{"$f":"+L1333","v":""}]
["","","","","","","","","","","","",null,"      ","","","","",""]
["","","","","","","","","","","","",null,"      ","","","","",""]
["","","","","","","","","","","","",null,"      ","","","","",""]
["","","","","","","","","","","","",null,"      ","","","","",""]
["","","","","","","","","","","","",null,"      ","","","","",""]
["","","","","","","","","","","","",null,"      ","","","","",""]
["","","","","","","","","","","","",null,"      ","","","","",""]
["","","","","","","","","","","","",null,"      ","","","","",""]
["","","","","","","","","","","","",null,"      ","","","","",""]
["","","","","","","","","","","","",null,"      ","","","","",""]
["","","","","","","","","","","","",null,"      ","","","","",""]
["","","","","","","","","","","","",null,"      ","","","","",""]
["","","","","","","","","","","","",null,"      ","","","","",""]
["","","","","","","","","","","","",null,"      ","","","","",""]
["","","","","","","","","","","","",null,"      ","","","","",""]
["","","","","","","","","","","","",null,"      ","","","","",""]
["","","","","","","","","","","","",null,"      ","","","","",""]
["","","","","","","","","","","","",null,"      ","","","","",""]
["","","","","","","","","","","","",null,"      ","","","","",""]
["","","","","","","","","","","","",null,"      ","","","","",""]
["","","","","","","","","","","","",null,"      ","","","","",""]
["","","","","","","","","","","","",null,"      ","","","","",""]
["","","","","","","","","","","","",null,"      ","","","","",""]
["","","","","","","","","","","","",null,"      ","","","","",""]
["","","","","","","","","","","","",null,"      ","","","","",""]
["","","","","","","","","","","","",null,"      ","","","","",""]
["","","","","","","","","","","","",null,"      ","","","","",""]
["","","","","","","","","","","","",null,"      ","","","","",""]
["","","","","","","","","","","","",null,"      ","","","","",""]
["","","","","","","","","","","","",null,"      ","","","","",""]
["","","","","","","","","","","","",null,"      ","","","","",""]
["","","","","","","","","","","","",null,"      ","","","","",""]
["","","","","","","","","","","","",null,"      ","","","","",""]
["","","","","","","","","","","","",null,"      ","","","","",""]
["","","","","","","","","","","","",null,"      ","","","","",""]
["","","","","","","","","","","","",null,"      ","","","","",""]
["","","","","","","","","","","","",null,"      ","","","","",""]
["","","","","","","","","","","","",null,"      ","","","","",""]
["","","","","","","","","","","","",null,"      ","","","","",""]
["","","","","","","","","","","","",null,"      ","","","","",""]
["","","","","","","","","","","","",null,"      ","","","","",""]
["","","","","","","","","","","","",null,"      ","","","","",""]
["","","","","","","","","","","","",null,"      ","","","","",""]
["","","","","","","","","","","","",null,"      ","","","","",""]
["","","","","","","","","","","","",null,"      ","","","","",""]
["","","","","","","","","","","","",null,"      ","","","","",""]
["","","","","","","","","","","","",null,"      ","","","","",""]
["","","","","","","","","","","","",null,"      ","","","","",""]
["","","","","","","","","","","","",null,"      ","","","","",""]
["","","","","","","","","","","","",null,"      ","","","","",""]
["","","","","","","","","","","","",null,"      ","","","","",""]
["","","","","","","","","","","","",null,"      ","","","","",""]
["","","","","","","","","","","","",null,"      ","","","","",""]
["","","","","","","","","","","","",null,"      ","","","","",""]
["","","","","","","","","","","","",null,"      ","","","","",""]
["","","","","","","","","","","","",null,"      ","","","","",""]
["","","","","","","","","","","","",null,"      ","","","","",""]
["","","","","","","","","","","","",null,"      ","","","","",""]
["","","","","","","","","","","","",null,"      ","","","","",""]
["","","","","","","","","","","","",null,"      ","","","","",""]
["","","","","","","","","","","","",null,"      ","","","","",""]
["","","","","","","","","","","","",null,{"$f":"C1395&\"      \"&A1395","v":"      "},"","","","",""]
["","","","","","","","","","","","",null,"      ","","","","",""]
["","","","","","","","","","","","",null,"      ",{"$f":"+D1397","v":""},{"$f":"+E1397","v":""},{"$f":"+I1397","v":""},{"$f":"+J1397","v":""},{"$f":"+L1397","v":""}]
["","","","","","","","","","","","",null,"      ","","","","",""]
["","","","","","","","","","","","",null,"      ","","","","",""]
["","","","","","","","","","","","",null,"      ","","","","",""]
["","","","","","","","","","","","",null,"      ","","","","",""]
["","","","","","","","","","","","",null,"      ","","","","",""]
["","","","","","","","","","","","",null,"      ","","","","",""]
["","","","","","","","","","","","",null,"      ","","","","",""]
["","","","","","","","","","","","",null,"      ","","","","",""]
["","","","","","","","","","","","",null,"      ","","","","",""]
["","","","","","","","","","","","",null,"      ","","","","",""]
["","","","","","","","","","","","",null,"      ","","","","",""]
["","","","","","","","","","","","",null,"      ","","","","",""]
["","","","","","","","","","","","",null,"      ","","","","",""]
["","","","","","","","","","","","",null,"      ","","","","",""]
["","","","","","","","","","","","",null,"      ","","","","",""]
["","","","","","","","","","","","",null,"      ","","","","",""]
["","","","","","","","","","","","",null,"      ","","","","",""]
["","","","","","","","","","","","",null,"      ","","","","",""]
["","","","","","","","","","","","",null,"      ","","","","",""]
["","","","","","","","","","","","",null,"      ","","","","",""]
["","","","","","","","","","","","",null,"      ","","","","",""]
["","","","","","","","","","","","",null,"      ","","","","",""]
["","","","","","","","","","","","",null,"      ","","","","",""]
["","","","","","","","","","","","",null,"      ","","","","",""]
["","","","","","","","","","","","",null,"      ","","","","",""]
["","","","","","","","","","","","",null,"      ","","","","",""]
["","","","","","","","","","","","",null,"      ","","","","",""]
["","","","","","","","","","","","",null,"      ","","","","",""]
["","","","","","","","","","","","",null,"      ","","","","",""]
["","","","","","","","","","","","",null,"      ","","","","",""]
["","","","","","","","","","","","",null,"      ","","","","",""]
["","","","","","","","","","","","",null,"      ","","","","",""]
["","","","","","","","","","","","",null,"      ","","","","",""]
["","","","","","","","","","","","",null,"      ","","","","",""]
["","","","","","","","","","","","",null,"      ","","","","",""]
["","","","","","","","","","","","",null,"      ","","","","",""]
["","","","","","","","","","","","",null,"      ","","","","",""]
["","","","","","","","","","","","",null,"      ","","","","",""]
["","","","","","","","","","","","",null,"      ","","","","",""]
["","","","","","","","","","","","",null,"      ","","","","",""]
["","","","","","","","","","","","",null,"      ","","","","",""]
["","","","","","","","","","","","",null,"      ","","","","",""]
["","","","","","","","","","","","",null,"      ","","","","",""]
["","","","","","","","","","","","",null,"      ","","","","",""]
["","","","","","","","","","","","",null,"      ","","","","",""]
["","","","","","","","","","","","",null,"      ","","","","",""]
["","","","","","","","","","","","",null,"      ","","","","",""]
["","","","","","","","","","","","",null,"      ","","","","",""]
["","","","","","","","","","","","",null,"      ","","","","",""]
["","","","","","","","","","","","",null,"      ","","","","",""]
["","","","","","","","","","","","",null,"      ","","","","",""]
["","","","","","","","","","","","",null,"      ","","","","",""]
["","","","","","","","","","","","",null,"      ","","","","",""]
["","","","","","","","","","","","",null,"      ","","","","",""]
["","","","","","","","","","","","",null,"      ","","","","",""]
["","","","","","","","","","","","",null,"      ","","","","",""]
["","","","","","","","","","","","",null,"      ","","","","",""]
["","","","","","","","","","","","",null,"      ","","","","",""]
["","","","","","","","","","","","",null,"      ","","","","",""]
["","","","","","","","","","","","",null,"      ","","","","",""]
["","","","","","","","","","","","",null,"      ","","","","",""]
["","","","","","","","","","","","",null,{"$f":"C1459&\"      \"&A1459","v":"      "},"","","","",""]
["","","","","","","","","","","","",null,"      ","","","","",""]
["","","","","","","","","","","","",null,"      ",{"$f":"+D1461","v":""},{"$f":"+E1461","v":""},{"$f":"+I1461","v":""},{"$f":"+J1461","v":""},{"$f":"+L1461","v":""}]
["","","","","","","","","","","","",null,"      ","","","","",""]
["","","","","","","","","","","","",null,"      ","","","","",""]
["","","","","","","","","","","","",null,"      ","","","","",""]
["","","","","","","","","","","","",null,"      ","","","","",""]
["","","","","","","","","","","","",null,"      ","","","","",""]
["","","","","","","","","","","","",null,"      ","","","","",""]
["","","","","","","","","","","","",null,"      ","","","","",""]
["","","","","","","","","","","","",null,"      ","","","","",""]
["","","","","","","","","","","","",null,"      ","","","","",""]
["","","","","","","","","","","","",null,"      ","","","","",""]
["","","","","","","","","","","","",null,"      ","","","","",""]
["","","","","","","","","","","","",null,"      ","","","","",""]
["","","","","","","","","","","","",null,"      ","","","","",""]
["","","","","","","","","","","","",null,"      ","","","","",""]
["","","","","","","","","","","","",null,"      ","","","","",""]
["","","","","","","","","","","","",null,"      ","","","","",""]
["","","","","","","","","","","","",null,"      ","","","","",""]
["","","","","","","","","","","","",null,"      ","","","","",""]
["","","","","","","","","","","","",null,"      ","","","","",""]
["","","","","","","","","","","","",null,"      ","","","","",""]
["","","","","","","","","","","","",null,"      ","","","","",""]
["","","","","","","","","","","","",null,"      ","","","","",""]
["","","","","","","","","","","","",null,"      ","","","","",""]
["","","","","","","","","","","","",null,"      ","","","","",""]
["","","","","","","","","","","","",null,"      ","","","","",""]
["","","","","","","","","","","","",null,"      ","","","","",""]
["","","","","","","","","","","","",null,"      ","","","","",""]
["","","","","","","","","","","","",null,"      ","","","","",""]
["","","","","","","","","","","","",null,"      ","","","","",""]
["","","","","","","","","","","","",null,"      ","","","","",""]
["","","","","","","","","","","","",null,"      ","","","","",""]
["","","","","","","","","","","","",null,"      ","","","","",""]
["","","","","","","","","","","","",null,"      ","","","","",""]
["","","","","","","","","","","","",null,"      ","","","","",""]
["","","","","","","","","","","","",null,"      ","","","","",""]
["","","","","","","","","","","","",null,"      ","","","","",""]
["","","","","","","","","","","","",null,"      ","","","","",""]
["","","","","","","","","","","","",null,"      ","","","","",""]
["","","","","","","","","","","","",null,"      ","","","","",""]
["","","","","","","","","","","","",null,"      ","","","","",""]
["","","","","","","","","","","","",null,"      ","","","","",""]
["","","","","","","","","","","","",null,"      ","","","","",""]
["","","","","","","","","","","","",null,"      ","","","","",""]
["","","","","","","","","","","","",null,"      ","","","","",""]
["","","","","","","","","","","","",null,"      ","","","","",""]
["","","","","","","","","","","","",null,"      ","","","","",""]
["","","","","","","","","","","","",null,"      ","","","","",""]
["","","","","","","","","","","","",null,"      ","","","","",""]
["","","","","","","","","","","","",null,"      ","","","","",""]
["","","","","","","","","","","","",null,"      ","","","","",""]
["","","","","","","","","","","","",null,"      ","","","","",""]
["","","","","","","","","","","","",null,"      ","","","","",""]
["","","","","","","","","","","","",null,"      ","","","","",""]
["","","","","","","","","","","","",null,"      ","","","","",""]
["","","","","","","","","","","","",null,"      ","","","","",""]
["","","","","","","","","","","","",null,"      ","","","","",""]
["","","","","","","","","","","","",null,"      ","","","","",""]
["","","","","","","","","","","","",null,"      ","","","","",""]
["","","","","","","","","","","","",null,"      ","","","","",""]
["","","","","","","","","","","","",null,"      ","","","","",""]
["","","","","","","","","","","","",null,"      ","","","","",""]
["","","","","","","","","","","","",null,{"$f":"C1523&\"      \"&A1523","v":"      "},"","","","",""]
["","","","","","","","","","","","",null,"      ","","","","",""]
["","","","","","","","","","","","",null,"      ",{"$f":"+D1525","v":""},{"$f":"+E1525","v":""},{"$f":"+I1525","v":""},{"$f":"+J1525","v":""},{"$f":"+L1525","v":""}]
["","","","","","","","","","","","",null,"      ","","","","",""]
["","","","","","","","","","","","",null,"      ","","","","",""]
["","","","","","","","","","","","",null,"      ","","","","",""]
["","","","","","","","","","","","",null,"      ","","","","",""]
["","","","","","","","","","","","",null,"      ","","","","",""]
["","","","","","","","","","","","",null,"      ","","","","",""]
["","","","","","","","","","","","",null,"      ","","","","",""]
["","","","","","","","","","","","",null,"      ","","","","",""]
["","","","","","","","","","","","",null,"      ","","","","",""]
["","","","","","","","","","","","",null,"      ","","","","",""]
["","","","","","","","","","","","",null,"      ","","","","",""]
["","","","","","","","","","","","",null,"      ","","","","",""]
["","","","","","","","","","","","",null,"      ","","","","",""]
["","","","","","","","","","","","",null,"      ","","","","",""]
["","","","","","","","","","","","",null,"      ","","","","",""]
["","","","","","","","","","","","",null,"      ","","","","",""]
["","","","","","","","","","","","",null,"      ","","","","",""]
["","","","","","","","","","","","",null,"      ","","","","",""]
["","","","","","","","","","","","",null,"      ","","","","",""]
["","","","","","","","","","","","",null,"      ","","","","",""]
["","","","","","","","","","","","",null,"      ","","","","",""]
["","","","","","","","","","","","",null,"      ","","","","",""]
["","","","","","","","","","","","",null,"      ","","","","",""]
["","","","","","","","","","","","",null,"      ","","","","",""]
["","","","","","","","","","","","",null,"      ","","","","",""]
["","","","","","","","","","","","",null,"      ","","","","",""]
["","","","","","","","","","","","",null,"      ","","","","",""]
["","","","","","","","","","","","",null,"      ","","","","",""]
["","","","","","","","","","","","",null,"      ","","","","",""]
["","","","","","","","","","","","",null,"      ","","","","",""]
["","","","","","","","","","","","",null,"      ","","","","",""]
["","","","","","","","","","","","",null,"      ","","","","",""]
["","","","","","","","","","","","",null,"      ","","","","",""]
["","","","","","","","","","","","",null,"      ","","","","",""]
["","","","","","","","","","","","",null,"      ","","","","",""]
["","","","","","","","","","","","",null,"      ","","","","",""]
["","","","","","","","","","","","",null,"      ","","","","",""]
["","","","","","","","","","","","",null,"      ","","","","",""]
["","","","","","","","","","","","",null,"      ","","","","",""]
["","","","","","","","","","","","",null,"      ","","","","",""]
["","","","","","","","","","","","",null,"      ","","","","",""]
["","","","","","","","","","","","",null,"      ","","","","",""]
["","","","","","","","","","","","",null,"      ","","","","",""]
["","","","","","","","","","","","",null,"      ","","","","",""]
["","","","","","","","","","","","",null,"      ","","","","",""]
["","","","","","","","","","","","",null,"      ","","","","",""]
["","","","","","","","","","","","",null,"      ","","","","",""]
["","","","","","","","","","","","",null,"      ","","","","",""]
["","","","","","","","","","","","",null,"      ","","","","",""]
["","","","","","","","","","","","",null,"      ","","","","",""]
["","","","","","","","","","","","",null,"      ","","","","",""]
["","","","","","","","","","","","",null,"      ","","","","",""]
["","","","","","","","","","","","",null,"      ","","","","",""]
["","","","","","","","","","","","",null,"      ","","","","",""]
["","","","","","","","","","","","",null,"      ","","","","",""]
["","","","","","","","","","","","",null,{"$f":"C1581&\"      \"&A1581","v":"      "},"","","","",""]
["","","","","","","","","","","",""]
["","","","","","","","","","","",""]
["","","","","","","","","","","",""]
["","","","","","","","","","","",""]
["","","","","","","","","","","",""]
["","","","","","","","","","","",""]
["","","","","","","","","","","",""]
["","","","","","","","","","","",""]
["","","","","","","","","","","",""]
["","","","","","","","","","","",""]
["","","","","","","","","","","",""]
["","","","","","","","","","","",""]
["","","","","","","","","","","",""]
["","","","","","","","","","","",""]
["","","","","","","","","","","",""]
["","","","","","","","","","","",""]
["","","","","","","","","","","",""]
["","","","","","","","","","","",""]
["","","","","","","","","","","",""]
["","","","","","","","","","","",""]
["","","","","","","","","","","",""]
["","","","","","","","","","","",""]
["","","","","","","","","","","",""]
["","","","","","","","","","","",""]
["","","","","","","","","","","",""]
["","","","","","","","","","","",""]
["","","","","","","","","","","",""]
["","","","","","","","","","","",""]
["","","","","","","","","","","",""]
["","","","","","","","","","","",""]
["","","","","","","","","","","",""]
["","","","","","","","","","","",""]
["","","","","","","","","","","",""]
["","","","","","","","","","","",""]
["","","","","","","","","","","",""]
["","","","","","","","","","","",""]
["","","","","","","","","","","",""]
["","","","","","","","","","","",""]
["","","","","","","","","","","",""]
["","","","","","","","","","","",""]
["","","","","","","","","","","",""]
["","","","","","","","","","","",""]
["","","","","","","","","","","",""]
["","","","","","","","","","","",""]
["","","","","","","","","","","",""]
["","","","","","","","","","","",""]
["","","","","","","","","","","",""]
["","","","","","","","","","","",""]
["","","","","","","","","","","",""]
["","","","","","","","","","","",""]
["","","","","","","","","","","",""]
["","","","","","","","","","","",""]
["","","","","","","","","","","",""]
["","","","","","","","","","","",""]
["","","","","","","","","","","",""]
["","","","","","","","","","","",""]
["","","","","","","","","","","",""]
["","","","","","","","","","","",""]
["","","","","","","","","","","",""]
["","","","","","","","","","","",""]
["","","","","","","","","","","",""]
["","","","","","","","","","","",""]
["","","","","","","","","","","",""]
["","","","","","","","","","","",""]
["","","","","","","","","","","",""]
["","","","","","","","","","","",""]
["","","","","","","","","","","",""]
["","","","","","","","","","","",""]
["","","","","","","","","","","",""]
["","","","","","","","","","","",""]
["","","","","","","","","","","",""]
["","","","","","","","","","","",""]
["","","","","","","","","","","",""]
["","","","","","","","","","","",""]
["","","","","","","","","","","",""]
["","","","","","","","","","","",""]
["","","","","","","","","","","",""]
["","","","","","","","","","","",""]
["","","","","","","","","","","",""]
["","","","","","","","","","","",""]
["","","","","","","","","","","",""]
["","","","","","","","","","","",""]
["","","","","","","","","","","",""]
["","","","","","","","","","","",""]
["","","","","","","","","","","",""]
["","","","","","","","","","","",""]
["","","","","","","","","","","",""]
["","","","","","","","","","","",""]
["","","","","","","","","","","",""]
["","","","","","","","","","","",""]
["","","","","","","","","","","",""]
["","","","","","","","","","","",""]
["","","","","","","","","","","",""]
["","","","","","","","","","","",""]
["","","","","","","","","","","",""]
["","","","","","","","","","","",""]
["","","","","","","","","","","",""]
["","","","","","","","","","","",""]
["","","","","","","","","","","",""]
["","","","","","","","","","","",""]
["","","","","","","","","","","",""]
["","","","","","","","","","","",""]
["","","","","","","","","","","",""]
["","","","","","","","","","","",""]
["","","","","","","","","","","",""]
["","","","","","","","","","","",""]
["","","","","","","","","","","",""]
["","","","","","","","","","","",""]
["","","","","","","","","","","",""]
["","","","","","","","","","","",""]
["","","","","","","","","","","",""]
["","","","","","","","","","","",""]
["","","","","","","","","","","",""]
["","","","","","","","","","","",""]
["","","","","","","","","","","",""]
["","","","","","","","","","","",""]
["","","","","","","","","","","",""]
["","","","","","","","","","","",""]
["","","","","","","","","","","",""]
["","","","","","","","","","","",""]
["","","","","","","","","","","",""]
["","","","","","","","","","","",""]
["","","","","","","","","","","",""]
["","","","","","","","","","","",""]
["","","","","","","","","","","",""]
["","","","","","","","","","","",""]
["","","","","","","","","","","",""]
["","","","","","","","","","","",""]
["","","","","","","","","","","",""]
["","","","","","","","","","","",""]
["","","","","","","","","","","",""]
["","","","","","","","","","","",""]
["","","","","","","","","","","",""]
["","","","","","","","","","","",""]
["","","","","","","","","","","",""]
["","","","","","","","","","","",""]
["","","","","","","","","","","",""]
["","","","","","","","","","","",""]
["","","","","","","","","","","",""]
["","","","","","","","","","","",""]
["","","","","","","","","","","",""]
["","","","","","","","","","","",""]
["","","","","","","","","","","",""]
["","","","","","","","","","","",""]
["","","","","","","","","","","",""]
["","","","","","","","","","","",""]
["","","","","","","","","","","",""]
["","","","","","","","","","","",""]
["","","","","","","","","","","",""]
["","","","","","","","","","","",""]
["","","","","","","","","","","",""]
["","","","","","","","","","","",""]
["","","","","","","","","","","",""]
["","","","","","","","","","","",""]
["","","","","","","","","","","",""]
["","","","","","","","","","","",""]
["","","","","","","","","","","",""]
["","","","","","","","","","","",""]
["","","","","","","","","","","",""]
["","","","","","","","","","","",""]
["","","","","","","","","","","",""]
["","","","","","","","","","","",""]
["","","","","","","","","","","",""]
["","","","","","","","","","","",""]
["","","","","","","","","","","",""]
["","","","","","","","","","","",""]
["","","","","","","","","","","",""]
["","","","","","","","","","","",""]
["","","","","","","","","","","",""]
["","","","","","","","","","","",""]
["","","","","","","","","","","",""]
["","","","","","","","","","","",""]
["","","","","","","","","","","",""]
["","","","","","","","","","","",""]
["","","","","","","","","","","",""]
["","","","","","","","","","","",""]
["","","","","","","","","","","",""]
["","","","","","","","","","","",""]
["","","","","","","","","","","",""]
["","","","","","","","","","","",""]
["","","","","","","","","","","",""]
["","","","","","","","","","","",""]
["","","","","","","","","","","",""]
["","","","","","","","","","","",""]
["","","","","","","","","","","",""]
["","","","","","","","","","","",""]
["","","","","","","","","","","",""]
["","","","","","","","","","","",""]
["","","","","","","","","","","",""]
["","","","","","","","","","","",""]
["","","","","","","","","","","",""]
["","","","","","","","","","","",""]
["","","","","","","","","","","",""]
["","","","","","","","","","","",""]
["","","","","","","","","","","",""]
["","","","","","","","","","","",""]
["","","","","","","","","","","",""]
["","","","","","","","","","","",""]
["","","","","","","","","","","",""]
["","","","","","","","","","","",""]
["","","","","","","","","","","",""]
["","","","","","","","","","","",""]
["","","","","","","","","","","",""]
["","","","","","","","","","","",""]
["","","","","","","","","","","",""]
["","","","","","","","","","","",""]
["","","","","","","","","","","",""]
["","","","","","","","","","","",""]
["","","","","","","","","","","",""]
["","","","","","","","","","","",""]
["","","","","","","","","","","",""]
["","","","","","","","","","","",""]
["","","","","","","","","","","",""]
["","","","","","","","","","","",""]
["","","","","","","","","","","",""]
["","","","","","","","","","","",""]
["","","","","","","","","","","",""]
["","","","","","","","","","","",""]
["","","","","","","","","","","",""]
["","","","","","","","","","","",""]
["","","","","","","","","","","",""]
["","","","","","","","","","","",""]
["","","","","","","","","","","",""]
["","","","","","","","","","","",""]
["","","","","","","","","","","",""]
["","","","","","","","","","","",""]
["","","","","","","","","","","",""]
["","","","","","","","","","","",""]
["","","","","","","","","","","",""]
["","","","","","","","","","","",""]
["","","","","","","","","","","",""]
["","","","","","","","","","","",""]
["","","","","","","","","","","",""]
["","","","","","","","","","","",""]
["","","","","","","","","","","",""]
["","","","","","","","","","","",""]
["","","","","","","","","","","",""]
["","","","","","","","","","","",""]
["","","","","","","","","","","",""]
["","","","","","","","","","","",""]
["","","","","","","","","","","",""]
["","","","","","","","","","","",""]
["","","","","","","","","","","",""]
["","","","","","","","","","","",""]
["","","","","","","","","","","",""]
["","","","","","","","","","","",""]
["","","","","","","","","","","",""]
["","","","","","","","","","","",""]
["","","","","","","","","","","",""]
["","","","","","","","","","","",""]
["","","","","","","","","","","",""]
["","","","","","","","","","","",""]
["","","","","","","","","","","",""]
["","","","","","","","","","","",""]
["","","","","","","","","","","",""]
["","","","","","","","","","","",""]
["","","","","","","","","","","",""]
["","","","","","","","","","","",""]
["","","","","","","","","","","",""]
["","","","","","","","","","","",""]
["","","","","","","","","","","",""]
["","","","","","","","","","","",""]
["","","","","","","","","","","",""]
["","","","","","","","","","","",""]
["","","","","","","","","","","",""]
["","","","","","","","","","","",""]
["","","","","","","","","","","",""]
["","","","","","","","","","","",""]
["","","","","","","","","","","",""]
["","","","","","","","","","","",""]
["","","","","","","","","","","",""]
["","","","","","","","","","","",""]
["","","","","","","","","","","",""]
["","","","","","","","","","","",""]
["","","","","","","","","","","",""]
["","","","","","","","","","","",""]
["","","","","","","","","","","",""]
["","","","","","","","","","","",""]
["","","","","","","","","","","",""]
["","","","","","","","","","","",""]
["","","","","","","","","","","",""]
["","","","","","","","","","","",""]
["","","","","","","","","","","",""]
["","","","","","","","","","","",""]
["","","","","","","","","","","",""]
["","","","","","","","","","","",""]
["","","","","","","","","","","",""]
["","","","","","","","","","","",""]
["","","","","","","","","","","",""]
["","","","","","","","","","","",""]
["","","","","","","","","","","",""]
["","","","","","","","","","","",""]
["","","","","","","","","","","",""]
["","","","","","","","","","","",""]
["","","","","","","","","","","",""]
["","","","","","","","","","","",""]
["","","","","","","","","","","",""]
["","","","","","","","","","","",""]
["","","","","","","","","","","",""]
["","","","","","","","","","","",""]
["","","","","","","","","","","",""]
["","","","","","","","","","","",""]
["","","","","","","","","","","",""]
["","","","","","","","","","","",""]
["","","","","","","","","","","",""]
["","","","","","","","","","","",""]
["","","","","","","","","","","",""]
["","","","","","","","","","","",""]
["","","","","","","","","","","",""]
["","","","","","","","","","","",""]
["","","","","","","","","","","",""]
["","","","","","","","","","","",""]
["","","","","","","","","","","",""]
["","","","","","","","","","","",""]
["","","","","","","","","","","",""]
["","","","","","","","","","","",""]
[]
[null,null,null,null,null,null,null,null,null,null,null,null,null,null,{"$f":"SUM(O1901:O1963)","v":0},{"$f":"SUM(P1901:P1963)","v":0},{"$f":"SUM(Q1901:Q1963)","v":0},0,0]
[{"$f":"RIGHT(N1900,3)","v":"   "},null,{"$f":"IF(ISBLANK(LEFT(N1900,6)),\"\",LEFT(N1900,6))","v":"      "},{"$f":"+O1900","v":0},{"$f":"+P1900","v":0},null,null,null,{"$f":"+Q1900","v":0},{"$f":"+R1900","v":0},null,{"$f":"+S1900","v":0},null,"      ",{"$f":"IF($N1900<>\"\",SUMIF($N$654:$S$968,$N1900,O$654:O$968),0)","v":0},{"$f":"IF($N1900<>\"\",SUMIF($N$654:$S$968,$N1900,P$654:P$968),0)","v":0},0,0,0]
[{"$f":"RIGHT(N1901,3)","v":""},null,{"$f":"IF(ISBLANK(LEFT(N1901,6)),\"\",LEFT(N1901,6))","v":""},{"$f":"+O1901","v":0},{"$f":"+P1901","v":0},null,null,null,{"$f":"+Q1901","v":0},{"$f":"+R1901","v":0},null,{"$f":"+S1901","v":0},null,null,{"$f":"IF($N1901<>\"\",SUMIF($N$1267:$S$1887,$N1901,O$1267:O$1887),0)","v":0},{"$f":"IF($N1901<>\"\",SUMIF($N$1267:$S$1887,$N1901,P$1267:P$1887),0)","v":0},0,0,0]
[{"$f":"RIGHT(N1902,3)","v":""},null,{"$f":"IF(ISBLANK(LEFT(N1902,6)),\"\",LEFT(N1902,6))","v":""},{"$f":"+O1902","v":0},0,null,null,null,{"$f":"+Q1902","v":0},0,null,{"$f":"+S1902","v":0},null,null,{"$f":"IF($N1902<>\"\",SUMIF($N$1267:$S$1887,$N1902,O$1267:O$1887),0)","v":0},0,0,0,0]
["",null,{"$f":"IF(ISBLANK(LEFT(N1903,6)),\"\",LEFT(N1903,6))","v":""},0,0,null,null,null,0,0,null,0,null,null,0,0,0,0,0]
["",null,"",0,0,null,null,null,0,0,null,0,null,null,0,0,0,0,0]
["",null,"",0,0,null,null,null,0,0,null,0,null,null,0,0,0,0,0]
["",null,"",0,0,null,null,null,0,0,null,0,null,null,0,0,0,0,0]
["",null,"",0,0,null,null,null,0,0,null,0,null,null,0,0,0,0,0]
["",null,"",0,0,null,null,null,0,0,null,0,null,null,0,0,0,0,0]
["",null,"",0,0,null,null,null,0,0,null,0,null,null,0,0,0,0,0]
["",null,"",0,0,null,null,null,0,0,null,0,null,null,0,0,0,0,0]
["",null,"",0,0,null,null,null,0,0,null,0,null,null,0,0,0,0,0]
["",null,"",0,0,null,null,null,0,0,null,0,null,null,0,0,0,0,0]
["",null,"",0,0,null,null,null,0,0,null,0,null,null,0,0,0,0,0]
["",null,"",0,0,null,null,null,0,0,null,0,null,null,0,0,0,0,0]
["",null,"",0,0,null,null,null,0,0,null,0,null,null,0,0,0,0,0]
["",null,"",0,0,null,null,null,0,0,null,0,null,null,0,0,0,0,0]
["",null,"",0,0,null,null,null,0,0,null,0,null,null,0,0,0,0,0]
["",null,"",0,0,null,null,null,0,0,null,0,null,null,0,0,0,0,0]
["",null,"",0,0,null,null,null,0,0,null,0,null,null,0,0,0,0,0]
["",null,"",0,0,null,null,null,0,0,null,0,null,null,0,0,0,0,0]
["",null,"",0,0,null,null,null,0,0,null,0,null,null,0,0,0,0,0]
["",null,"",0,0,null,null,null,0,0,null,0,null,null,0,0,0,0,0]
["",null,"",0,0,null,null,null,0,0,null,0,null,null,0,0,0,0,0]
["",null,"",0,0,null,null,null,0,0,null,0,null,null,0,0,0,0,0]
["",null,"",0,0,null,null,null,0,0,null,0,null,null,0,0,0,0,0]
["",null,"",0,0,null,null,null,0,0,null,0,null,null,0,0,0,0,0]
["",null,"",0,0,null,null,null,0,0,null,0,null,null,0,0,0,0,0]
["",null,"",0,0,null,null,null,0,0,null,0,null,null,0,0,0,0,0]
["",null,"",0,0,null,null,null,0,0,null,0,null,null,0,0,0,0,0]
["",null,"",0,0,null,null,null,0,0,null,0,null,null,0,0,0,0,0]
["",null,"",0,0,null,null,null,0,0,null,0,null,null,0,0,0,0,0]
["",null,"",0,0,null,null,null,0,0,null,0,null,null,0,0,0,0,0]
["",null,"",0,0,null,null,null,0,0,null,0,null,null,0,0,0,0,0]
["",null,"",0,0,null,null,null,0,0,null,0,null,null,{"$f":"IF($N1934<>\"\",SUMIF($N$1267:$S$1887,$N1934,O$1267:O$1887),0)","v":0},0,0,0,0]
["",null,"",0,0,null,null,null,0,0,null,0,null,null,0,0,0,0,0]
["",null,"",0,0,null,null,null,0,0,null,0,null,null,0,0,0,0,0]
["",null,"",0,0,null,null,null,0,0,null,0,null,null,0,0,0,0,0]
["",null,"",0,0,null,null,null,0,0,null,0,null,null,0,0,0,0,0]
["",null,"",0,0,null,null,null,0,0,null,0,null,null,0,0,0,0,0]
["",null,"",0,0,null,null,null,0,0,null,0,null,null,0,0,0,0,0]
["",null,"",0,0,null,null,null,0,0,null,0,null,null,0,0,0,0,0]
["",null,"",0,0,null,null,null,0,0,null,0,null,null,0,0,0,0,0]
["",null,"",0,0,null,null,null,0,0,null,0,null,null,0,0,0,0,0]
["",null,"",0,0,null,null,null,0,0,null,0,null,null,0,0,0,0,0]
["",null,"",0,0,null,null,null,0,0,null,0,null,null,0,0,0,0,0]
["",null,"",0,0,null,null,null,0,0,null,0,null,null,0,0,0,0,0]
["",null,"",0,0,null,null,null,0,0,null,0,null,null,0,0,0,0,0]
["",null,"",0,0,null,null,null,0,0,null,0,null,null,0,0,0,0,0]
["",null,"",0,0,null,null,null,0,0,null,0,null,null,0,0,0,0,0]
["",null,"",0,0,null,null,null,0,0,null,0,null,null,0,0,0,0,0]
["",null,"",0,0,null,null,null,0,0,null,0,null,null,0,0,0,0,0]
["",null,"",0,0,null,null,null,0,0,null,0,null,null,0,0,0,0,0]
[]
[]
[]
[]
[]
[]
[]
[]
[]
[]
[]
[""]
[{"$f":"RIGHT(N1965,3)","v":""}]
[""]
[""]
[""]
[""]
[""]
[""]
[""]
[""]
[""]
[""]
[""]
[""]
[""]
[""]
[""]
[""]
[""]
[""]
[""]
[""]
[""]
[""]
[""]
[""]
[""]
[""]
[""]
[""]
[""]
[""]
[""]
[""]
[""]
[""]
[""]
[""]
[""]
[""]
[""]
[""]
[""]
[""]
[""]
[""]
[""]
[""]
[""]
[""]
[""]
[""]
[""]
[""]
[""]
[""]
[""]
[""]
[""]
[""]
[""]
[""]
[""]
[""]
[""]
[{"$f":"RIGHT(N2029,3)","v":""}]
[""]
[""]
[""]
[""]
[""]
[""]
[""]
[""]
[""]
[""]
[""]
[""]
[""]
[""]
[""]
[""]
[""]
[""]
[""]
[""]
[""]
[""]
[""]
[""]
[""]
[""]
[""]
[""]
[""]
[""]
[""]
[""]
[""]
[""]
[""]
[""]
[""]
[""]
[""]
[""]
[""]
[""]
[""]
[""]
[""]
[""]
[""]
[""]
[""]
[""]
[""]
[""]
[""]
[""]
[""]
[""]
[""]
[""]
[""]
[""]
[""]
[""]
[""]
[{"$f":"RIGHT(N2093,3)","v":""}]
[""]
[""]
[""]
[""]
[""]
[""]
[""]
[""]
[""]
[""]
[""]
[""]
[""]
[""]
[""]
[""]
[""]
[""]
[""]
[""]
[""]
[""]
[""]
[""]
[""]
[""]
[""]
[""]
[""]
[""]
[""]
[""]
[""]
[""]
[""]
[""]
[""]
[""]
[""]
[""]
[""]
[""]
[""]
[""]
[""]
[""]
[""]
[""]
[""]
[""]
[""]
[""]
[""]
[""]
[""]
[""]
[""]
[""]
[""]
[""]
[""]
[""]
[""]
[{"$f":"RIGHT(N2157,3)","v":""}]
[""]
[""]
["   ",null,null,null,null,null,null,null,null,null,null,null,null,"      "]
["   ",null,null,null,null,null,null,null,null,null,null,null,null,"      "]
["   ",null,null,null,null,null,null,null,null,null,null,null,null,"      "]
["   ",null,null,null,null,null,null,null,null,null,null,null,null,"      "]
["   ",null,null,null,null,null,null,null,null,null,null,null,null,"      "]
["   ",null,null,null,null,null,null,null,null,null,null,null,null,"      "]
["   ",null,null,null,null,null,null,null,null,null,null,null,null,"      "]
["   ",null,null,null,null,null,null,null,null,null,null,null,null,"      "]
["   ",null,null,null,null,null,null,null,null,null,null,null,null,"      "]
["   ",null,null,null,null,null,null,null,null,null,null,null,null,"      "]
["   ",null,null,null,null,null,null,null,null,null,null,null,null,"      "]
["   ",null,null,null,null,null,null,null,null,null,null,null,null,"      "]
["   ",null,null,null,null,null,null,null,null,null,null,null,null,"      "]
["   ",null,null,null,null,null,null,null,null,null,null,null,null,"      "]
["   ",null,null,null,null,null,null,null,null,null,null,null,null,"      "]
["   ",null,null,null,null,null,null,null,null,null,null,null,null,"      "]
["   ",null,null,null,null,null,null,null,null,null,null,null,null,"      "]
["   ",null,null,null,null,null,null,null,null,null,null,null,null,"      "]
["   ",null,null,null,null,null,null,null,null,null,null,null,null,"      "]
["   ",null,null,null,null,null,null,null,null,null,null,null,null,"      "]
["   ",null,null,null,null,null,null,null,null,null,null,null,null,"      "]
["   ",null,null,null,null,null,null,null,null,null,null,null,null,"      "]
["   ",null,null,null,null,null,null,null,null,null,null,null,null,"      "]
["   ",null,null,null,null,null,null,null,null,null,null,null,null,"      "]
["   ",null,null,null,null,null,null,null,null,null,null,null,null,"      "]
["   ",null,null,null,null,null,null,null,null,null,null,null,null,"      "]
["   ",null,null,null,null,null,null,null,null,null,null,null,null,"      "]
["   ",null,null,null,null,null,null,null,null,null,null,null,null,"      "]
["   ",null,null,null,null,null,null,null,null,null,null,null,null,"      "]
["   ",null,null,null,null,null,null,null,null,null,null,null,null,"      "]
["   ",null,null,null,null,null,null,null,null,null,null,null,null,"      "]
["   ",null,null,null,null,null,null,null,null,null,null,null,null,"      "]
["   ",null,null,null,null,null,null,null,null,null,null,null,null,"      "]
["   ",null,null,null,null,null,null,null,null,null,null,null,null,"      "]
["   ",null,null,null,null,null,null,null,null,null,null,null,null,"      "]
["   ",null,null,null,null,null,null,null,null,null,null,null,null,"      "]
["   ",null,null,null,null,null,null,null,null,null,null,null,null,"      "]
["   ",null,null,null,null,null,null,null,null,null,null,null,null,"      "]
["   ",null,null,null,null,null,null,null,null,null,null,null,null,"      "]
["   ",null,null,null,null,null,null,null,null,null,null,null,null,"      "]
["   ",null,null,null,null,null,null,null,null,null,null,null,null,"      "]
["   ",null,null,null,null,null,null,null,null,null,null,null,null,"      "]
["   ",null,null,null,null,null,null,null,null,null,null,null,null,"      "]
["   ",null,null,null,null,null,null,null,null,null,null,null,null,"      "]
["   ",null,null,null,null,null,null,null,null,null,null,null,null,"      "]
["   ",null,null,null,null,null,null,null,null,null,null,null,null,"      "]
["   ",null,null,null,null,null,null,null,null,null,null,null,null,"      "]
["   ",null,null,null,null,null,null,null,null,null,null,null,null,"      "]
["   ",null,null,null,null,null,null,null,null,null,null,null,null,"      "]
["   ",null,null,null,null,null,null,null,null,null,null,null,null,"      "]
["   ",null,null,null,null,null,null,null,null,null,null,null,null,"      "]
["   ",null,null,null,null,null,null,null,null,null,null,null,null,"      "]
["   ",null,null,null,null,null,null,null,null,null,null,null,null,"      "]
["   ",null,null,null,null,null,null,null,null,null,null,null,null,"      "]
["   ",null,null,null,null,null,null,null,null,null,null,null,null,"      "]
[""]
[""]
[""]
[""]
[""]
[""]
[{"$f":"RIGHT(N2221,3)","v":""}]
[""]
[""]
[""]
[""]
[""]
[""]
[""]
[""]
[""]
[""]
[""]
[""]
[""]
[""]
[""]
[""]
[""]
[""]
[""]
[""]
[""]
[""]
[""]
[""]
[""]
[""]
[""]
[""]
[""]
[""]
[""]
[""]
[""]
[""]
[""]
[""]
[""]
[""]
[""]
[""]
[""]
[""]
[""]
[""]
[""]
[""]
[""]
[""]
[""]
[""]
[""]
[""]
[""]
[""]
[""]
[""]
[""]
[""]
[""]
[""]
[""]
[""]
[""]
[{"$f":"RIGHT(N2285,3)","v":""}]
[""]
[""]
[""]
[""]
[""]
[""]
[""]
[""]
[""]
[""]
[""]
[""]
[""]
[""]
[""]
[""]
[""]
[""]
[""]
[""]
[""]
[""]
[""]
[""]
[""]
[""]
[""]
[""]
[""]
[""]
[""]
[""]
[""]
[""]
[""]
[""]
[""]
[""]
[""]
[""]
[""]
[""]
[""]
[""]
[""]
[""]
[""]
[""]
[""]
[""]
[""]
[""]
[""]
[""]
[""]
[""]
[""]
[""]
[""]
[""]
[""]
[""]
[""]
[{"$f":"RIGHT(N2349,3)","v":""}]
[""]
[""]
[""]
[""]
[""]
[""]
[""]
[""]
[""]
[""]
[""]
[""]
[""]
[""]
[""]
[""]
[""]
[""]
[""]
[""]
[""]
[""]
[""]
[""]
[""]
[""]
[""]
[""]
[""]
[""]
[""]
[""]
[""]
[""]
[""]
[""]
[""]
[""]
[""]
[""]
[""]
[""]
[""]
[""]
[""]
[""]
[""]
[""]
[""]
[""]
[""]
[""]
[""]
[""]
[""]
[""]
[""]
[""]
[""]
[""]
[""]
[""]
[""]
[{"$f":"RIGHT(N2413,3)","v":""}]
[""]
[""]
[""]
[""]
[""]
[""]
[""]
[""]
[""]
[""]
[""]
[""]
[""]
[""]
[""]
[""]
[""]
[""]
[""]
[""]
[""]
[""]
[""]
[""]
[""]
[""]
[""]
[""]
[""]
[""]
[""]
[""]
[""]
[""]
[""]
[""]
[""]
[""]
[""]
[""]
[""]
[""]
[""]
[""]
[""]
[""]
[""]
[""]
[""]
[""]
[""]
[""]
[""]
[""]
[""]
[""]
[""]
[""]
[""]
[""]
[""]
[""]
[""]
[{"$f":"RIGHT(N2477,3)","v":""}]
[""]
[""]
[""]
[""]
[""]
[""]
[""]
[""]
[""]
[""]
[""]
[""]
[""]
[""]
[""]
[""]
[""]
[""]
[""]
[""]
[""]
[""]
[""]
[""]
[""]
[""]
[""]
[""]
[""]
[""]
[""]
[""]
[""]
[""]
[""]
[""]
[""]
[""]
[""]
[""]
[""]
[""]

{"sheet":"BGAD1","index":3,"n_rows":34,"n_cols":16,"rows_kept":34,"cut":false,"hidden":false,"merged":[[0,0,0,9],[6,3,6,6],[6,8,6,9],[5,8,5,9],[2,0,2,1],[2,2,2,3],[4,0,4,1],[4,2,4,3],[3,0,3,1],[3,2,3,3]]}
["Déclaration de la MLNU"]
[null,null,null,null,null,null,null,null,null,null,null,null,null,null,null,"2018-2019"]
["Année de récolte :",null,"2019-2020",null,null,null,null,null,null,null,null,null,null,null,null,"2019-2020"]
["Unité d'aménagement :",null,null,null,null,null,null,null,null,null,null,null,null,null,null,"2020-2021"]
["No. Du BGAd :",null,null,null,null,null,null,null,null,null,null,null,null,null,null,"2021-2022"]
[null,null,null,null,null,null,null,null,"Répartition",null,null,null,null,null,null,"2022-2223"]
[null,null,null,"Volume de MLNU",null,null,null,null,"MLNU-ND Qualité «U»"]
["Code Essence","Nom essence","No. Client","MLNU-RG\nQualité \"V\"","MLNU-ND\nQualité \"X\"","MLNU-ND\nQualité \"U\"","Total du Client",null,"Ententes\n«Autres»","Mesure budgétaire"]
["010","Épinette (autre que Norvège)",null,null,null,{"$f":"SUM(I9:J9)","v":0},{"$f":"SUM(D9:F9)","v":0}]
["014","Épinette de Norvège",null,null,null,{"$f":"SUM(I10:J10)","v":0},{"$f":"SUM(D10:F10)","v":0}]
["030","Mélèze laricin",null,null,null,0,0]
["043","Pin gris et sylvestre",null,null,null,0,0]
["060","Sapin baumier",null,null,null,0,0]
["190","Peuplier (autre que Baumier)",null,null,null,0,{"$f":"SUM(D14:F14)","v":0}]
["191","Peuplier baumier",null,null,null,0,{"$f":"SUM(D15:F15)","v":0}]
["105","Bouleau blanc ",null,null,null,0,0]
["104","Bouleau jaune",null,null,null,0,0]
["132","Érable à sucre",null,null,null,0,0]
["133","Érable rouge",null,null,null,0,0]
["135","Érables - Autres ",null,null,null,0,0]
["120","Chêne ",null,null,null,0,0]
["141","Frêne d’Amérique (blanc)",null,null,null,0,0]
["142","Frêne noir",null,null,null,0,0]
["150","Hêtre",null,null,null,0,0]
["160","Noyer",null,null,null,0,0]
["165","Caryer",null,null,null,0,0]
["170","Orme",null,null,null,0,0]
["180","Ostryer de Virginie",null,null,null,0,0]
["110","Cerisier tardif",null,null,null,0,0]
["210","Tilleul d’Amérique",null,null,null,0,0]
["041","Pin blanc",null,null,null,0,0]
["042","Pin rouge",null,null,null,0,0]
["050","Pruche de l’Est",null,null,null,0,0]
["080","Thuya occidental",null,null,null,0,0]

{"sheet":"BGAD2","index":4,"n_rows":34,"n_cols":16,"rows_kept":34,"cut":false,"hidden":false,"merged":[[5,8,5,9],[6,3,6,6],[6,8,6,9],[0,0,0,9],[2,0,2,1],[2,2,2,3],[3,0,3,1],[3,2,3,3],[4,0,4,1],[4,2,4,3]]}
["Déclaration de la MLNU"]
[null,null,null,null,null,null,null,null,null,null,null,null,null,null,null,"2018-2019"]
["Année de récolte :",null,"2019-2020",null,null,null,null,null,null,null,null,null,null,null,null,"2019-2020"]
["Unité d'aménagement :",null,null,null,null,null,null,null,null,null,null,null,null,null,null,"2020-2021"]
["No. Du BGAd :",null,null,null,null,null,null,null,null,null,null,null,null,null,null,"2021-2022"]
[null,null,null,null,null,null,null,null,"Répartition",null,null,null,null,null,null,"2022-2223"]
[null,null,null,"Volume de MLNU",null,null,null,null,"MLNU-ND Qualité «U»"]
["Code Essence","Nom essence","No. Client","MLNU-RG\nQualité \"V\"","MLNU-ND\nQualité \"X\"","MLNU-ND\nQualité \"U\"","Total du Client",null,"Ententes\n«Autres»","Mesure budgétaire"]
["010","Épinette (autre que Norvège)",null,null,null,{"$f":"SUM(I9:J9)","v":0},{"$f":"SUM(D9:F9)","v":0}]
["014","Épinette de Norvège",null,null,null,{"$f":"SUM(I10:J10)","v":0},{"$f":"SUM(D10:F10)","v":0}]
["030","Mélèze laricin",null,null,null,0,0]
["043","Pin gris et sylvestre",null,null,null,0,0]
["060","Sapin baumier",null,null,null,0,0]
["190","Peuplier (autre que Baumier)",null,null,null,0,{"$f":"SUM(D14:F14)","v":0}]
["191","Peuplier baumier",null,null,null,0,{"$f":"SUM(D15:F15)","v":0}]
["105","Bouleau blanc ",null,null,null,0,0]
["104","Bouleau jaune",null,null,null,0,0]
["132","Érable à sucre",null,null,null,0,0]
["133","Érable rouge",null,null,null,0,0]
["135","Érables - Autres ",null,null,null,0,0]
["120","Chêne ",null,null,null,0,0]
["141","Frêne d’Amérique (blanc)",null,null,null,0,0]
["142","Frêne noir",null,null,null,0,0]
["150","Hêtre",null,null,null,0,0]
["160","Noyer",null,null,null,0,0]
["165","Caryer",null,null,null,0,0]
["170","Orme",null,null,null,0,0]
["180","Ostryer de Virginie",null,null,null,0,0]
["110","Cerisier tardif",null,null,null,0,0]
["210","Tilleul d’Amérique",null,null,null,0,0]
["041","Pin blanc",null,null,null,0,0]
["042","Pin rouge",null,null,null,0,0]
["050","Pruche de l’Est",null,null,null,0,0]
["080","Thuya occidental",null,null,null,0,0]

{"sheet":"BGAD3","index":5,"n_rows":34,"n_cols":16,"rows_kept":34,"cut":false,"hidden":false,"merged":[[5,8,5,9],[6,3,6,6],[6,8,6,9],[0,0,0,9],[2,0,2,1],[2,2,2,3],[3,0,3,1],[3,2,3,3],[4,0,4,1],[4,2,4,3]]}
["Déclaration de la MLNU"]
[null,null,null,null,null,null,null,null,null,null,null,null,null,null,null,"2018-2019"]
["Année de récolte :",null,"2019-2020",null,null,null,null,null,null,null,null,null,null,null,null,"2019-2020"]
["Unité d'aménagement :",null,null,null,null,null,null,null,null,null,null,null,null,null,null,"2020-2021"]
["No. Du BGAd :",null,null,null,null,null,null,null,null,null,null,null,null,null,null,"2021-2022"]
[null,null,null,null,null,null,null,null,"Répartition",null,null,null,null,null,null,"2022-2223"]
[null,null,null,"Volume de MLNU",null,null,null,null,"MLNU-ND Qualité «U»"]
["Code Essence","Nom essence","No. Client","MLNU-RG\nQualité \"V\"","MLNU-ND\nQualité \"X\"","MLNU-ND\nQualité \"U\"","Total du Client",null,"Ententes\n«Autres»","Mesure budgétaire"]
["010","Épinette (autre que Norvège)",null,null,null,{"$f":"SUM(I9:J9)","v":0},{"$f":"SUM(D9:F9)","v":0}]
["014","Épinette de Norvège",null,null,null,{"$f":"SUM(I10:J10)","v":0},{"$f":"SUM(D10:F10)","v":0}]
["030","Mélèze laricin",null,null,null,0,0]
["043","Pin gris et sylvestre",null,null,null,0,0]
["060","Sapin baumier",null,null,null,0,0]
["190","Peuplier (autre que Baumier)",null,null,null,0,{"$f":"SUM(D14:F14)","v":0}]
["191","Peuplier baumier",null,null,null,0,{"$f":"SUM(D15:F15)","v":0}]
["105","Bouleau blanc ",null,null,null,0,0]
["104","Bouleau jaune",null,null,null,0,0]
["132","Érable à sucre",null,null,null,0,0]
["133","Érable rouge",null,null,null,0,0]
["135","Érables - Autres ",null,null,null,0,0]
["120","Chêne ",null,null,null,0,0]
["141","Frêne d’Amérique (blanc)",null,null,null,0,0]
["142","Frêne noir",null,null,null,0,0]
["150","Hêtre",null,null,null,0,0]
["160","Noyer",null,null,null,0,0]
["165","Caryer",null,null,null,0,0]
["170","Orme",null,null,null,0,0]
["180","Ostryer de Virginie",null,null,null,0,0]
["110","Cerisier tardif",null,null,null,0,0]
["210","Tilleul d’Amérique",null,null,null,0,0]
["041","Pin blanc",null,null,null,0,0]
["042","Pin rouge",null,null,null,0,0]
["050","Pruche de l’Est",null,null,null,0,0]
["080","Thuya occidental",null,null,null,0,0]

{"sheet":"BGAD4","index":6,"n_rows":34,"n_cols":16,"rows_kept":34,"cut":false,"hidden":false,"merged":[[5,8,5,9],[6,3,6,6],[6,8,6,9],[0,0,0,9],[2,0,2,1],[2,2,2,3],[3,0,3,1],[3,2,3,3],[4,0,4,1],[4,2,4,3]]}
["Déclaration de la MLNU"]
[null,null,null,null,null,null,null,null,null,null,null,null,null,null,null,"2018-2019"]
["Année de récolte :",null,"2019-2020",null,null,null,null,null,null,null,null,null,null,null,null,"2019-2020"]
["Unité d'aménagement :",null,null,null,null,null,null,null,null,null,null,null,null,null,null,"2020-2021"]
["No. Du BGAd :",null,null,null,null,null,null,null,null,null,null,null,null,null,null,"2021-2022"]
[null,null,null,null,null,null,null,null,"Répartition",null,null,null,null,null,null,"2022-2223"]
[null,null,null,"Volume de MLNU",null,null,null,null,"MLNU-ND Qualité «U»"]
["Code Essence","Nom essence","No. Client","MLNU-RG\nQualité \"V\"","MLNU-ND\nQualité \"X\"","MLNU-ND\nQualité \"U\"","Total du Client",null,"Ententes\n«Autres»","Mesure budgétaire"]
["010","Épinette (autre que Norvège)",null,null,null,{"$f":"SUM(I9:J9)","v":0},{"$f":"SUM(D9:F9)","v":0}]
["014","Épinette de Norvège",null,null,null,{"$f":"SUM(I10:J10)","v":0},{"$f":"SUM(D10:F10)","v":0}]
["030","Mélèze laricin",null,null,null,0,0]
["043","Pin gris et sylvestre",null,null,null,0,0]
["060","Sapin baumier",null,null,null,0,0]
["190","Peuplier (autre que Baumier)",null,null,null,0,{"$f":"SUM(D14:F14)","v":0}]
["191","Peuplier baumier",null,null,null,0,{"$f":"SUM(D15:F15)","v":0}]
["105","Bouleau blanc ",null,null,null,0,0]
["104","Bouleau jaune",null,null,null,0,0]
["132","Érable à sucre",null,null,null,0,0]
["133","Érable rouge",null,null,null,0,0]
["135","Érables - Autres ",null,null,null,0,0]
["120","Chêne ",null,null,null,0,0]
["141","Frêne d’Amérique (blanc)",null,null,null,0,0]
["142","Frêne noir",null,null,null,0,0]
["150","Hêtre",null,null,null,0,0]
["160","Noyer",null,null,null,0,0]
["165","Caryer",null,null,null,0,0]
["170","Orme",null,null,null,0,0]
["180","Ostryer de Virginie",null,null,null,0,0]
["110","Cerisier tardif",null,null,null,0,0]
["210","Tilleul d’Amérique",null,null,null,0,0]
["041","Pin blanc",null,null,null,0,0]
["042","Pin rouge",null,null,null,0,0]
["050","Pruche de l’Est",null,null,null,0,0]
["080","Thuya occidental",null,null,null,0,0]

{"sheet":"BGAD5","index":7,"n_rows":34,"n_cols":16,"rows_kept":34,"cut":false,"hidden":false,"merged":[[5,8,5,9],[6,3,6,6],[6,8,6,9],[0,0,0,9],[2,0,2,1],[2,2,2,3],[3,0,3,1],[3,2,3,3],[4,0,4,1],[4,2,4,3]]}
["Déclaration de la MLNU"]
[null,null,null,null,null,null,null,null,null,null,null,null,null,null,null,"2018-2019"]
["Année de récolte :",null,"2019-2020",null,null,null,null,null,null,null,null,null,null,null,null,"2019-2020"]
["Unité d'aménagement :",null,null,null,null,null,null,null,null,null,null,null,null,null,null,"2020-2021"]
["No. Du BGAd :",null,null,null,null,null,null,null,null,null,null,null,null,null,null,"2021-2022"]
[null,null,null,null,null,null,null,null,"Répartition",null,null,null,null,null,null,"2022-2223"]
[null,null,null,"Volume de MLNU",null,null,null,null,"MLNU-ND Qualité «U»"]
["Code Essence","Nom essence","No. Client","MLNU-RG\nQualité \"V\"","MLNU-ND\nQualité \"X\"","MLNU-ND\nQualité \"U\"","Total du Client",null,"Ententes\n«Autres»","Mesure budgétaire"]
["010","Épinette (autre que Norvège)",null,null,null,{"$f":"SUM(I9:J9)","v":0},{"$f":"SUM(D9:F9)","v":0}]
["014","Épinette de Norvège",null,null,null,{"$f":"SUM(I10:J10)","v":0},{"$f":"SUM(D10:F10)","v":0}]
["030","Mélèze laricin",null,null,null,0,0]
["043","Pin gris et sylvestre",null,null,null,0,0]
["060","Sapin baumier",null,null,null,0,0]
["190","Peuplier (autre que Baumier)",null,null,null,0,{"$f":"SUM(D14:F14)","v":0}]
["191","Peuplier baumier",null,null,null,0,{"$f":"SUM(D15:F15)","v":0}]
["105","Bouleau blanc ",null,null,null,0,0]
["104","Bouleau jaune",null,null,null,0,0]
["132","Érable à sucre",null,null,null,0,0]
["133","Érable rouge",null,null,null,0,0]
["135","Érables - Autres ",null,null,null,0,0]
["120","Chêne ",null,null,null,0,0]
["141","Frêne d’Amérique (blanc)",null,null,null,0,0]
["142","Frêne noir",null,null,null,0,0]
["150","Hêtre",null,null,null,0,0]
["160","Noyer",null,null,null,0,0]
["165","Caryer",null,null,null,0,0]
["170","Orme",null,null,null,0,0]
["180","Ostryer de Virginie",null,null,null,0,0]
["110","Cerisier tardif",null,null,null,0,0]
["210","Tilleul d’Amérique",null,null,null,0,0]
["041","Pin blanc",null,null,null,0,0]
["042","Pin rouge",null,null,null,0,0]
["050","Pruche de l’Est",null,null,null,0,0]
["080","Thuya occidental",null,null,null,0,0]

{"sheet":"BGAD6","index":8,"n_rows":34,"n_cols":16,"rows_kept":34,"cut":false,"hidden":false,"merged":[[5,8,5,9],[6,3,6,6],[6,8,6,9],[0,0,0,9],[2,0,2,1],[2,2,2,3],[3,0,3,1],[3,2,3,3],[4,0,4,1],[4,2,4,3]]}
["Déclaration de la MLNU"]
[null,null,null,null,null,null,null,null,null,null,null,null,null,null,null,"2018-2019"]
["Année de récolte :",null,"2019-2020",null,null,null,null,null,null,null,null,null,null,null,null,"2019-2020"]
["Unité d'aménagement :",null,null,null,null,null,null,null,null,null,null,null,null,null,null,"2020-2021"]
["No. Du BGAd :",null,null,null,null,null,null,null,null,null,null,null,null,null,null,"2021-2022"]
[null,null,null,null,null,null,null,null,"Répartition",null,null,null,null,null,null,"2022-2223"]
[null,null,null,"Volume de MLNU",null,null,null,null,"MLNU-ND Qualité «U»"]
["Code Essence","Nom essence","No. Client","MLNU-RG\nQualité \"V\"","MLNU-ND\nQualité \"X\"","MLNU-ND\nQualité \"U\"","Total du Client",null,"Ententes\n«Autres»","Mesure budgétaire"]
["010","Épinette (autre que Norvège)",null,null,null,{"$f":"SUM(I9:J9)","v":0},{"$f":"SUM(D9:F9)","v":0}]
["014","Épinette de Norvège",null,null,null,{"$f":"SUM(I10:J10)","v":0},{"$f":"SUM(D10:F10)","v":0}]
["030","Mélèze laricin",null,null,null,0,0]
["043","Pin gris et sylvestre",null,null,null,0,0]
["060","Sapin baumier",null,null,null,0,0]
["190","Peuplier (autre que Baumier)",null,null,null,0,{"$f":"SUM(D14:F14)","v":0}]
["191","Peuplier baumier",null,null,null,0,{"$f":"SUM(D15:F15)","v":0}]
["105","Bouleau blanc ",null,null,null,0,0]
["104","Bouleau jaune",null,null,null,0,0]
["132","Érable à sucre",null,null,null,0,0]
["133","Érable rouge",null,null,null,0,0]
["135","Érables - Autres ",null,null,null,0,0]
["120","Chêne ",null,null,null,0,0]
["141","Frêne d’Amérique (blanc)",null,null,null,0,0]
["142","Frêne noir",null,null,null,0,0]
["150","Hêtre",null,null,null,0,0]
["160","Noyer",null,null,null,0,0]
["165","Caryer",null,null,null,0,0]
["170","Orme",null,null,null,0,0]
["180","Ostryer de Virginie",null,null,null,0,0]
["110","Cerisier tardif",null,null,null,0,0]
["210","Tilleul d’Amérique",null,null,null,0,0]
["041","Pin blanc",null,null,null,0,0]
["042","Pin rouge",null,null,null,0,0]
["050","Pruche de l’Est",null,null,null,0,0]
["080","Thuya occidental",null,null,null,0,0]

{"sheet":"BGAD7","index":9,"n_rows":34,"n_cols":16,"rows_kept":34,"cut":false,"hidden":false,"merged":[[5,8,5,9],[6,3,6,6],[6,8,6,9],[0,0,0,9],[2,0,2,1],[2,2,2,3],[3,0,3,1],[3,2,3,3],[4,0,4,1],[4,2,4,3]]}
["Déclaration de la MLNU"]
[null,null,null,null,null,null,null,null,null,null,null,null,null,null,null,"2018-2019"]
["Année de récolte :",null,"2019-2020",null,null,null,null,null,null,null,null,null,null,null,null,"2019-2020"]
["Unité d'aménagement :",null,null,null,null,null,null,null,null,null,null,null,null,null,null,"2020-2021"]
["No. Du BGAd :",null,null,null,null,null,null,null,null,null,null,null,null,null,null,"2021-2022"]
[null,null,null,null,null,null,null,null,"Répartition",null,null,null,null,null,null,"2022-2223"]
[null,null,null,"Volume de MLNU",null,null,null,null,"MLNU-ND Qualité «U»"]
["Code Essence","Nom essence","No. Client","MLNU-RG\nQualité \"V\"","MLNU-ND\nQualité \"X\"","MLNU-ND\nQualité \"U\"","Total du Client",null,"Ententes\n«Autres»","Mesure budgétaire"]
["010","Épinette (autre que Norvège)",null,null,null,{"$f":"SUM(I9:J9)","v":0},{"$f":"SUM(D9:F9)","v":0}]
["014","Épinette de Norvège",null,null,null,{"$f":"SUM(I10:J10)","v":0},{"$f":"SUM(D10:F10)","v":0}]
["030","Mélèze laricin",null,null,null,0,0]
["043","Pin gris et sylvestre",null,null,null,0,0]
["060","Sapin baumier",null,null,null,0,0]
["190","Peuplier (autre que Baumier)",null,null,null,0,{"$f":"SUM(D14:F14)","v":0}]
["191","Peuplier baumier",null,null,null,0,{"$f":"SUM(D15:F15)","v":0}]
["105","Bouleau blanc ",null,null,null,0,0]
["104","Bouleau jaune",null,null,null,0,0]
["132","Érable à sucre",null,null,null,0,0]
["133","Érable rouge",null,null,null,0,0]
["135","Érables - Autres ",null,null,null,0,0]
["120","Chêne ",null,null,null,0,0]
["141","Frêne d’Amérique (blanc)",null,null,null,0,0]
["142","Frêne noir",null,null,null,0,0]
["150","Hêtre",null,null,null,0,0]
["160","Noyer",null,null,null,0,0]
["165","Caryer",null,null,null,0,0]
["170","Orme",null,null,null,0,0]
["180","Ostryer de Virginie",null,null,null,0,0]
["110","Cerisier tardif",null,null,null,0,0]
["210","Tilleul d’Amérique",null,null,null,0,0]
["041","Pin blanc",null,null,null,0,0]
["042","Pin rouge",null,null,null,0,0]
["050","Pruche de l’Est",null,null,null,0,0]
["080","Thuya occidental",null,null,null,0,0]

{"sheet":"BGAD8","index":10,"n_rows":34,"n_cols":16,"rows_kept":34,"cut":false,"hidden":false,"merged":[[5,8,5,9],[6,3,6,6],[6,8,6,9],[0,0,0,9],[2,0,2,1],[2,2,2,3],[3,0,3,1],[3,2,3,3],[4,0,4,1],[4,2,4,3]]}
["Déclaration de la MLNU"]
[null,null,null,null,null,null,null,null,null,null,null,null,null,null,null,"2018-2019"]
["Année de récolte :",null,"2019-2020",null,null,null,null,null,null,null,null,null,null,null,null,"2019-2020"]
["Unité d'aménagement :",null,null,null,null,null,null,null,null,null,null,null,null,null,null,"2020-2021"]
["No. Du BGAd :",null,null,null,null,null,null,null,null,null,null,null,null,null,null,"2021-2022"]
[null,null,null,null,null,null,null,null,"Répartition",null,null,null,null,null,null,"2022-2223"]
[null,null,null,"Volume de MLNU",null,null,null,null,"MLNU-ND Qualité «U»"]
["Code Essence","Nom essence","No. Client","MLNU-RG\nQualité \"V\"","MLNU-ND\nQualité \"X\"","MLNU-ND\nQualité \"U\"","Total du Client",null,"Ententes\n«Autres»","Mesure budgétaire"]
["010","Épinette (autre que Norvège)",null,null,null,{"$f":"SUM(I9:J9)","v":0},{"$f":"SUM(D9:F9)","v":0}]
["014","Épinette de Norvège",null,null,null,{"$f":"SUM(I10:J10)","v":0},{"$f":"SUM(D10:F10)","v":0}]
["030","Mélèze laricin",null,null,null,0,0]
["043","Pin gris et sylvestre",null,null,null,0,0]
["060","Sapin baumier",null,null,null,0,0]
["190","Peuplier (autre que Baumier)",null,null,null,0,{"$f":"SUM(D14:F14)","v":0}]
["191","Peuplier baumier",null,null,null,0,{"$f":"SUM(D15:F15)","v":0}]
["105","Bouleau blanc ",null,null,null,0,0]
["104","Bouleau jaune",null,null,null,0,0]
["132","Érable à sucre",null,null,null,0,0]
["133","Érable rouge",null,null,null,0,0]
["135","Érables - Autres ",null,null,null,0,0]
["120","Chêne ",null,null,null,0,0]
["141","Frêne d’Amérique (blanc)",null,null,null,0,0]
["142","Frêne noir",null,null,null,0,0]
["150","Hêtre",null,null,null,0,0]
["160","Noyer",null,null,null,0,0]
["165","Caryer",null,null,null,0,0]
["170","Orme",null,null,null,0,0]
["180","Ostryer de Virginie",null,null,null,0,0]
["110","Cerisier tardif",null,null,null,0,0]
["210","Tilleul d’Amérique",null,null,null,0,0]
["041","Pin blanc",null,null,null,0,0]
["042","Pin rouge",null,null,null,0,0]
["050","Pruche de l’Est",null,null,null,0,0]
["080","Thuya occidental",null,null,null,0,0]

{"sheet":"BGAD9","index":11,"n_rows":34,"n_cols":16,"rows_kept":34,"cut":false,"hidden":false,"merged":[[5,8,5,9],[6,3,6,6],[6,8,6,9],[0,0,0,9],[2,0,2,1],[2,2,2,3],[3,0,3,1],[3,2,3,3],[4,0,4,1],[4,2,4,3]]}
["Déclaration de la MLNU"]
[null,null,null,null,null,null,null,null,null,null,null,null,null,null,null,"2018-2019"]
["Année de récolte :",null,"2019-2020",null,null,null,null,null,null,null,null,null,null,null,null,"2019-2020"]
["Unité d'aménagement :",null,null,null,null,null,null,null,null,null,null,null,null,null,null,"2020-2021"]
["No. Du BGAd :",null,null,null,null,null,null,null,null,null,null,null,null,null,null,"2021-2022"]
[null,null,null,null,null,null,null,null,"Répartition",null,null,null,null,null,null,"2022-2223"]
[null,null,null,"Volume de MLNU",null,null,null,null,"MLNU-ND Qualité «U»"]
["Code Essence","Nom essence","No. Client","MLNU-RG\nQualité \"V\"","MLNU-ND\nQualité \"X\"","MLNU-ND\nQualité \"U\"","Total du Client",null,"Ententes\n«Autres»","Mesure budgétaire"]
["010","Épinette (autre que Norvège)",null,null,null,{"$f":"SUM(I9:J9)","v":0},{"$f":"SUM(D9:F9)","v":0}]
["014","Épinette de Norvège",null,null,null,{"$f":"SUM(I10:J10)","v":0},{"$f":"SUM(D10:F10)","v":0}]
["030","Mélèze laricin",null,null,null,0,0]
["043","Pin gris et sylvestre",null,null,null,0,0]
["060","Sapin baumier",null,null,null,0,0]
["190","Peuplier (autre que Baumier)",null,null,null,0,{"$f":"SUM(D14:F14)","v":0}]
["191","Peuplier baumier",null,null,null,0,{"$f":"SUM(D15:F15)","v":0}]
["105","Bouleau blanc ",null,null,null,0,0]
["104","Bouleau jaune",null,null,null,0,0]
["132","Érable à sucre",null,null,null,0,0]
["133","Érable rouge",null,null,null,0,0]
["135","Érables - Autres ",null,null,null,0,0]
["120","Chêne ",null,null,null,0,0]
["141","Frêne d’Amérique (blanc)",null,null,null,0,0]
["142","Frêne noir",null,null,null,0,0]
["150","Hêtre",null,null,null,0,0]
["160","Noyer",null,null,null,0,0]
["165","Caryer",null,null,null,0,0]
["170","Orme",null,null,null,0,0]
["180","Ostryer de Virginie",null,null,null,0,0]
["110","Cerisier tardif",null,null,null,0,0]
["210","Tilleul d’Amérique",null,null,null,0,0]
["041","Pin blanc",null,null,null,0,0]
["042","Pin rouge",null,null,null,0,0]
["050","Pruche de l’Est",null,null,null,0,0]
["080","Thuya occidental",null,null,null,0,0]

{"sheet":"BGAD10","index":12,"n_rows":34,"n_cols":16,"rows_kept":34,"cut":false,"hidden":false,"merged":[[5,8,5,9],[6,3,6,6],[6,8,6,9],[0,0,0,9],[2,0,2,1],[2,2,2,3],[3,0,3,1],[3,2,3,3],[4,0,4,1],[4,2,4,3]]}
["Déclaration de la MLNU"]
[null,null,null,null,null,null,null,null,null,null,null,null,null,null,null,"2018-2019"]
["Année de récolte :",null,"2019-2020",null,null,null,null,null,null,null,null,null,null,null,null,"2019-2020"]
["Unité d'aménagement :",null,null,null,null,null,null,null,null,null,null,null,null,null,null,"2020-2021"]
["No. Du BGAd :",null,null,null,null,null,null,null,null,null,null,null,null,null,null,"2021-2022"]
[null,null,null,null,null,null,null,null,"Répartition",null,null,null,null,null,null,"2022-2223"]
[null,null,null,"Volume de MLNU",null,null,null,null,"MLNU-ND Qualité «U»"]
["Code Essence","Nom essence","No. Client","MLNU-RG\nQualité \"V\"","MLNU-ND\nQualité \"X\"","MLNU-ND\nQualité \"U\"","Total du Client",null,"Ententes\n«Autres»","Mesure budgétaire"]
["010","Épinette (autre que Norvège)",null,null,null,{"$f":"SUM(I9:J9)","v":0},{"$f":"SUM(D9:F9)","v":0}]
["014","Épinette de Norvège",null,null,null,{"$f":"SUM(I10:J10)","v":0},{"$f":"SUM(D10:F10)","v":0}]
["030","Mélèze laricin",null,null,null,0,0]
["043","Pin gris et sylvestre",null,null,null,0,0]
["060","Sapin baumier",null,null,null,0,0]
["190","Peuplier (autre que Baumier)",null,null,null,0,{"$f":"SUM(D14:F14)","v":0}]
["191","Peuplier baumier",null,null,null,0,{"$f":"SUM(D15:F15)","v":0}]
["105","Bouleau blanc ",null,null,null,0,0]
["104","Bouleau jaune",null,null,null,0,0]
["132","Érable à sucre",null,null,null,0,0]
["133","Érable rouge",null,null,null,0,0]
["135","Érables - Autres ",null,null,null,0,0]
["120","Chêne ",null,null,null,0,0]
["141","Frêne d’Amérique (blanc)",null,null,null,0,0]
["142","Frêne noir",null,null,null,0,0]
["150","Hêtre",null,null,null,0,0]
["160","Noyer",null,null,null,0,0]
["165","Caryer",null,null,null,0,0]
["170","Orme",null,null,null,0,0]
["180","Ostryer de Virginie",null,null,null,0,0]
["110","Cerisier tardif",null,null,null,0,0]
["210","Tilleul d’Amérique",null,null,null,0,0]
["041","Pin blanc",null,null,null,0,0]
["042","Pin rouge",null,null,null,0,0]
["050","Pruche de l’Est",null,null,null,0,0]
["080","Thuya occidental",null,null,null,0,0]